View In:
ArcGIS JavaScript
ArcGIS Online Map Viewer
ArcGIS Earth
Service Description: WGOM-LI-SNE/WGOM_LI_SNE_Bathymetry_2m_WMAS
Name: WGOM-LI-SNE/WGOM_LI_SNE_Bathymetry_2m_WMAS
Description:
Single Fused Map Cache: false
Extent:
XMin: -8254538.76704064
YMin: 4898563.78196262
XMax: -7454550.76704064
YMax: 5636591.78196262
Spatial Reference: 102100
(3857)
Initial Extent:
XMin: -8254538.76704064
YMin: 4898563.78196262
XMax: -7454550.76704064
YMax: 5636591.78196262
Spatial Reference: 102100
(3857)
Full Extent:
XMin: -8254538.76704064
YMin: 4898563.78196262
XMax: -7454550.76704064
YMax: 5636591.78196262
Spatial Reference: 102100
(3857)
Pixel Size X: 2.0
Pixel Size Y: 2.0
Band Count: 1
Pixel Type: F32
RasterFunction Infos: {"rasterFunctionInfos": [
{
"help": "",
"name": "None",
"description": "Make a Raster or Raster Dataset into a Function Raster Dataset."
},
{
"help": "",
"name": "Aspect",
"description": "Shows which direction a pixel is facing, where 0 is due north and angles increase clockwise to 360."
},
{
"help": "",
"name": "AspectSlope",
"description": "Creates a raster that simultaneously displays the aspect (direction) and slope(steepness) of a continuous surface, as represented in a digital elevation model."
},
{
"help": "",
"name": "BlueGreen StdDev DRA",
"description": "Blue Green StdDev DRA\n"
},
{
"help": "",
"name": "BlueGreen StdDev",
"description": "Blue Green StdDev\n"
},
{
"help": "",
"name": "Hillshade",
"description": "Creates a 3D representation of the surface, with the sun's relative position taken into account for shading the image."
},
{
"help": "",
"name": "Hillshade_MD_3x",
"description": "Multidirectional Hillshade with a 3x Z-Factor"
},
{
"help": "",
"name": "Rainbow StdDev DRA",
"description": "Blue Green StdDev DRA\n"
},
{
"help": "",
"name": "Rainbow StdDev",
"description": "Blue Green StdDev\n"
},
{
"help": "",
"name": "Slope",
"description": "Calculates the rate of change from one pixel value to its neighbors."
}
]}
Mensuration Capabilities: Basic
Inspection Capabilities:
Has Histograms: true
Has Colormap: false
Has Multi Dimensions : false
Rendering Rule:
Min Scale: 0
Max Scale: 0
Copyright Text:
Service Data Type: esriImageServiceDataTypeGeneric
Min Values: -235.73310852051
Max Values: 70.764930725097997
Mean Values: -61.806016865921997
Standard Deviation Values: 46.668133445678997
Object ID Field:
Fields:
None
Default Mosaic Method: Center
Allowed Mosaic Methods:
SortField:
SortValue: N/A
Mosaic Operator: First
Default Compression Quality: 20000
Default Resampling Method: Bilinear
Max Record Count: null
Max Image Height: 4100
Max Image Width: 15000
Max Download Image Count: null
Max Mosaic Image Count: null
Allow Raster Function: true
Allow Copy: true
Allow Analysis: true
Allow Compute TiePoints: false
Supports Statistics: false
Supports Advanced Queries: false
Use StandardizedQueries: false
Raster Type Infos:
Name: Raster Dataset
Description: Supports all ArcGIS Raster Datasets
Help:
Has Raster Attribute Table: false
Edit Fields Info: N/A
Ownership Based AccessControl For Rasters: N/A
Child Resources:
Info
Histograms
Statistics
Key Properties
Legend
Raster Function Infos
Supported Operations:
Export Image
Identify
Measure
Compute Histograms
Compute Statistics Histograms
Get Samples
Compute Class Statistics
Query Boundary
Compute Pixel Location
Compute Angles
Validate
Project