{
 "extent": {
  "ymin": 4898563.7819626201,
  "xmin": -8254538.7670406401,
  "ymax": 5636591.7819626201,
  "xmax": -7454550.7670406401,
  "spatialReference": {
   "latestWkid": 3857,
   "wkid": 102100
  }
 },
 "blockWidth": 128,
 "mosaicOperator": "First",
 "serviceSourceType": "esriImageServiceSourceTypeDataset",
 "hasMultidimensions": false,
 "maxImageWidth": 15000,
 "meanValues": [
  -61.806016865921997
 ],
 "hasColormap": false,
 "compressionType": "LERC",
 "defaultCompressionQuality": 20000,
 "maxValues": [
  70.764930725097997
 ],
 "hasHistograms": true,
 "datasetFormat": "MRF",
 "maxImageHeight": 4100,
 "sortField": "",
 "bandNames": [
  "Band_1"
 ],
 "spatialReference": {
  "latestWkid": 3857,
  "wkid": 102100
 },
 "fullExtent": {
  "ymin": 4898563.7819626201,
  "xmin": -8254538.7670406401,
  "ymax": 5636591.7819626201,
  "xmax": -7454550.7670406401,
  "spatialReference": {
   "latestWkid": 3857,
   "wkid": 102100
  }
 },
 "bandCount": 1,
 "rasterFunctionInfos": [
  {
   "help": "",
   "name": "None",
   "description": "Make a Raster or Raster Dataset into a Function Raster Dataset."
  },
  {
   "help": "",
   "name": "Aspect",
   "description": "Shows which direction a pixel is facing, where 0 is due north and angles increase clockwise to 360."
  },
  {
   "help": "",
   "name": "AspectSlope",
   "description": "Creates a raster that simultaneously displays the aspect (direction) and slope(steepness) of a continuous surface, as represented in a digital elevation model."
  },
  {
   "help": "",
   "name": "BlueGreen StdDev DRA",
   "description": "Blue Green StdDev DRA\n"
  },
  {
   "help": "",
   "name": "BlueGreen StdDev",
   "description": "Blue Green StdDev\n"
  },
  {
   "help": "",
   "name": "Hillshade",
   "description": "Creates a 3D representation of the surface, with the sun's relative position taken into account for shading the image."
  },
  {
   "help": "",
   "name": "Hillshade_MD_3x",
   "description": "Multidirectional Hillshade with a 3x Z-Factor"
  },
  {
   "help": "",
   "name": "Rainbow StdDev DRA",
   "description": "Blue Green StdDev DRA\n"
  },
  {
   "help": "",
   "name": "Rainbow StdDev",
   "description": "Blue Green StdDev\n"
  },
  {
   "help": "",
   "name": "Slope",
   "description": "Calculates the rate of change from one pixel value to its neighbors."
  }
 ],
 "supportsStatistics": false,
 "sortableFields": "",
 "minValues": [
  -235.73310852051
 ],
 "allowRasterFunction": true,
 "allowComputeTiePoints": false,
 "serviceDataType": "esriImageServiceDataTypeGeneric",
 "supportsAdvancedQueries": false,
 "currentVersion": 12.1,
 "sortValue": null,
 "objectIdField": "",
 "blockHeight": 128,
 "initialExtent": {
  "ymin": 4898563.7819626201,
  "xmin": -8254538.7670406401,
  "ymax": 5636591.7819626201,
  "xmax": -7454550.7670406401,
  "spatialReference": {
   "latestWkid": 3857,
   "wkid": 102100
  }
 },
 "pixelSizeX": 2,
 "pixelSizeY": 2,
 "defaultMosaicMethod": "Center",
 "name": "WGOM-LI-SNE/WGOM_LI_SNE_Bathymetry_2m_WMAS",
 "allowedMosaicMethods": "",
 "fields": [],
 "allowAnalysis": true,
 "hasRasterAttributeTable": false,
 "useStandardizedQueries": false,
 "description": "",
 "pixelType": "F32",
 "meanPixelSize": 2,
 "exportTilesAllowed": false,
 "editFieldsInfo": null,
 "rasterTypeInfos": [
  {
   "help": "",
   "name": "Raster Dataset",
   "description": "Supports all ArcGIS Raster Datasets"
  }
 ],
 "defaultResamplingMethod": "Bilinear",
 "itemAccess": false,
 "minScale": 0,
 "serviceProperties": "Center<\/MosaicMethod>First<\/MosaicOperator>true<\/SortAscending><\/LockImageID><\/TileOrderField>0<\/TileOrderBase>0.000000<\/AvgImageSpacingX>0.000000<\/AvgImageSpacingY>0.0<\/ViewPointX>0.0<\/ViewPointY>0.0<\/ViewPointDefShiftX>0.0<\/ViewPointDefShiftY>LERC<\/CompressionMethod>75<\/CompressionQuality>0.020000<\/CompressionTolerance>Bilinear<\/SamplingMethod><\/ImageServiceProperties><\/ImageServer>",
 "advancedQueryCapabilities": {
  "supportsStatistics": false,
  "supportsSqlExpression": false,
  "supportsOrderBy": false,
  "useStandardizedQueries": false,
  "supportsPagination": false,
  "supportsDistinct": false
 },
 "serviceItemId": "099f2bb63ac24cafa41850c2c201e536",
 "capabilities": "Image,Metadata,Pixels,Mensuration",
 "maxScale": 0,
 "stdvValues": [
  46.668133445678997
 ],
 "allowedFields": "",
 "minPixelSize": 0,
 "noDataValues": [
  3.3999999521443642E+38
 ],
 "sortAscending": true,
 "inspectionCapabilities": "",
 "maxPixelSize": 0,
 "noDataValue": 3.3999999521443642E+38,
 "allowedCompressions": "LERC,None,JPEG,LZ77",
 "uncompressedSize": 590413543664,
 "serviceDescription": "WGOM-LI-SNE/WGOM_LI_SNE_Bathymetry_2m_WMAS",
 "allowCopy": true,
 "copyrightText": "",
 "mensurationCapabilities": "Basic",
 "ownershipBasedAccessControlForRasters": null
}
