View In:
ArcGIS JavaScript
ArcGIS Online Map Viewer
ArcGIS Earth
Service Description: WGOM-LI-SNE/WGOM_LI_SNE_BTY_4m_20231005_IS
Name: WGOM-LI-SNE/WGOM_LI_SNE_BTY_4m_20231005_IS
Description:
Single Fused Map Cache: false
Extent:
XMin: -8254538.50001078
YMin: 4898563.25001255
XMax: -7411670.50001078
YMax: 5636075.25001255
Spatial Reference: 102100
(3857)
Initial Extent:
XMin: -8254538.50001078
YMin: 4898563.25001255
XMax: -7411670.50001078
YMax: 5636075.25001255
Spatial Reference: 102100
(3857)
Full Extent:
XMin: -8254538.50001078
YMin: 4898563.25001255
XMax: -7411670.50001078
YMax: 5636075.25001255
Spatial Reference: 102100
(3857)
Pixel Size X: 4.0
Pixel Size Y: 4.0
Band Count: 1
Pixel Type: F32
RasterFunction Infos: {"rasterFunctionInfos": [
{
"help": "",
"name": "Haxby Percent Clip DRA",
"description": "Haxby Percent Clip DRA"
},
{
"help": "",
"name": "BlueGreen Percent Clip DRA",
"description": "BlueGreen Percent Clip DRA"
},
{
"help": "",
"name": "Hillshade - Multidirectional - 2X",
"description": "Hillshade - Multidirectional - 2X"
},
{
"help": "",
"name": "Hillshade - Multidirectional - 3X",
"description": "Hillshade - Multidirectional - 3X"
},
{
"help": "",
"name": "Slope Plasma",
"description": "Slope with a plasma color ramp."
},
{
"help": "",
"name": "Slope",
"description": "Slope\n"
},
{
"help": "",
"name": "None",
"description": ""
}
]}
Mensuration Capabilities: Basic
Inspection Capabilities:
Has Histograms: true
Has Colormap: false
Has Multi Dimensions : false
Rendering Rule:
Min Scale: 0
Max Scale: 0
Copyright Text:
Service Data Type: esriImageServiceDataTypeGeneric
Min Values: -65.480209350585994
Max Values: -0.0024314660113305001
Mean Values: -23.416937296789001
Standard Deviation Values: 11.050736049297001
Object ID Field:
Fields:
None
Default Mosaic Method: Center
Allowed Mosaic Methods:
SortField:
SortValue: N/A
Mosaic Operator: First
Default Compression Quality: 75
Default Resampling Method: Bilinear
Max Record Count: null
Max Image Height: 15000
Max Image Width: 15000
Max Download Image Count: null
Max Mosaic Image Count: null
Allow Raster Function: true
Allow Copy: true
Allow Analysis: true
Allow Compute TiePoints: false
Supports Statistics: false
Supports Advanced Queries: false
Use StandardizedQueries: false
Raster Type Infos:
Name: Raster Dataset
Description: Supports all ArcGIS Raster Datasets
Help:
Has Raster Attribute Table: false
Edit Fields Info: N/A
Ownership Based AccessControl For Rasters: N/A
Child Resources:
Info
Histograms
Statistics
Key Properties
Legend
Raster Function Infos
Supported Operations:
Export Image
Identify
Measure
Compute Histograms
Compute Statistics Histograms
Get Samples
Compute Class Statistics
Query Boundary
Compute Pixel Location
Compute Angles
Validate
Project