{
 "extent": {
  "ymin": 4898563.2500125496,
  "xmin": -8254538.5000107801,
  "ymax": 5636075.2500125496,
  "xmax": -7411670.5000107801,
  "spatialReference": {
   "latestWkid": 3857,
   "wkid": 102100
  }
 },
 "blockWidth": 128,
 "mosaicOperator": "First",
 "serviceSourceType": "esriImageServiceSourceTypeDataset",
 "hasMultidimensions": false,
 "maxImageWidth": 15000,
 "meanValues": [
  -23.416937296789001
 ],
 "hasColormap": false,
 "compressionType": "LERC",
 "defaultCompressionQuality": 75,
 "maxValues": [
  -0.0024314660113305001
 ],
 "hasHistograms": true,
 "datasetFormat": "MRF",
 "maxImageHeight": 15000,
 "sortField": "",
 "bandNames": [
  "Band_1"
 ],
 "spatialReference": {
  "latestWkid": 3857,
  "wkid": 102100
 },
 "fullExtent": {
  "ymin": 4898563.2500125496,
  "xmin": -8254538.5000107801,
  "ymax": 5636075.2500125496,
  "xmax": -7411670.5000107801,
  "spatialReference": {
   "latestWkid": 3857,
   "wkid": 102100
  }
 },
 "bandCount": 1,
 "rasterFunctionInfos": [
  {
   "help": "",
   "name": "Haxby Percent Clip DRA",
   "description": "Haxby Percent Clip DRA"
  },
  {
   "help": "",
   "name": "BlueGreen Percent Clip DRA",
   "description": "BlueGreen Percent Clip DRA"
  },
  {
   "help": "",
   "name": "Hillshade - Multidirectional - 2X",
   "description": "Hillshade - Multidirectional - 2X"
  },
  {
   "help": "",
   "name": "Hillshade - Multidirectional - 3X",
   "description": "Hillshade - Multidirectional - 3X"
  },
  {
   "help": "",
   "name": "Slope Plasma",
   "description": "Slope with a plasma color ramp."
  },
  {
   "help": "",
   "name": "Slope",
   "description": "Slope\n"
  },
  {
   "help": "",
   "name": "None",
   "description": ""
  }
 ],
 "supportsStatistics": false,
 "sortableFields": "",
 "minValues": [
  -65.480209350585994
 ],
 "allowRasterFunction": true,
 "allowComputeTiePoints": false,
 "serviceDataType": "esriImageServiceDataTypeGeneric",
 "supportsAdvancedQueries": false,
 "currentVersion": 12.1,
 "sortValue": null,
 "objectIdField": "",
 "blockHeight": 128,
 "initialExtent": {
  "ymin": 4898563.2500125496,
  "xmin": -8254538.5000107801,
  "ymax": 5636075.2500125496,
  "xmax": -7411670.5000107801,
  "spatialReference": {
   "latestWkid": 3857,
   "wkid": 102100
  }
 },
 "pixelSizeX": 4,
 "pixelSizeY": 4,
 "defaultMosaicMethod": "Center",
 "name": "WGOM-LI-SNE/WGOM_LI_SNE_BTY_4m_20231005_IS",
 "allowedMosaicMethods": "",
 "fields": [],
 "allowAnalysis": true,
 "hasRasterAttributeTable": false,
 "useStandardizedQueries": false,
 "description": "",
 "pixelType": "F32",
 "meanPixelSize": 4,
 "exportTilesAllowed": false,
 "editFieldsInfo": null,
 "rasterTypeInfos": [
  {
   "help": "",
   "name": "Raster Dataset",
   "description": "Supports all ArcGIS Raster Datasets"
  }
 ],
 "defaultResamplingMethod": "Bilinear",
 "itemAccess": false,
 "minScale": 0,
 "serviceProperties": "Center<\/MosaicMethod>First<\/MosaicOperator>true<\/SortAscending><\/LockImageID><\/TileOrderField>0<\/TileOrderBase>0.000000<\/AvgImageSpacingX>0.000000<\/AvgImageSpacingY>0.0<\/ViewPointX>0.0<\/ViewPointY>0.0<\/ViewPointDefShiftX>0.0<\/ViewPointDefShiftY>None<\/CompressionMethod>75<\/CompressionQuality>0.010000<\/CompressionTolerance>Bilinear<\/SamplingMethod><\/ImageServiceProperties><\/ImageServer>",
 "advancedQueryCapabilities": {
  "supportsStatistics": false,
  "supportsSqlExpression": false,
  "supportsOrderBy": false,
  "useStandardizedQueries": false,
  "supportsPagination": false,
  "supportsDistinct": false
 },
 "serviceItemId": "2d367e7b21e141ee8c7e123296641007",
 "capabilities": "Image,Metadata,Mensuration",
 "maxScale": 0,
 "stdvValues": [
  11.050736049297001
 ],
 "allowedFields": "",
 "minPixelSize": 0,
 "noDataValues": [
  3.3999999521443642E+38
 ],
 "sortAscending": true,
 "inspectionCapabilities": "",
 "maxPixelSize": 0,
 "noDataValue": 3.3999999521443642E+38,
 "allowedCompressions": "None,JPEG,LZ77,LERC",
 "uncompressedSize": 155406316104,
 "serviceDescription": "WGOM-LI-SNE/WGOM_LI_SNE_BTY_4m_20231005_IS",
 "allowCopy": true,
 "copyrightText": "",
 "mensurationCapabilities": "Basic",
 "ownershipBasedAccessControlForRasters": null
}
