View In:
ArcGIS JavaScript
ArcGIS Online Map Viewer
ArcGIS Earth
Service Description: MAC/Hawaii_Regional_Bathymetry_IS
Name: MAC/Hawaii_Regional_Bathymetry_IS
Description:
Single Fused Map Cache: false
Extent:
XMin: -162.00025
YMin: 16.99925
XMax: -152.99975
YMax: 25.00025
Spatial Reference: 4326
(4326)
Initial Extent:
XMin: -162.00025
YMin: 16.99925
XMax: -152.99975
YMax: 25.00025
Spatial Reference: 4326
(4326)
Full Extent:
XMin: -162.00025
YMin: 16.99925
XMax: -152.99975
YMax: 25.00025
Spatial Reference: 4326
(4326)
Pixel Size X: 4.999999999999994E-4
Pixel Size Y: 5.000000000000001E-4
Band Count: 1
Pixel Type: F32
RasterFunction Infos: {"rasterFunctionInfos": [
{
"help": "",
"name": "None",
"description": "Make a Raster or Raster Dataset into a Function Raster Dataset."
},
{
"help": "",
"name": "Contour - 200m",
"description": "Contour - 200m"
},
{
"help": "",
"name": "Contour - 20m",
"description": "Contour - 20m"
},
{
"help": "",
"name": "Contour - 50m",
"description": "Contour - 50m"
},
{
"help": "",
"name": "Contour - 100m",
"description": "Contour - 100m"
},
{
"help": "",
"name": "Contour - 250m",
"description": "Contour - 250m"
},
{
"help": "",
"name": "Contour - 500m",
"description": "Contour - 500m"
},
{
"help": "",
"name": "Contour - 1000m",
"description": "Contour - 1000m"
},
{
"help": "",
"name": "Contour_200m_Fill",
"description": "Contour 200m filled"
},
{
"help": "",
"name": "DAR - PerClip - 0.5 - BlueGreen",
"description": "Dynamic Range Adjustent - Std Dev - BlueGreen"
},
{
"help": "",
"name": "DAR - PerClip - 0.5- Haxby",
"description": "Dynamic Range Adjustent - Std Dev - Haxby"
},
{
"help": "",
"name": "DAR - PerClip - 2 - BlueGreen",
"description": "Dynamic Range Adjustent - Std Dev - BlueGreen"
},
{
"help": "",
"name": "DAR - PerClip - 2 - Haxby",
"description": "Dynamic Range Adjustent - Std Dev - Haxby"
},
{
"help": "",
"name": "DAR - StdDev - BlueGreen",
"description": "Dynamic Range Adjustent - Std Dev - BlueGreen"
},
{
"help": "",
"name": "DAR - StdDev - Haxby",
"description": "Dynamic Range Adjustent - Std Dev - Haxby"
},
{
"help": "",
"name": "Multidirectional Hillshade 1.5x",
"description": "Multidirectional hillshade 2x"
},
{
"help": "",
"name": "Multidirectional Hillshade 1x",
"description": "Multidirectional hillshade 1x"
},
{
"help": "",
"name": "Multidirectional Hillshade 2x",
"description": "Multidirectional hillshade 2x"
},
{
"help": "",
"name": "Multidirectional Hillshade 3x",
"description": "Multidirectional hillshade 2x"
},
{
"help": "",
"name": "QAT_Depth_0to1000m",
"description": "QAT Depth Identifier"
},
{
"help": "",
"name": "QAT_Depth_1000to2000m",
"description": "QAT Depth Identifier"
},
{
"help": "",
"name": "QAT_Depth_2000to3000m",
"description": "QAT Depth Identifier"
},
{
"help": "",
"name": "QAT_Depth_3000to4000m",
"description": "QAT Depth Identifier"
},
{
"help": "",
"name": "QAT_Depth_4000to5000m",
"description": "QAT Depth Identifier"
},
{
"help": "",
"name": "QAT_Depth_5000to6000m",
"description": "QAT Depth Identifier"
},
{
"help": "",
"name": "QAT_Depth_6000to7000m",
"description": "QAT Depth Identifier"
},
{
"help": "",
"name": "QAT_Depth_7000to8000m",
"description": "QAT Depth Identifier"
},
{
"help": "",
"name": "QAT_Depth_8000to9000m",
"description": "QAT Depth Identifier"
},
{
"help": "",
"name": "QAT_Depth_9000to10000m",
"description": "QAT Depth Identifier"
},
{
"help": "",
"name": "QAT_Depth_10000to11000m",
"description": "QAT Depth Identifier"
},
{
"help": "",
"name": "QAT_DepthRanges_BlueGreen",
"description": "QAT Depth Identifier"
},
{
"help": "",
"name": "QAT_DepthRanges_Grey",
"description": "QAT Depth Identifier"
},
{
"help": "",
"name": "QAT_DepthRanges_PurpleYellow2",
"description": "QAT Depth Identifier"
},
{
"help": "",
"name": "QAT_DepthRanges_PurpleYellow",
"description": "QAT Depth Identifier"
},
{
"help": "",
"name": "QAT_Modes_EM124",
"description": "QAT Modes for an EM124\n\n"
},
{
"help": "",
"name": "QAT_Modes_EM304",
"description": "QAT Modes for an EM304\n"
},
{
"help": "",
"name": "QAT_Modes_EM712",
"description": "QAT Modes for an EM712\n"
},
{
"help": "",
"name": "QAT_Modes_EM2040_200kHz",
"description": "QAT Modes for an EM2040 200 kHz\n\n"
},
{
"help": "",
"name": "QAT_Modes_EM2040_300kHz",
"description": "QAT Modes for an EM2040 300 kHz\n\n"
},
{
"help": "",
"name": "QAT_Modes_EM2040_400kHz",
"description": "QAT Modes for an EM2040 400 kHz\n\n"
},
{
"help": "",
"name": "QAT_Slope_0to2_Degrees_Green",
"description": "QAT Slope Identifier\n"
},
{
"help": "",
"name": "QAT_Slope_0to2_Green_2to4_Red",
"description": "QAT Slope Identifier\n"
},
{
"help": "",
"name": "QAT_Slope_0to4_Degrees_Green",
"description": "QAT Slope Identifier\n"
},
{
"help": "",
"name": "QAT_Slope_10to15blue_15to25green_25to30red",
"description": "QAT Slope Identifier\n"
},
{
"help": "",
"name": "QAT_Slope_10to30_Degrees_Green",
"description": "QAT Slope Identifier\n"
},
{
"help": "",
"name": "QAT_Slope_10to30_Degrees_Inferno",
"description": "QAT Slope Identifier\n"
},
{
"help": "",
"name": "QAT_Slope_15to25_Degrees_Green",
"description": "QAT Slope Identifier\n"
},
{
"help": "",
"name": "QAT_Slope_15to25_Degrees_Inferno",
"description": "QAT Slope Identifier\n"
},
{
"help": "",
"name": "QAT_Slopes_0to2_Degrees_Green",
"description": "QAT Slope Identifier\n"
},
{
"help": "",
"name": "Shaded Relief - BlueGreen- MD Hillshade 2",
"description": "Shaded Relief - BlueGreen - MD Hillshade 2"
},
{
"help": "",
"name": "Shaded Relief - Haxby - MD Hillshade 2",
"description": "Shaded Relief - Haxby - MD Hillshade 2"
},
{
"help": "",
"name": "Slope - Degrees - Inferno",
"description": "Slope - Degrees"
},
{
"help": "",
"name": "Slope - Degrees",
"description": "Slope - Degrees"
}
]}
Mensuration Capabilities: Basic
Inspection Capabilities:
Has Histograms: true
Has Colormap: false
Has Multi Dimensions : false
Rendering Rule:
Min Scale: 0
Max Scale: 0
Copyright Text:
Service Data Type: esriImageServiceDataTypeGeneric
Min Values: -6193.21875
Max Values: -0.10000000149012001
Mean Values: -4399.1044201076002
Standard Deviation Values: 1044.0127991924001
Object ID Field:
Fields:
None
Default Mosaic Method: Center
Allowed Mosaic Methods:
SortField:
SortValue: N/A
Mosaic Operator: First
Default Compression Quality: 75
Default Resampling Method: Bilinear
Max Record Count: null
Max Image Height: 4100
Max Image Width: 15000
Max Download Image Count: null
Max Mosaic Image Count: null
Allow Raster Function: true
Allow Copy: true
Allow Analysis: true
Allow Compute TiePoints: false
Supports Statistics: false
Supports Advanced Queries: false
Use StandardizedQueries: false
Raster Type Infos:
Name: Raster Dataset
Description: Supports all ArcGIS Raster Datasets
Help:
Has Raster Attribute Table: false
Edit Fields Info: N/A
Ownership Based AccessControl For Rasters: N/A
Child Resources:
Info
Histograms
Statistics
Key Properties
Legend
Raster Function Infos
Supported Operations:
Export Image
Identify
Measure
Compute Histograms
Compute Statistics Histograms
Get Samples
Compute Class Statistics
Query Boundary
Compute Pixel Location
Compute Angles
Validate
Project