{
 "extent": {
  "ymin": 16.99925,
  "xmin": -162.00024999999999,
  "ymax": 25.000250000000001,
  "xmax": -152.99975000000001,
  "spatialReference": {
   "latestWkid": 4326,
   "wkid": 4326
  }
 },
 "blockWidth": 128,
 "mosaicOperator": "First",
 "serviceSourceType": "esriImageServiceSourceTypeDataset",
 "hasMultidimensions": false,
 "maxImageWidth": 15000,
 "meanValues": [
  -4399.1044201076002
 ],
 "hasColormap": false,
 "compressionType": "LERC",
 "defaultCompressionQuality": 75,
 "maxValues": [
  -0.10000000149012001
 ],
 "hasHistograms": true,
 "datasetFormat": "MRF",
 "maxImageHeight": 4100,
 "sortField": "",
 "bandNames": [
  "Band_1"
 ],
 "spatialReference": {
  "latestWkid": 4326,
  "wkid": 4326
 },
 "fullExtent": {
  "ymin": 16.99925,
  "xmin": -162.00024999999999,
  "ymax": 25.000250000000001,
  "xmax": -152.99975000000001,
  "spatialReference": {
   "latestWkid": 4326,
   "wkid": 4326
  }
 },
 "bandCount": 1,
 "rasterFunctionInfos": [
  {
   "help": "",
   "name": "None",
   "description": "Make a Raster or Raster Dataset into a Function Raster Dataset."
  },
  {
   "help": "",
   "name": "Contour - 200m",
   "description": "Contour - 200m"
  },
  {
   "help": "",
   "name": "Contour - 20m",
   "description": "Contour - 20m"
  },
  {
   "help": "",
   "name": "Contour - 50m",
   "description": "Contour - 50m"
  },
  {
   "help": "",
   "name": "Contour - 100m",
   "description": "Contour - 100m"
  },
  {
   "help": "",
   "name": "Contour - 250m",
   "description": "Contour - 250m"
  },
  {
   "help": "",
   "name": "Contour - 500m",
   "description": "Contour - 500m"
  },
  {
   "help": "",
   "name": "Contour - 1000m",
   "description": "Contour - 1000m"
  },
  {
   "help": "",
   "name": "Contour_200m_Fill",
   "description": "Contour 200m filled"
  },
  {
   "help": "",
   "name": "DAR - PerClip - 0.5 - BlueGreen",
   "description": "Dynamic Range Adjustent - Std Dev - BlueGreen"
  },
  {
   "help": "",
   "name": "DAR - PerClip - 0.5- Haxby",
   "description": "Dynamic Range Adjustent - Std Dev - Haxby"
  },
  {
   "help": "",
   "name": "DAR - PerClip - 2 - BlueGreen",
   "description": "Dynamic Range Adjustent - Std Dev - BlueGreen"
  },
  {
   "help": "",
   "name": "DAR - PerClip - 2 - Haxby",
   "description": "Dynamic Range Adjustent - Std Dev - Haxby"
  },
  {
   "help": "",
   "name": "DAR - StdDev - BlueGreen",
   "description": "Dynamic Range Adjustent - Std Dev - BlueGreen"
  },
  {
   "help": "",
   "name": "DAR - StdDev - Haxby",
   "description": "Dynamic Range Adjustent - Std Dev - Haxby"
  },
  {
   "help": "",
   "name": "Multidirectional Hillshade 1.5x",
   "description": "Multidirectional hillshade 2x"
  },
  {
   "help": "",
   "name": "Multidirectional Hillshade 1x",
   "description": "Multidirectional hillshade 1x"
  },
  {
   "help": "",
   "name": "Multidirectional Hillshade 2x",
   "description": "Multidirectional hillshade 2x"
  },
  {
   "help": "",
   "name": "Multidirectional Hillshade 3x",
   "description": "Multidirectional hillshade 2x"
  },
  {
   "help": "",
   "name": "QAT_Depth_0to1000m",
   "description": "QAT Depth Identifier"
  },
  {
   "help": "",
   "name": "QAT_Depth_1000to2000m",
   "description": "QAT Depth Identifier"
  },
  {
   "help": "",
   "name": "QAT_Depth_2000to3000m",
   "description": "QAT Depth Identifier"
  },
  {
   "help": "",
   "name": "QAT_Depth_3000to4000m",
   "description": "QAT Depth Identifier"
  },
  {
   "help": "",
   "name": "QAT_Depth_4000to5000m",
   "description": "QAT Depth Identifier"
  },
  {
   "help": "",
   "name": "QAT_Depth_5000to6000m",
   "description": "QAT Depth Identifier"
  },
  {
   "help": "",
   "name": "QAT_Depth_6000to7000m",
   "description": "QAT Depth Identifier"
  },
  {
   "help": "",
   "name": "QAT_Depth_7000to8000m",
   "description": "QAT Depth Identifier"
  },
  {
   "help": "",
   "name": "QAT_Depth_8000to9000m",
   "description": "QAT Depth Identifier"
  },
  {
   "help": "",
   "name": "QAT_Depth_9000to10000m",
   "description": "QAT Depth Identifier"
  },
  {
   "help": "",
   "name": "QAT_Depth_10000to11000m",
   "description": "QAT Depth Identifier"
  },
  {
   "help": "",
   "name": "QAT_DepthRanges_BlueGreen",
   "description": "QAT Depth Identifier"
  },
  {
   "help": "",
   "name": "QAT_DepthRanges_Grey",
   "description": "QAT Depth Identifier"
  },
  {
   "help": "",
   "name": "QAT_DepthRanges_PurpleYellow2",
   "description": "QAT Depth Identifier"
  },
  {
   "help": "",
   "name": "QAT_DepthRanges_PurpleYellow",
   "description": "QAT Depth Identifier"
  },
  {
   "help": "",
   "name": "QAT_Modes_EM124",
   "description": "QAT Modes for an EM124\n\n"
  },
  {
   "help": "",
   "name": "QAT_Modes_EM304",
   "description": "QAT Modes for an EM304\n"
  },
  {
   "help": "",
   "name": "QAT_Modes_EM712",
   "description": "QAT Modes for an EM712\n"
  },
  {
   "help": "",
   "name": "QAT_Modes_EM2040_200kHz",
   "description": "QAT Modes for an EM2040 200 kHz\n\n"
  },
  {
   "help": "",
   "name": "QAT_Modes_EM2040_300kHz",
   "description": "QAT Modes for an EM2040 300 kHz\n\n"
  },
  {
   "help": "",
   "name": "QAT_Modes_EM2040_400kHz",
   "description": "QAT Modes for an EM2040 400 kHz\n\n"
  },
  {
   "help": "",
   "name": "QAT_Slope_0to2_Degrees_Green",
   "description": "QAT Slope Identifier\n"
  },
  {
   "help": "",
   "name": "QAT_Slope_0to2_Green_2to4_Red",
   "description": "QAT Slope Identifier\n"
  },
  {
   "help": "",
   "name": "QAT_Slope_0to4_Degrees_Green",
   "description": "QAT Slope Identifier\n"
  },
  {
   "help": "",
   "name": "QAT_Slope_10to15blue_15to25green_25to30red",
   "description": "QAT Slope Identifier\n"
  },
  {
   "help": "",
   "name": "QAT_Slope_10to30_Degrees_Green",
   "description": "QAT Slope Identifier\n"
  },
  {
   "help": "",
   "name": "QAT_Slope_10to30_Degrees_Inferno",
   "description": "QAT Slope Identifier\n"
  },
  {
   "help": "",
   "name": "QAT_Slope_15to25_Degrees_Green",
   "description": "QAT Slope Identifier\n"
  },
  {
   "help": "",
   "name": "QAT_Slope_15to25_Degrees_Inferno",
   "description": "QAT Slope Identifier\n"
  },
  {
   "help": "",
   "name": "QAT_Slopes_0to2_Degrees_Green",
   "description": "QAT Slope Identifier\n"
  },
  {
   "help": "",
   "name": "Shaded Relief - BlueGreen- MD Hillshade 2",
   "description": "Shaded Relief - BlueGreen - MD Hillshade 2"
  },
  {
   "help": "",
   "name": "Shaded Relief - Haxby - MD Hillshade 2",
   "description": "Shaded Relief - Haxby - MD Hillshade 2"
  },
  {
   "help": "",
   "name": "Slope - Degrees - Inferno",
   "description": "Slope - Degrees"
  },
  {
   "help": "",
   "name": "Slope - Degrees",
   "description": "Slope - Degrees"
  }
 ],
 "supportsStatistics": false,
 "sortableFields": "",
 "minValues": [
  -6193.21875
 ],
 "allowRasterFunction": true,
 "allowComputeTiePoints": false,
 "serviceDataType": "esriImageServiceDataTypeGeneric",
 "supportsAdvancedQueries": false,
 "currentVersion": 12.1,
 "sortValue": null,
 "objectIdField": "",
 "blockHeight": 128,
 "initialExtent": {
  "ymin": 16.99925,
  "xmin": -162.00024999999999,
  "ymax": 25.000250000000001,
  "xmax": -152.99975000000001,
  "spatialReference": {
   "latestWkid": 4326,
   "wkid": 4326
  }
 },
 "pixelSizeX": 0.00049999999999999936,
 "pixelSizeY": 0.00050000000000000012,
 "defaultMosaicMethod": "Center",
 "name": "MAC/Hawaii_Regional_Bathymetry_IS",
 "allowedMosaicMethods": "",
 "fields": [],
 "allowAnalysis": true,
 "hasRasterAttributeTable": false,
 "useStandardizedQueries": false,
 "description": "",
 "pixelType": "F32",
 "meanPixelSize": 55.659745396636758,
 "exportTilesAllowed": false,
 "editFieldsInfo": null,
 "rasterTypeInfos": [
  {
   "help": "",
   "name": "Raster Dataset",
   "description": "Supports all ArcGIS Raster Datasets"
  }
 ],
 "defaultResamplingMethod": "Bilinear",
 "itemAccess": false,
 "minScale": 0,
 "serviceProperties": "Center<\/MosaicMethod>First<\/MosaicOperator>true<\/SortAscending><\/LockImageID><\/TileOrderField>0<\/TileOrderBase>0.000000<\/AvgImageSpacingX>0.000000<\/AvgImageSpacingY>0.0<\/ViewPointX>0.0<\/ViewPointY>0.0<\/ViewPointDefShiftX>0.0<\/ViewPointDefShiftY>None<\/CompressionMethod>75<\/CompressionQuality>0.010000<\/CompressionTolerance>Bilinear<\/SamplingMethod><\/ImageServiceProperties><\/ImageServer>",
 "advancedQueryCapabilities": {
  "supportsStatistics": false,
  "supportsSqlExpression": false,
  "supportsOrderBy": false,
  "useStandardizedQueries": false,
  "supportsPagination": false,
  "supportsDistinct": false
 },
 "serviceItemId": "573de3949e8a495ea0e8c5d3ddd6905f",
 "capabilities": "Image,Metadata,Mensuration",
 "maxScale": 0,
 "stdvValues": [
  1044.0127991924001
 ],
 "allowedFields": "",
 "minPixelSize": 0,
 "noDataValues": [
  -99999
 ],
 "sortAscending": true,
 "inspectionCapabilities": "",
 "maxPixelSize": 0,
 "noDataValue": -99999,
 "allowedCompressions": "None,JPEG,LZ77,LERC",
 "uncompressedSize": 1152136004,
 "serviceDescription": "MAC/Hawaii_Regional_Bathymetry_IS",
 "allowCopy": true,
 "copyrightText": "",
 "mensurationCapabilities": "Basic",
 "ownershipBasedAccessControlForRasters": null
}
