View In:
ArcGIS JavaScript
ArcGIS Online Map Viewer
ArcGIS Earth
Service Description: GEBCO/GEBCO_2022_GCS_COG_Image_Service
Name: GEBCO/GEBCO_2022_GCS_COG_Image_Service
Description:
Single Fused Map Cache: false
Extent:
XMin: -179.99999999999997
YMin: -89.99999999999999
XMax: 179.99999999999997
YMax: 89.99999999999999
Spatial Reference: 4326
(4326)
Initial Extent:
XMin: -179.99999999999997
YMin: -89.99999999999999
XMax: 179.99999999999997
YMax: 89.99999999999999
Spatial Reference: 4326
(4326)
Full Extent:
XMin: -179.99999999999997
YMin: -89.99999999999999
XMax: 179.99999999999997
YMax: 89.99999999999999
Spatial Reference: 4326
(4326)
Pixel Size X: 0.004166666666666666
Pixel Size Y: 0.004166666666666666
Band Count: 1
Pixel Type: F32
RasterFunction Infos: {"rasterFunctionInfos": [
{
"help": "",
"name": "Shaded Relief - BlueGreen - MD - 7x",
"description": "Creates a multiband, color coded, 3D representation of the surface, with the sun's relative position taken into account for shading the image."
},
{
"help": "",
"name": "Shaded Relief - BlueGreen - MD - 3x",
"description": "Creates a multiband, color coded, 3D representation of the surface, with the sun's relative position taken into account for shading the image."
},
{
"help": "",
"name": "Shaded Relief - BlueGreen - MD - 4x",
"description": "Creates a multiband, color coded, 3D representation of the surface, with the sun's relative position taken into account for shading the image."
},
{
"help": "",
"name": "Shaded Relief - BlueGreen - MD - 5x",
"description": "Creates a multiband, color coded, 3D representation of the surface, with the sun's relative position taken into account for shading the image."
},
{
"help": "",
"name": "Hillshade_MD_3x",
"description": "Multidirectional Hillshade with a 3x Z-Factor"
},
{
"help": "",
"name": "Hillshade_MD_5x",
"description": "Multidirectional Hillshade with a 5x Z-Factor"
},
{
"help": "",
"name": "Hillshade_MD_7x",
"description": "Multidirectional Hillshade with a 7x Z-Factor"
},
{
"help": "",
"name": "None",
"description": ""
}
]}
Mensuration Capabilities: Basic
Inspection Capabilities:
Has Histograms: true
Has Colormap: false
Has Multi Dimensions : false
Rendering Rule:
Min Scale: 0
Max Scale: 0
Copyright Text:
Service Data Type: esriImageServiceDataTypeElevation
Min Values: -10923
Max Values: 8627
Mean Values: -1898.8067660387001
Standard Deviation Values: 2653.4247338978998
Object ID Field:
Fields:
None
Default Mosaic Method: Center
Allowed Mosaic Methods:
SortField:
SortValue: N/A
Mosaic Operator: First
Default Compression Quality: 75
Default Resampling Method: Bilinear
Max Record Count: null
Max Image Height: 4100
Max Image Width: 15000
Max Download Image Count: null
Max Mosaic Image Count: null
Allow Raster Function: true
Allow Copy: true
Allow Analysis: true
Allow Compute TiePoints: false
Supports Statistics: false
Supports Advanced Queries: false
Use StandardizedQueries: false
Raster Type Infos:
Name: Raster Dataset
Description: Supports all ArcGIS Raster Datasets
Help:
Has Raster Attribute Table: false
Edit Fields Info: N/A
Ownership Based AccessControl For Rasters: N/A
Child Resources:
Info
Histograms
Statistics
Key Properties
Legend
Raster Function Infos
Supported Operations:
Export Image
Identify
Measure
Compute Histograms
Compute Statistics Histograms
Get Samples
Compute Class Statistics
Query Boundary
Compute Pixel Location
Compute Angles
Validate
Project
Calculate Volume