{
 "extent": {
  "ymin": -89.999999999999986,
  "xmin": -179.99999999999997,
  "ymax": 89.999999999999986,
  "xmax": 179.99999999999997,
  "spatialReference": {
   "latestWkid": 4326,
   "wkid": 4326
  }
 },
 "blockWidth": 512,
 "mosaicOperator": "First",
 "serviceSourceType": "esriImageServiceSourceTypeDataset",
 "hasMultidimensions": false,
 "maxImageWidth": 15000,
 "meanValues": [
  -1898.8067660387001
 ],
 "hasColormap": false,
 "compressionType": "LZW",
 "defaultCompressionQuality": 75,
 "maxValues": [
  8627
 ],
 "hasHistograms": true,
 "datasetFormat": "TIFF",
 "maxImageHeight": 4100,
 "sortField": "",
 "bandNames": [
  "Band_1"
 ],
 "spatialReference": {
  "latestWkid": 4326,
  "wkid": 4326
 },
 "fullExtent": {
  "ymin": -89.999999999999986,
  "xmin": -179.99999999999997,
  "ymax": 89.999999999999986,
  "xmax": 179.99999999999997,
  "spatialReference": {
   "latestWkid": 4326,
   "wkid": 4326
  }
 },
 "bandCount": 1,
 "rasterFunctionInfos": [
  {
   "help": "",
   "name": "Shaded Relief - BlueGreen - MD - 7x",
   "description": "Creates a multiband, color coded, 3D representation of the surface, with the sun's relative position taken into account for shading the image."
  },
  {
   "help": "",
   "name": "Shaded Relief - BlueGreen - MD - 3x",
   "description": "Creates a multiband, color coded, 3D representation of the surface, with the sun's relative position taken into account for shading the image."
  },
  {
   "help": "",
   "name": "Shaded Relief - BlueGreen - MD - 4x",
   "description": "Creates a multiband, color coded, 3D representation of the surface, with the sun's relative position taken into account for shading the image."
  },
  {
   "help": "",
   "name": "Shaded Relief - BlueGreen - MD - 5x",
   "description": "Creates a multiband, color coded, 3D representation of the surface, with the sun's relative position taken into account for shading the image."
  },
  {
   "help": "",
   "name": "Hillshade_MD_3x",
   "description": "Multidirectional Hillshade with a 3x Z-Factor"
  },
  {
   "help": "",
   "name": "Hillshade_MD_5x",
   "description": "Multidirectional Hillshade with a 5x Z-Factor"
  },
  {
   "help": "",
   "name": "Hillshade_MD_7x",
   "description": "Multidirectional Hillshade with a 7x Z-Factor"
  },
  {
   "help": "",
   "name": "None",
   "description": ""
  }
 ],
 "supportsStatistics": false,
 "sortableFields": "",
 "minValues": [
  -10923
 ],
 "allowRasterFunction": true,
 "allowComputeTiePoints": false,
 "serviceDataType": "esriImageServiceDataTypeElevation",
 "supportsAdvancedQueries": false,
 "currentVersion": 12.1,
 "sortValue": null,
 "objectIdField": "",
 "blockHeight": 512,
 "initialExtent": {
  "ymin": -89.999999999999986,
  "xmin": -179.99999999999997,
  "ymax": 89.999999999999986,
  "xmax": 179.99999999999997,
  "spatialReference": {
   "latestWkid": 4326,
   "wkid": 4326
  }
 },
 "pixelSizeX": 0.0041666666666666657,
 "pixelSizeY": 0.0041666666666666657,
 "defaultMosaicMethod": "Center",
 "name": "GEBCO/GEBCO_2022_GCS_COG_Image_Service",
 "allowedMosaicMethods": "",
 "fields": [],
 "allowAnalysis": true,
 "hasRasterAttributeTable": false,
 "useStandardizedQueries": false,
 "description": "",
 "pixelType": "F32",
 "meanPixelSize": 463.83121163863973,
 "exportTilesAllowed": false,
 "editFieldsInfo": null,
 "rasterTypeInfos": [
  {
   "help": "",
   "name": "Raster Dataset",
   "description": "Supports all ArcGIS Raster Datasets"
  }
 ],
 "defaultResamplingMethod": "Bilinear",
 "itemAccess": false,
 "minScale": 0,
 "serviceProperties": "Center<\/MosaicMethod>First<\/MosaicOperator>true<\/SortAscending><\/LockImageID><\/TileOrderField>0<\/TileOrderBase>0.000000<\/AvgImageSpacingX>0.000000<\/AvgImageSpacingY>0.0<\/ViewPointX>0.0<\/ViewPointY>0.0<\/ViewPointDefShiftX>0.0<\/ViewPointDefShiftY>None<\/CompressionMethod>75<\/CompressionQuality>0.010000<\/CompressionTolerance>Bilinear<\/SamplingMethod><\/ImageServiceProperties><\/ImageServer>",
 "advancedQueryCapabilities": {
  "supportsStatistics": false,
  "supportsSqlExpression": false,
  "supportsOrderBy": false,
  "useStandardizedQueries": false,
  "supportsPagination": false,
  "supportsDistinct": false
 },
 "serviceItemId": "a7778d56b83e452c8c81e204a804127d",
 "capabilities": "Image,Metadata,Mensuration",
 "maxScale": 0,
 "stdvValues": [
  2653.4247338978998
 ],
 "allowedFields": "",
 "minPixelSize": 0,
 "noDataValues": [
  3.3999999521443642E+38
 ],
 "sortAscending": true,
 "inspectionCapabilities": "",
 "maxPixelSize": 0,
 "noDataValue": 3.3999999521443642E+38,
 "allowedCompressions": "None,JPEG,LZ77,LERC",
 "uncompressedSize": 14929920000,
 "serviceDescription": "GEBCO/GEBCO_2022_GCS_COG_Image_Service",
 "allowCopy": true,
 "copyrightText": "",
 "mensurationCapabilities": "Basic",
 "ownershipBasedAccessControlForRasters": null
}
