View In:
ArcGIS JavaScript
ArcGIS Online Map Viewer
ArcGIS Earth
Service Description: WGOM-LI-SNE/WGOM_LI_SNE_Regional_Bathymetry_16m_WMAS_IS
Name: WGOM-LI-SNE/WGOM_LI_SNE_Regional_Bathymetry_16m_WMAS_IS
Description:
Single Fused Map Cache: false
Extent:
XMin: -8360732.50001078
YMin: 4893599.25001255
XMax: -7454540.50001078
YMax: 5636591.25001255
Spatial Reference: 102100
(3857)
Initial Extent:
XMin: -8360732.50001078
YMin: 4893599.25001255
XMax: -7454540.50001078
YMax: 5636591.25001255
Spatial Reference: 102100
(3857)
Full Extent:
XMin: -8360732.50001078
YMin: 4893599.25001255
XMax: -7454540.50001078
YMax: 5636591.25001255
Spatial Reference: 102100
(3857)
Pixel Size X: 16.0
Pixel Size Y: 16.0
Band Count: 1
Pixel Type: F32
RasterFunction Infos: {"rasterFunctionInfos": [{
"help": "",
"name": "None",
"description": ""
}]}
Mensuration Capabilities: Basic
Inspection Capabilities:
Has Histograms: true
Has Colormap: false
Has Multi Dimensions : false
Rendering Rule:
Min Scale: 0
Max Scale: 0
Copyright Text:
Service Data Type: esriImageServiceDataTypeElevation
Min Values: -482.98190307617
Max Values: 2.7694721221924001
Mean Values: -104.61437270313
Standard Deviation Values: 75.374512829761997
Object ID Field:
Fields:
None
Default Mosaic Method: Center
Allowed Mosaic Methods:
SortField:
SortValue: N/A
Mosaic Operator: First
Default Compression Quality: 75
Default Resampling Method: Bilinear
Max Record Count: null
Max Image Height: 4100
Max Image Width: 15000
Max Download Image Count: null
Max Mosaic Image Count: null
Allow Raster Function: true
Allow Copy: true
Allow Analysis: true
Allow Compute TiePoints: false
Supports Statistics: false
Supports Advanced Queries: false
Use StandardizedQueries: false
Raster Type Infos:
Name: Raster Dataset
Description: Supports all ArcGIS Raster Datasets
Help:
Has Raster Attribute Table: false
Edit Fields Info: N/A
Ownership Based AccessControl For Rasters: N/A
Child Resources:
Info
Histograms
Statistics
Key Properties
Legend
Raster Function Infos
Supported Operations:
Export Image
Identify
Measure
Compute Histograms
Compute Statistics Histograms
Get Samples
Compute Class Statistics
Query Boundary
Compute Pixel Location
Compute Angles
Validate
Project
Calculate Volume