View In:
ArcGIS JavaScript
ArcGIS Online Map Viewer
ArcGIS Earth
Service Description: MAC/California_Oregon_Regional_Bathymetry_IS
Name: MAC/California_Oregon_Regional_Bathymetry_IS
Description:
Single Fused Map Cache: false
Extent:
XMin: -1.42832106041E7
YMin: 3797833.600900002
XMax: -1.29462676041E7
YMax: 5902247.600900002
Spatial Reference: 102100
(3857)
Initial Extent:
XMin: -1.42832106041E7
YMin: 3797833.600900002
XMax: -1.29462676041E7
YMax: 5902247.600900002
Spatial Reference: 102100
(3857)
Full Extent:
XMin: -1.42832106041E7
YMin: 3797833.600900002
XMax: -1.29462676041E7
YMax: 5902247.600900002
Spatial Reference: 102100
(3857)
Pixel Size X: 1.0
Pixel Size Y: 1.0
Band Count: 1
Pixel Type: F32
RasterFunction Infos: {"rasterFunctionInfos": [
{
"help": "",
"name": "None",
"description": "Make a Raster or Raster Dataset into a Function Raster Dataset."
},
{
"help": "",
"name": "Contour - 200m",
"description": "Contour - 200m"
},
{
"help": "",
"name": "Contour - 20m",
"description": "Contour - 20m"
},
{
"help": "",
"name": "Contour - 50m",
"description": "Contour - 50m"
},
{
"help": "",
"name": "Contour - 100m",
"description": "Contour - 100m"
},
{
"help": "",
"name": "Contour - 250m",
"description": "Contour - 250m"
},
{
"help": "",
"name": "Contour - 500m",
"description": "Contour - 500m"
},
{
"help": "",
"name": "Contour - 1000m",
"description": "Contour - 1000m"
},
{
"help": "",
"name": "Contour_200m_Fill",
"description": "Contour 200m filled"
},
{
"help": "",
"name": "DAR - PerClip - 0.5 - BlueGreen",
"description": "Dynamic Range Adjustent - Std Dev - BlueGreen"
},
{
"help": "",
"name": "DAR - PerClip - 0.5- Haxby",
"description": "Dynamic Range Adjustent - Std Dev - Haxby"
},
{
"help": "",
"name": "DAR - PerClip - 2 - BlueGreen",
"description": "Dynamic Range Adjustent - Std Dev - BlueGreen"
},
{
"help": "",
"name": "DAR - PerClip - 2 - Haxby",
"description": "Dynamic Range Adjustent - Std Dev - Haxby"
},
{
"help": "",
"name": "DAR - StdDev - BlueGreen",
"description": "Dynamic Range Adjustent - Std Dev - BlueGreen"
},
{
"help": "",
"name": "DAR - StdDev - Haxby",
"description": "Dynamic Range Adjustent - Std Dev - Haxby"
},
{
"help": "",
"name": "Multidirectional Hillshade 1.5x",
"description": "Multidirectional hillshade 2x"
},
{
"help": "",
"name": "Multidirectional Hillshade 1x",
"description": "Multidirectional hillshade 1x"
},
{
"help": "",
"name": "Multidirectional Hillshade 2x",
"description": "Multidirectional hillshade 2x"
},
{
"help": "",
"name": "Multidirectional Hillshade 3x",
"description": "Multidirectional hillshade 2x"
},
{
"help": "",
"name": "QAT_Depth_0to1000m",
"description": "QAT Depth Identifier"
},
{
"help": "",
"name": "QAT_Depth_1000to2000m",
"description": "QAT Depth Identifier"
},
{
"help": "",
"name": "QAT_Depth_2000to3000m",
"description": "QAT Depth Identifier"
},
{
"help": "",
"name": "QAT_Depth_3000to4000m",
"description": "QAT Depth Identifier"
},
{
"help": "",
"name": "QAT_Depth_4000to5000m",
"description": "QAT Depth Identifier"
},
{
"help": "",
"name": "QAT_Depth_5000to6000m",
"description": "QAT Depth Identifier"
},
{
"help": "",
"name": "QAT_Depth_6000to7000m",
"description": "QAT Depth Identifier"
},
{
"help": "",
"name": "QAT_Depth_7000to8000m",
"description": "QAT Depth Identifier"
},
{
"help": "",
"name": "QAT_Depth_8000to9000m",
"description": "QAT Depth Identifier"
},
{
"help": "",
"name": "QAT_Depth_9000to10000m",
"description": "QAT Depth Identifier"
},
{
"help": "",
"name": "QAT_Depth_10000to11000m",
"description": "QAT Depth Identifier"
},
{
"help": "",
"name": "QAT_DepthRanges_BlueGreen",
"description": "QAT Depth Identifier"
},
{
"help": "",
"name": "QAT_DepthRanges_Grey",
"description": "QAT Depth Identifier"
},
{
"help": "",
"name": "QAT_DepthRanges_PurpleYellow2",
"description": "QAT Depth Identifier"
},
{
"help": "",
"name": "QAT_DepthRanges_PurpleYellow",
"description": "QAT Depth Identifier"
},
{
"help": "",
"name": "QAT_Modes_EM124",
"description": "QAT Modes for an EM124\n\n"
},
{
"help": "",
"name": "QAT_Modes_EM304",
"description": "QAT Modes for an EM304\n"
},
{
"help": "",
"name": "QAT_Modes_EM712",
"description": "QAT Modes for an EM712\n"
},
{
"help": "",
"name": "QAT_Modes_EM2040_200kHz",
"description": "QAT Modes for an EM2040 200 kHz\n\n"
},
{
"help": "",
"name": "QAT_Modes_EM2040_300kHz",
"description": "QAT Modes for an EM2040 300 kHz\n\n"
},
{
"help": "",
"name": "QAT_Modes_EM2040_400kHz",
"description": "QAT Modes for an EM2040 400 kHz\n\n"
},
{
"help": "",
"name": "QAT_Slope_0to2_Degrees_Green",
"description": "QAT Slope Identifier\n"
},
{
"help": "",
"name": "QAT_Slope_0to2_Green_2to4_Red",
"description": "QAT Slope Identifier\n"
},
{
"help": "",
"name": "QAT_Slope_0to4_Degrees_Green",
"description": "QAT Slope Identifier\n"
},
{
"help": "",
"name": "QAT_Slope_10to15blue_15to25green_25to30red",
"description": "QAT Slope Identifier\n"
},
{
"help": "",
"name": "QAT_Slope_10to30_Degrees_Green",
"description": "QAT Slope Identifier\n"
},
{
"help": "",
"name": "QAT_Slope_10to30_Degrees_Inferno",
"description": "QAT Slope Identifier\n"
},
{
"help": "",
"name": "QAT_Slope_15to25_Degrees_Green",
"description": "QAT Slope Identifier\n"
},
{
"help": "",
"name": "QAT_Slope_15to25_Degrees_Inferno",
"description": "QAT Slope Identifier\n"
},
{
"help": "",
"name": "QAT_Slopes_0to2_Degrees_Green",
"description": "QAT Slope Identifier\n"
},
{
"help": "",
"name": "Shaded Relief - BlueGreen- MD Hillshade 2",
"description": "Shaded Relief - BlueGreen - MD Hillshade 2"
},
{
"help": "",
"name": "Shaded Relief - Haxby - MD Hillshade 2",
"description": "Shaded Relief - Haxby - MD Hillshade 2"
},
{
"help": "",
"name": "Slope - Degrees - Inferno",
"description": "Slope - Degrees"
},
{
"help": "",
"name": "Slope - Degrees",
"description": "Slope - Degrees"
}
]}
Mensuration Capabilities: Basic
Inspection Capabilities:
Has Histograms: true
Has Colormap: false
Has Multi Dimensions : false
Rendering Rule:
Min Scale: 0
Max Scale: 0
Copyright Text:
Service Data Type: esriImageServiceDataTypeElevation
Min Values: -4802.6152076723156
Max Values: -8.5060160297289258
Mean Values: -658.24174873871186
Standard Deviation Values: 1249.3168631182525
Object ID Field: OBJECTID
Fields:
-
OBJECTID
(
alias: OBJECTID, type: esriFieldTypeOID
)
-
Shape
(
alias: Shape, type: esriFieldTypeGeometry
)
-
Name
(
length: 200, alias: Name, type: esriFieldTypeString
)
-
MinPS
(
alias: MinPS, type: esriFieldTypeDouble
)
-
MaxPS
(
alias: MaxPS, type: esriFieldTypeDouble
)
-
LowPS
(
alias: LowPS, type: esriFieldTypeDouble
)
-
HighPS
(
alias: HighPS, type: esriFieldTypeDouble
)
-
Category
(
alias: Category, type: esriFieldTypeInteger
, Coded Values:
[0: Unknown]
, [1: Primary]
, [2: Overview]
, ...6 more...
)
-
Tag
(
length: 100, alias: Tag, type: esriFieldTypeString
)
-
GroupName
(
length: 100, alias: GroupName, type: esriFieldTypeString
)
-
ProductName
(
length: 100, alias: ProductName, type: esriFieldTypeString
)
-
CenterX
(
alias: CenterX, type: esriFieldTypeDouble
)
-
CenterY
(
alias: CenterY, type: esriFieldTypeDouble
)
-
ZOrder
(
alias: ZOrder, type: esriFieldTypeInteger
)
-
Shape_Length
(
alias: Shape_Length, type: esriFieldTypeDouble
)
-
Shape_Area
(
alias: Shape_Area, type: esriFieldTypeDouble
)
Default Mosaic Method: ByAttribute
Allowed Mosaic Methods: ByAttribute,NorthWest,Center,LockRaster,Nadir,Viewpoint,Seamline,None
SortField: ZOrder
SortValue:
Mosaic Operator: First
Default Compression Quality: 75
Default Resampling Method: Bilinear
Max Record Count: 1000
Max Image Height: 4100
Max Image Width: 15000
Max Download Image Count: 20
Max Mosaic Image Count: 60
Allow Raster Function: true
Allow Copy: true
Allow Analysis: true
Allow Compute TiePoints: false
Supports Statistics: true
Supports Advanced Queries: true
Use StandardizedQueries: true
Raster Type Infos:
Name: Raster Dataset
Description: Supports all ArcGIS Raster Datasets
Help:
Has Raster Attribute Table: false
Edit Fields Info: N/A
Ownership Based AccessControl For Rasters: N/A
Child Resources:
Info
Histograms
Statistics
Key Properties
Legend
Raster Function Infos
Supported Operations:
Export Image
Query
Identify
Measure
Compute Histograms
Compute Statistics Histograms
Get Samples
Compute Class Statistics
Query GPS Info
Find Images
Image to Map
Map to Image
Measure from Image
Image to Map Multiray
Query Boundary
Compute Pixel Location
Compute Angles
Validate
Project
Calculate Volume