View In:
ArcGIS JavaScript
ArcGIS Online Map Viewer
ArcGIS Earth
Service Description: IBCAO/IBCAO_v4_2_13_400m_Polar_Stereographic_160W_Elevation
Name: IBCAO/IBCAO_v4_2_13_400m_Polar_Stereographic_160W_Elevation
Description:
Single Fused Map Cache: false
Extent:
XMin: -3729784.143564689
YMin: -3729815.856435311
XMax: 3729815.856435311
YMax: 3729784.143564689
Spatial Reference: PROJCS["WGS_1984_US_UNCLOS_Polar_Stereographic",GEOGCS["GCS_WGS_1984",DATUM["D_WGS_1984",SPHEROID["WGS_1984",6378137.0,298.257223563]],PRIMEM["Greenwich",0.0],UNIT["Degree",0.0174532925199433]],PROJECTION["Stereographic_North_Pole"],PARAMETER["False_Easting",0.0],PARAMETER["False_Northing",0.0],PARAMETER["Central_Meridian",-160.0],PARAMETER["Standard_Parallel_1",75.0],UNIT["Meter",1.0]]
Initial Extent:
XMin: -3729784.143564689
YMin: -3729815.856435311
XMax: 3729815.856435311
YMax: 3729784.143564689
Spatial Reference: PROJCS["WGS_1984_US_UNCLOS_Polar_Stereographic",GEOGCS["GCS_WGS_1984",DATUM["D_WGS_1984",SPHEROID["WGS_1984",6378137.0,298.257223563]],PRIMEM["Greenwich",0.0],UNIT["Degree",0.0174532925199433]],PROJECTION["Stereographic_North_Pole"],PARAMETER["False_Easting",0.0],PARAMETER["False_Northing",0.0],PARAMETER["Central_Meridian",-160.0],PARAMETER["Standard_Parallel_1",75.0],UNIT["Meter",1.0]]
Full Extent:
XMin: -3729784.143564689
YMin: -3729815.856435311
XMax: 3729815.856435311
YMax: 3729784.143564689
Spatial Reference: PROJCS["WGS_1984_US_UNCLOS_Polar_Stereographic",GEOGCS["GCS_WGS_1984",DATUM["D_WGS_1984",SPHEROID["WGS_1984",6378137.0,298.257223563]],PRIMEM["Greenwich",0.0],UNIT["Degree",0.0174532925199433]],PROJECTION["Stereographic_North_Pole"],PARAMETER["False_Easting",0.0],PARAMETER["False_Northing",0.0],PARAMETER["Central_Meridian",-160.0],PARAMETER["Standard_Parallel_1",75.0],UNIT["Meter",1.0]]
Pixel Size X: 400.0
Pixel Size Y: 400.0
Band Count: 1
Pixel Type: F32
RasterFunction Infos: {"rasterFunctionInfos": [{
"help": "",
"name": "None",
"description": ""
}]}
Mensuration Capabilities: Basic
Inspection Capabilities:
Has Histograms: true
Has Colormap: false
Has Multi Dimensions : false
Rendering Rule:
Min Scale: 0
Max Scale: 0
Copyright Text:
Service Data Type: esriImageServiceDataTypeElevation
Min Values: -5560.6206054688
Max Values: 6058.2661132812
Mean Values: -455.68461218098003
Standard Deviation Values: 1331.4122692036999
Object ID Field:
Fields:
None
Default Mosaic Method: Center
Allowed Mosaic Methods:
SortField:
SortValue: N/A
Mosaic Operator: First
Default Compression Quality: 100000
Default Resampling Method: Bilinear
Max Record Count: null
Max Image Height: 4100
Max Image Width: 15000
Max Download Image Count: null
Max Mosaic Image Count: null
Allow Raster Function: true
Allow Copy: true
Allow Analysis: true
Allow Compute TiePoints: false
Supports Statistics: false
Supports Advanced Queries: false
Use StandardizedQueries: false
Raster Type Infos:
Name: Raster Dataset
Description: Supports all ArcGIS Raster Datasets
Help:
Has Raster Attribute Table: false
Edit Fields Info: N/A
Ownership Based AccessControl For Rasters: N/A
Child Resources:
Info
Histograms
Statistics
Key Properties
Legend
Raster Function Infos
Supported Operations:
Export Image
Identify
Measure
Compute Histograms
Compute Statistics Histograms
Get Samples
Compute Class Statistics
Query Boundary
Compute Pixel Location
Compute Angles
Validate
Project
Calculate Volume