View In:
ArcGIS JavaScript
ArcGIS Online Map Viewer
ArcGIS Earth
Service Description: IBCAO/IBCAO_v4_2_13_400m_AKPS_5x_elev
Name: IBCAO/IBCAO_v4_2_13_400m_AKPS_5x_elev
Description:
Single Fused Map Cache: true
Tile Info:
- Height: 256
- Width: 256
- DPI: 96
-
Levels of Detail: 19
-
Level ID: 0
[ Start Tile, End Tile ]
- Resolution: 238810.80944729605
- Scale: 902592035.70631576
-
Level ID: 1
[ Start Tile, End Tile ]
- Resolution: 119405.40472364803
- Scale: 451296017.85315788
-
Level ID: 2
[ Start Tile, End Tile ]
- Resolution: 59702.702361824013
- Scale: 225648008.92657894
-
Level ID: 3
[ Start Tile, End Tile ]
- Resolution: 29851.351180912006
- Scale: 112824004.46328947
-
Level ID: 4
[ Start Tile, End Tile ]
- Resolution: 14925.675590456003
- Scale: 56412002.231644735
-
Level ID: 5
[ Start Tile, End Tile ]
- Resolution: 7462.8377952280016
- Scale: 28206001.115822367
-
Level ID: 6
[ Start Tile, End Tile ]
- Resolution: 3731.4188976140008
- Scale: 14103000.557911184
-
Level ID: 7
[ Start Tile, End Tile ]
- Resolution: 1865.7094488070004
- Scale: 7051500.2789555918
-
Level ID: 8
[ Start Tile, End Tile ]
- Resolution: 932.8547244035002
- Scale: 3525750.1394777959
-
Level ID: 9
[ Start Tile, End Tile ]
- Resolution: 466.4273622017501
- Scale: 1762875.069738898
-
Level ID: 10
[ Start Tile, End Tile ]
- Resolution: 233.21368110087505
- Scale: 881437.53486944898
-
Level ID: 11
[ Start Tile, End Tile ]
- Resolution: 116.60684055043752
- Scale: 440718.76743472449
-
Level ID: 12
[ Start Tile, End Tile ]
- Resolution: 58.303420275218762
- Scale: 220359.38371736225
-
Level ID: 13
[ Start Tile, End Tile ]
- Resolution: 29.151710137609381
- Scale: 110179.69185868112
-
Level ID: 14
[ Start Tile, End Tile ]
- Resolution: 14.575855068804691
- Scale: 55089.845929340561
-
Level ID: 15
[ Start Tile, End Tile ]
- Resolution: 7.2879275344023453
- Scale: 27544.922964670281
-
Level ID: 16
[ Start Tile, End Tile ]
- Resolution: 3.6439637672011727
- Scale: 13772.46148233514
-
Level ID: 17
[ Start Tile, End Tile ]
- Resolution: 1.8219818836005863
- Scale: 6886.2307411675702
-
Level ID: 18
[ Start Tile, End Tile ]
- Resolution: 0.91099094180029316
- Scale: 3443.1153705837851
- Format: LERC
- Compression Quality: 0.0
- LERC Error: 0.1
- Origin: X: -2.8567783609253895E7
Y: 3.2567783609253895E7
- Spatial Reference: 5936
(5936)
Storage Info:
- Storage Format: esriMapCacheStorageModeCompactV2
- Packet Size: 128
Extent:
XMin: -2019752.54015425
YMin: -2019847.4598457497
XMax: 6019847.45984575
YMax: 6019752.54015425
Spatial Reference: 5936
(5936)
Initial Extent:
XMin: -2019752.54015425
YMin: -2019847.4598457497
XMax: 6019847.45984575
YMax: 6019752.54015425
Spatial Reference: 5936
(5936)
Full Extent:
XMin: -2019752.54015425
YMin: -2019847.4598457497
XMax: 6019847.45984575
YMax: 6019752.54015425
Spatial Reference: 5936
(5936)
Pixel Size X: 400.0
Pixel Size Y: 400.0
Band Count: 1
Pixel Type: F32
RasterFunction Infos: {"rasterFunctionInfos": [{
"help": "",
"name": "None",
"description": ""
}]}
Mensuration Capabilities: Basic
Inspection Capabilities:
Has Histograms: true
Has Colormap: false
Has Multi Dimensions : false
Rendering Rule:
Min Scale: 225648008.92657894
Max Scale: 1762875.069738898
Min LOD: 2
Max LOD: 9
Copyright Text:
Service Data Type: esriImageServiceDataTypeGeneric
Min Values: -27803.642578125
Max Values: 30258.736328125
Mean Values: -2278.4226965642001
Standard Deviation Values: 6657.0615361192004
Object ID Field:
Fields:
None
Default Mosaic Method: Center
Allowed Mosaic Methods:
SortField:
SortValue: N/A
Mosaic Operator: First
Default Compression Quality: 100000
Default Resampling Method: Bilinear
Max Record Count: null
Max Image Height: 4100
Max Image Width: 15000
Max Download Image Count: null
Max Mosaic Image Count: null
Allow Raster Function: true
Allow Copy: true
Allow Analysis: true
Allow Compute TiePoints: false
Supports Statistics: false
Supports Advanced Queries: false
Use StandardizedQueries: false
Raster Type Infos:
Name: Raster Dataset
Description: Supports all ArcGIS Raster Datasets
Help:
Has Raster Attribute Table: false
Edit Fields Info: N/A
Ownership Based AccessControl For Rasters: N/A
Child Resources:
Info
Histograms
Statistics
Key Properties
Legend
Raster Function Infos
Supported Operations:
Export Image
Identify
Measure
Compute Histograms
Compute Statistics Histograms
Get Samples
Compute Class Statistics
Query Boundary
Compute Pixel Location
Compute Angles
Validate
Project