View In:
ArcGIS JavaScript
ArcGIS Online Map Viewer
ArcGIS Earth
Service Description: GEBCO2026/gebco_2026_tid_IS
Name: GEBCO2026/gebco_2026_tid_IS
Description:
Single Fused Map Cache: false
Extent:
XMin: -180.0
YMin: -90.0
XMax: 180.0
YMax: 90.0
Spatial Reference: 4326
(4326)
Initial Extent:
XMin: -180.0
YMin: -90.0
XMax: 180.0
YMax: 90.0
Spatial Reference: 4326
(4326)
Full Extent:
XMin: -180.0
YMin: -90.0
XMax: 180.0
YMax: 90.0
Spatial Reference: 4326
(4326)
Pixel Size X: 0.004166666666666667
Pixel Size Y: 0.004166666666666667
Band Count: 1
Pixel Type: U8
RasterFunction Infos: {"rasterFunctionInfos": [
{
"help": "",
"name": "None",
"description": "Make a Raster or Raster Dataset into a Function Raster Dataset."
},
{
"help": "",
"name": "GEBCO 40to43 45to48 71to72 Mask 2026",
"description": "GEBCO TID Color"
},
{
"help": "",
"name": "GEBCO 44 70 Mask 2026",
"description": "GEBCO TID 44 and 70 Mask 2026"
},
{
"help": "",
"name": "GEBCO Bathy Direct 40 and 70",
"description": "GEBCO Direct Measurement Bathymetry"
},
{
"help": "",
"name": "GEBCO Direct and Unknown 2026",
"description": "GEBCO TID Color"
},
{
"help": "",
"name": "GEBCO Bathy Direct Only",
"description": "GEBCO Direct Measurement Bathymetry"
},
{
"help": "",
"name": "GEBCO Indirect Unknown Mask 2026",
"description": "GEBCO TID Color"
},
{
"help": "",
"name": "GEBCO TID Color 2026",
"description": "GEBCO TID Color 2026"
},
{
"help": "",
"name": "GEBCO TID Measurement 2026",
"description": "GEBCO TID Measurement Type 2026"
},
{
"help": "",
"name": "GEBCO TID Measurement",
"description": "GEBCO TID Color"
}
]}
Mensuration Capabilities: Basic
Inspection Capabilities:
Has Histograms: true
Has Colormap: false
Has Multi Dimensions : false
Rendering Rule:
Min Scale: 0
Max Scale: 0
Copyright Text:
Service Data Type: esriImageServiceDataTypeGeneric
Min Values: 0
Max Values: 72
Mean Values: 27.858934721687
Standard Deviation Values: 22.02373256628
Object ID Field:
Fields:
None
Default Mosaic Method: Center
Allowed Mosaic Methods:
SortField:
SortValue: N/A
Mosaic Operator: First
Default Compression Quality: 75
Default Resampling Method: Bilinear
Max Record Count: null
Max Image Height: 15000
Max Image Width: 15000
Max Download Image Count: null
Max Mosaic Image Count: null
Allow Raster Function: true
Allow Copy: true
Allow Analysis: true
Allow Compute TiePoints: false
Supports Statistics: false
Supports Advanced Queries: false
Use StandardizedQueries: false
Raster Type Infos:
Name: Raster Dataset
Description: Supports all ArcGIS Raster Datasets
Help:
Has Raster Attribute Table: false
Edit Fields Info: N/A
Ownership Based AccessControl For Rasters: N/A
Child Resources:
Info
Histograms
Statistics
Key Properties
Legend
Raster Function Infos
Supported Operations:
Export Image
Identify
Measure
Compute Histograms
Compute Statistics Histograms
Get Samples
Compute Class Statistics
Query Boundary
Compute Pixel Location
Compute Angles
Validate
Project