View In:
ArcGIS JavaScript
ArcGIS Online Map Viewer
ArcGIS Earth
Service Description: GEBCO2026/gebco_2026_IS
Name: GEBCO2026/gebco_2026_IS
Description:
Single Fused Map Cache: false
Extent:
XMin: -180.0
YMin: -90.0
XMax: 180.0
YMax: 90.0
Spatial Reference: 4326
(4326)
Initial Extent:
XMin: -180.0
YMin: -90.0
XMax: 180.0
YMax: 90.0
Spatial Reference: 4326
(4326)
Full Extent:
XMin: -180.0
YMin: -90.0
XMax: 180.0
YMax: 90.0
Spatial Reference: 4326
(4326)
Pixel Size X: 0.004166666666666667
Pixel Size Y: 0.004166666666666667
Band Count: 1
Pixel Type: S16
RasterFunction Infos: {"rasterFunctionInfos": [
{
"help": "",
"name": "AspectSlope",
"description": "Creates a raster that simultaneously displays the aspect (direction) and slope(steepness) of a continuous surface, as represented in a digital elevation model."
},
{
"help": "",
"name": "Aspect",
"description": "Shows which direction a pixel is facing, where 0 is due north and angles increase clockwise to 360."
},
{
"help": "",
"name": "Contour - 5m",
"description": "Contour - 5m"
},
{
"help": "",
"name": "Contour - 10m",
"description": "Contour - 10m"
},
{
"help": "",
"name": "Contour - 20m",
"description": "Contour - 20m"
},
{
"help": "",
"name": "Contour - 50m",
"description": "Contour - 50m"
},
{
"help": "",
"name": "Contour - 100m",
"description": "Contour - 100m"
},
{
"help": "",
"name": "Contour - 200m",
"description": "Contour - 200m"
},
{
"help": "",
"name": "Contour - 250m",
"description": "Contour - 250m"
},
{
"help": "",
"name": "Contour - 500m",
"description": "Contour - 500m"
},
{
"help": "",
"name": "Contour - 1000m",
"description": "Contour - 1000m"
},
{
"help": "",
"name": "DAR - PerClip - 0.5 - BlueGreen",
"description": "Dynamic Range Adjustent - Std Dev - BlueGreen"
},
{
"help": "",
"name": "DAR - PerClip - 0.5- Haxby",
"description": "Dynamic Range Adjustent - Std Dev - Haxby"
},
{
"help": "",
"name": "DAR - PerClip - 0.5- Rainbow",
"description": "Dynamic Range Adjustent - Std Dev - Rainbow"
},
{
"help": "",
"name": "DAR - PerClip - 2 - BlueGreen",
"description": "Dynamic Range Adjustent - Std Dev - BlueGreen"
},
{
"help": "",
"name": "DAR - PerClip - 2 - Haxby",
"description": "Dynamic Range Adjustent - Std Dev - Haxby"
},
{
"help": "",
"name": "DAR - PerClip - 2 - Rainbow",
"description": "Dynamic Range Adjustent - Std Dev - Rainbow"
},
{
"help": "",
"name": "DAR - PerClip - 2 - Stats - Haxby",
"description": "Dynamic Range Adjustent - Std Dev - Haxby"
},
{
"help": "",
"name": "DAR - StdDev - BlueGreen",
"description": "Dynamic Range Adjustent - Std Dev - BlueGreen"
},
{
"help": "",
"name": "DAR - StdDev - Haxby",
"description": "Dynamic Range Adjustent - Std Dev - Haxby"
},
{
"help": "",
"name": "DAR - StdDev - Rainbow",
"description": "Dynamic Range Adjustent - Std Dev - Rainbow"
},
{
"help": "",
"name": "Multidirectional Hillshade 1.5x",
"description": "Multidirectional hillshade 2x"
},
{
"help": "",
"name": "Multidirectional Hillshade 1x",
"description": "Multidirectional hillshade 1x"
},
{
"help": "",
"name": "Multidirectional Hillshade 2x",
"description": "Multidirectional hillshade 2x"
},
{
"help": "",
"name": "Multidirectional Hillshade 3x",
"description": "Multidirectional hillshade 2x"
},
{
"help": "",
"name": "PerClip - 0.5 - BlueGreen",
"description": "Percentage Clip - 0.5 - Blue Green\n"
},
{
"help": "",
"name": "PerClip - 0.5 - Haxby",
"description": "Percentage Clip - 0.5 - Haxby"
},
{
"help": "",
"name": "PerClip - 0.5 - Rainbow",
"description": "Percentage Clip - 0.5 - Rainbow"
},
{
"help": "",
"name": "PerClip - 1 - BlueGreen",
"description": "Percentage Clip - 1 - Blue Green\n"
},
{
"help": "",
"name": "PerClip - 1 - Haxby",
"description": "Percentage Clip - 1 - Haxby"
},
{
"help": "",
"name": "PerClip - 1 - Rainbow",
"description": "Percentage Clip - 1 - Rainbow"
},
{
"help": "",
"name": "PerClip - 1.5 - BlueGreen",
"description": "Percentage Clip - 1.5 - Blue Green\n"
},
{
"help": "",
"name": "PerClip - 1.5 - Haxby",
"description": "Percentage Clip - 1.5 - Haxby"
},
{
"help": "",
"name": "PerClip - 1.5 - Rainbow",
"description": "Percentage Clip - 1.5 - Rainbow"
},
{
"help": "",
"name": "PerClip - 2 - BlueGreen",
"description": "Percentage Clip 2 - Blue Green\n"
},
{
"help": "",
"name": "PerClip - 2 - Haxby",
"description": "Percentage Clip - 2 - Haxby"
},
{
"help": "",
"name": "PerClip - 2 - Rainbow",
"description": "Percentage Clip - 2 - Rainbow"
},
{
"help": "",
"name": "Shaded Relief - BlueGreen- MD Hillshade 2",
"description": "Shaded Relief - BlueGreen - MD Hillshade 2"
},
{
"help": "",
"name": "Shaded Relief - Haxby - MD Hillshade 2",
"description": "Shaded Relief - Haxby - MD Hillshade 2"
},
{
"help": "",
"name": "Shaded Relief - Rainbow - MD Hillshade 2",
"description": "Shaded Relief - Rainbow - MD Hillshade 2"
},
{
"help": "",
"name": "Slope - Degrees - Inferno",
"description": "Slope - Degrees"
},
{
"help": "",
"name": "Slope - Degrees",
"description": "Slope - Degrees"
},
{
"help": "",
"name": "StdDev - BlueGreen",
"description": "Std Dev - BlueGreen"
},
{
"help": "",
"name": "StdDev - Haxby",
"description": "Std Dev - Haxby"
},
{
"help": "",
"name": "StdDev - Rainbow",
"description": "Std Dev - Rainbow"
},
{
"help": "",
"name": "Surface Parameters",
"description": "Calculates parameters of a raster surface such as aspect, slope, and curvature using geodesic methods."
},
{
"help": "",
"name": "Set Elevations Above 0 to Null",
"description": "Set Elevations Above 0 to Null"
},
{
"help": "",
"name": "Set Elevations Below 0 to Null",
"description": "Set Elevations Below 0 to Null"
},
{
"help": "",
"name": "None",
"description": ""
}
]}
Mensuration Capabilities: Basic
Inspection Capabilities:
Has Histograms: true
Has Colormap: false
Has Multi Dimensions : false
Rendering Rule:
Min Scale: 0
Max Scale: 0
Copyright Text:
Service Data Type: esriImageServiceDataTypeElevation
Min Values: -10931
Max Values: 8627
Mean Values: -1898.8007673524
Standard Deviation Values: 2653.7824532185
Object ID Field:
Fields:
None
Default Mosaic Method: Center
Allowed Mosaic Methods:
SortField:
SortValue: N/A
Mosaic Operator: First
Default Compression Quality: 75
Default Resampling Method: Bilinear
Max Record Count: null
Max Image Height: 15000
Max Image Width: 15000
Max Download Image Count: null
Max Mosaic Image Count: null
Allow Raster Function: true
Allow Copy: true
Allow Analysis: true
Allow Compute TiePoints: false
Supports Statistics: false
Supports Advanced Queries: false
Use StandardizedQueries: false
Raster Type Infos:
Name: Raster Dataset
Description: Supports all ArcGIS Raster Datasets
Help:
Has Raster Attribute Table: false
Edit Fields Info: N/A
Ownership Based AccessControl For Rasters: N/A
Child Resources:
Info
Histograms
Statistics
Key Properties
Legend
Raster Function Infos
Supported Operations:
Export Image
Identify
Measure
Compute Histograms
Compute Statistics Histograms
Get Samples
Compute Class Statistics
Query Boundary
Compute Pixel Location
Compute Angles
Validate
Project
Calculate Volume