View In:
ArcGIS JavaScript
ArcGIS Online Map Viewer
ArcGIS Earth
Service Description: GEBCO/gebco_2025_elev_5x_gcs
Name: GEBCO/gebco_2025_elev_5x_gcs
Description:
Single Fused Map Cache: true
Tile Info:
- Height: 256
- Width: 256
- DPI: 96
-
Levels of Detail: 23
-
Level ID: 7
[ Start Tile, End Tile ]
- Resolution: 0.0054931640625
- Scale: 2311162.2171551147
-
Level ID: 8
[ Start Tile, End Tile ]
- Resolution: 0.00274658203125
- Scale: 1155581.1085775574
-
Level ID: 9
[ Start Tile, End Tile ]
- Resolution: 0.001373291015625
- Scale: 577790.55428877869
-
Level ID: 10
[ Start Tile, End Tile ]
- Resolution: 0.0006866455078125
- Scale: 288895.27714438934
-
Level ID: 11
[ Start Tile, End Tile ]
- Resolution: 0.00034332275390625
- Scale: 144447.63857219467
-
Level ID: 12
[ Start Tile, End Tile ]
- Resolution: 0.000171661376953125
- Scale: 72223.819286097336
-
Level ID: 13
[ Start Tile, End Tile ]
- Resolution: 0.0000858306884765625
- Scale: 36111.909643048668
-
Level ID: 14
[ Start Tile, End Tile ]
- Resolution: 0.00004291534423828125
- Scale: 18055.954821524334
-
Level ID: 15
[ Start Tile, End Tile ]
- Resolution: 0.000021457672119140625
- Scale: 9027.977410762167
-
Level ID: 16
[ Start Tile, End Tile ]
- Resolution: 0.000010728836059570313
- Scale: 4513.9887053810835
-
Level ID: 17
[ Start Tile, End Tile ]
- Resolution: 0.0000053644180297851563
- Scale: 2256.9943526905417
-
Level ID: 18
[ Start Tile, End Tile ]
- Resolution: 0.0000026822090148925781
- Scale: 1128.4971763452709
-
Level ID: 19
[ Start Tile, End Tile ]
- Resolution: 0.0000013411045074462891
- Scale: 564.24858817263544
-
Level ID: 20
[ Start Tile, End Tile ]
- Resolution: 6.7055225372314453E-7
- Scale: 282.12429408631772
-
Level ID: 21
[ Start Tile, End Tile ]
- Resolution: 3.3527612686157227E-7
- Scale: 141.06214704315886
-
Level ID: 22
[ Start Tile, End Tile ]
- Resolution: 1.6763806343078613E-7
- Scale: 70.53107352157943
- Format: LERC
- Compression Quality: 0.0
- LERC Error: 1.0
- Origin: X: -180.0
Y: 90.0
- Spatial Reference: 4326
(4326)
Storage Info:
- Storage Format: esriMapCacheStorageModeCompactV2
- Packet Size: 128
Extent:
XMin: -180.0
YMin: -90.0
XMax: 180.0
YMax: 90.0
Spatial Reference: 4326
(4326)
Initial Extent:
XMin: -180.0
YMin: -90.0
XMax: 180.0
YMax: 90.0
Spatial Reference: 4326
(4326)
Full Extent:
XMin: -180.0
YMin: -90.0
XMax: 180.0
YMax: 90.0
Spatial Reference: 4326
(4326)
Pixel Size X: 0.004166666666666667
Pixel Size Y: 0.004166666666666667
Band Count: 1
Pixel Type: F32
RasterFunction Infos: {"rasterFunctionInfos": [{
"help": "",
"name": "None",
"description": ""
}]}
Mensuration Capabilities: Basic
Inspection Capabilities:
Has Histograms: true
Has Colormap: false
Has Multi Dimensions : false
Rendering Rule:
Min Scale: 295828763.79585469
Max Scale: 288895.27714438934
Min LOD: 0
Max LOD: 10
Resampling: false
Copyright Text:
Service Data Type: esriImageServiceDataTypeElevation
Min Values: -54650
Max Values: 43135
Mean Values: -9494.8074364905005
Standard Deviation Values: 13268.065317298
Object ID Field:
Fields:
None
Default Mosaic Method: Center
Allowed Mosaic Methods:
SortField:
SortValue: N/A
Mosaic Operator: First
Default Compression Quality: 1000000
Default Resampling Method: Bilinear
Max Record Count: null
Max Image Height: 4100
Max Image Width: 15000
Max Download Image Count: null
Max Mosaic Image Count: null
Allow Raster Function: true
Allow Copy: true
Allow Analysis: true
Allow Compute TiePoints: false
Supports Statistics: false
Supports Advanced Queries: false
Use StandardizedQueries: false
Raster Type Infos:
Name: Raster Dataset
Description: Supports all ArcGIS Raster Datasets
Help:
Has Raster Attribute Table: false
Edit Fields Info: N/A
Ownership Based AccessControl For Rasters: N/A
Child Resources:
Info
Histograms
Statistics
Key Properties
Legend
Raster Function Infos
Supported Operations:
Export Image
Identify
Measure
Compute Histograms
Compute Statistics Histograms
Get Samples
Compute Class Statistics
Query Boundary
Compute Pixel Location
Compute Angles
Validate
Project
Calculate Volume