View In:
ArcGIS JavaScript
ArcGIS Online Map Viewer
ArcGIS Earth
Service Description: GEBCO/GEBC0_2024_Bathymetry_MAC_IS
Name: GEBCO/GEBC0_2024_Bathymetry_MAC_IS
Description:
Single Fused Map Cache: false
Extent:
XMin: -180.0
YMin: -90.0
XMax: 180.0
YMax: 90.0
Spatial Reference: 4326
(4326)
Initial Extent:
XMin: -180.0
YMin: -90.0
XMax: 180.0
YMax: 90.0
Spatial Reference: 4326
(4326)
Full Extent:
XMin: -180.0
YMin: -90.0
XMax: 180.0
YMax: 90.0
Spatial Reference: 4326
(4326)
Pixel Size X: 0.004166666666666667
Pixel Size Y: 0.004166666666666667
Band Count: 1
Pixel Type: S16
RasterFunction Infos: {"rasterFunctionInfos": [
{
"help": "",
"name": "None",
"description": "Make a Raster or Raster Dataset into a Function Raster Dataset."
},
{
"help": "",
"name": "Contour - 50m",
"description": "Contour - 50m"
},
{
"help": "",
"name": "Contour - 20m",
"description": "Contour - 20m"
},
{
"help": "",
"name": "Contour - 100m",
"description": "Contour - 100m"
},
{
"help": "",
"name": "Contour - 200m",
"description": "Contour - 200m"
},
{
"help": "",
"name": "Contour - 250m",
"description": "Contour - 250m"
},
{
"help": "",
"name": "Contour - 500m",
"description": "Contour - 500m"
},
{
"help": "",
"name": "Contour - 1000m",
"description": "Contour - 1000m"
},
{
"help": "",
"name": "DAR - PerClip - 0.5 - BlueGreen",
"description": "Dynamic Range Adjustent - Std Dev - BlueGreen"
},
{
"help": "",
"name": "DAR - PerClip - 0.5- Haxby",
"description": "Dynamic Range Adjustent - Std Dev - Haxby"
},
{
"help": "",
"name": "DAR - PerClip - 2 - BlueGreen",
"description": "Dynamic Range Adjustent - Std Dev - BlueGreen"
},
{
"help": "",
"name": "DAR - PerClip - 2 - Haxby",
"description": "Dynamic Range Adjustent - Std Dev - Haxby"
},
{
"help": "",
"name": "DAR - StdDev - BlueGreen",
"description": "Dynamic Range Adjustent - Std Dev - BlueGreen"
},
{
"help": "",
"name": "DAR - StdDev - Haxby",
"description": "Dynamic Range Adjustent - Std Dev - Haxby"
},
{
"help": "",
"name": "GEBCO 40to43 45to46 71to72 Mask",
"description": "GEBCO TID Color"
},
{
"help": "",
"name": "GEBCO 44 70 Mask",
"description": "GEBCO TID Color"
},
{
"help": "",
"name": "GEBCO Bathy Direct 40 and 70",
"description": "GEBCO Direct Measurement Bathymetry"
},
{
"help": "",
"name": "GEBCO Bathy Direct Only",
"description": "GEBCO Direct Measurement Bathymetry"
},
{
"help": "",
"name": "GEBCO Indirect Unknown Mask",
"description": "GEBCO TID Color"
},
{
"help": "",
"name": "GEBCO TID Color",
"description": "GEBCO TID Color"
},
{
"help": "",
"name": "GEBCO TID Measurement",
"description": "GEBCO TID Color"
},
{
"help": "",
"name": "Multidirectional Hillshade 1.5x",
"description": "Multidirectional hillshade 2x"
},
{
"help": "",
"name": "Multidirectional Hillshade 1x",
"description": "Multidirectional hillshade 1x"
},
{
"help": "",
"name": "Multidirectional Hillshade 2x",
"description": "Multidirectional hillshade 2x"
},
{
"help": "",
"name": "Multidirectional Hillshade 3x",
"description": "Multidirectional hillshade 2x"
},
{
"help": "",
"name": "QAT_Depth_0to1000m",
"description": "QAT Depth Identifier"
},
{
"help": "",
"name": "QAT_Depth_1000to2000m",
"description": "QAT Depth Identifier"
},
{
"help": "",
"name": "QAT_Depth_2000to3000m",
"description": "QAT Depth Identifier"
},
{
"help": "",
"name": "QAT_Depth_3000to4000m",
"description": "QAT Depth Identifier"
},
{
"help": "",
"name": "QAT_Depth_4000to5000m",
"description": "QAT Depth Identifier"
},
{
"help": "",
"name": "QAT_Depth_5000to6000m",
"description": "QAT Depth Identifier"
},
{
"help": "",
"name": "QAT_Depth_6000to7000m",
"description": "QAT Depth Identifier"
},
{
"help": "",
"name": "QAT_Depth_7000to8000m",
"description": "QAT Depth Identifier"
},
{
"help": "",
"name": "QAT_Depth_8000to9000m",
"description": "QAT Depth Identifier"
},
{
"help": "",
"name": "QAT_Depth_9000to10000m",
"description": "QAT Depth Identifier"
},
{
"help": "",
"name": "QAT_Depth_10000to11000m",
"description": "QAT Depth Identifier"
},
{
"help": "",
"name": "QAT_DepthRanges_BlueGreen",
"description": "QAT Depth Identifier"
},
{
"help": "",
"name": "QAT_DepthRanges_Grey",
"description": "QAT Depth Identifier"
},
{
"help": "",
"name": "QAT_DepthRanges_PurpleYellow2",
"description": "QAT Depth Identifier"
},
{
"help": "",
"name": "QAT_DepthRanges_PurpleYellow",
"description": "QAT Depth Identifier"
},
{
"help": "",
"name": "QAT_Modes_EM124",
"description": "QAT Modes for an EM124\n\n"
},
{
"help": "",
"name": "QAT_Modes_EM304",
"description": "QAT Modes for an EM304\n"
},
{
"help": "",
"name": "QAT_Modes_EM712",
"description": "QAT Modes for an EM712\n"
},
{
"help": "",
"name": "QAT_Modes_EM2040_200kHz",
"description": "QAT Modes for an EM2040 200 kHz\n\n"
},
{
"help": "",
"name": "QAT_Modes_EM2040_300kHz",
"description": "QAT Modes for an EM2040 300 kHz\n\n"
},
{
"help": "",
"name": "QAT_Modes_EM2040_400kHz",
"description": "QAT Modes for an EM2040 400 kHz\n\n"
},
{
"help": "",
"name": "QAT_Slope_0to2_Degrees_Green",
"description": "QAT Slope Identifier\n"
},
{
"help": "",
"name": "QAT_Slope_0to2_Green_2to4_Red",
"description": "QAT Slope Identifier\n"
},
{
"help": "",
"name": "QAT_Slope_0to5_Degrees_Green",
"description": "QAT Slope Identifier\n"
},
{
"help": "",
"name": "QAT_Slope_10to15blue_15to25green_25to30red",
"description": "QAT Slope Identifier\n"
},
{
"help": "",
"name": "QAT_Slope_10to30_Degrees_Green",
"description": "QAT Slope Identifier\n"
},
{
"help": "",
"name": "QAT_Slope_10to30_Degrees_Inferno",
"description": "QAT Slope Identifier\n"
},
{
"help": "",
"name": "QAT_Slope_15to25_Degrees_Green",
"description": "QAT Slope Identifier\n"
},
{
"help": "",
"name": "QAT_Slope_15to25_Degrees_Inferno",
"description": "QAT Slope Identifier\n"
},
{
"help": "",
"name": "Shaded Relief - BlueGreen- MD Hillshade 2",
"description": "Shaded Relief - BlueGreen - MD Hillshade 2"
},
{
"help": "",
"name": "Shaded Relief - Haxby - MD Hillshade 2",
"description": "Shaded Relief - Haxby - MD Hillshade 2"
},
{
"help": "",
"name": "Slope - Degrees - Inferno",
"description": "Slope - Degrees"
},
{
"help": "",
"name": "Slope - Degrees",
"description": "Slope - Degrees"
}
]}
Mensuration Capabilities: Basic
Inspection Capabilities:
Has Histograms: true
Has Colormap: false
Has Multi Dimensions : false
Rendering Rule:
Min Scale: 0
Max Scale: 0
Copyright Text:
Service Data Type: esriImageServiceDataTypeGeneric
Min Values: -10919
Max Values: 3155
Mean Values: -3399.9761305984998
Standard Deviation Values: 1746.4953928130001
Object ID Field:
Fields:
None
Default Mosaic Method: Center
Allowed Mosaic Methods:
SortField:
SortValue: N/A
Mosaic Operator: First
Default Compression Quality: 75
Default Resampling Method: Bilinear
Max Record Count: null
Max Image Height: 4100
Max Image Width: 15000
Max Download Image Count: null
Max Mosaic Image Count: null
Allow Raster Function: true
Allow Copy: true
Allow Analysis: true
Allow Compute TiePoints: false
Supports Statistics: false
Supports Advanced Queries: false
Use StandardizedQueries: false
Raster Type Infos:
Name: Raster Dataset
Description: Supports all ArcGIS Raster Datasets
Help:
Has Raster Attribute Table: false
Edit Fields Info: N/A
Ownership Based AccessControl For Rasters: N/A
Child Resources:
Info
Histograms
Statistics
Key Properties
Legend
Raster Function Infos
Supported Operations:
Export Image
Identify
Measure
Compute Histograms
Compute Statistics Histograms
Get Samples
Compute Class Statistics
Query Boundary
Compute Pixel Location
Compute Angles
Validate
Project