<?xml version="1.0" encoding="UTF-8" standalone="no"?>
<metadata xml:lang="en">
<Esri>
<CreaDate>20230605</CreaDate>
<CreaTime>10282000</CreaTime>
<ArcGISFormat>1.0</ArcGISFormat>
<SyncOnce>FALSE</SyncOnce>
<DataProperties>
<lineage>
<Process Date="20230605" Name="" Time="102820" ToolSource="c:\program files\arcgis\pro\Resources\ArcToolbox\toolboxes\Data Management Tools.tbx\CreateMosaicDataset" export="">CreateMosaicDataset X:\WGOM-LI-SNE\WGOM_LI_SNE.gdb Bathy_HiRes_20230605 PROJCS["WGS_1984_Web_Mercator_Auxiliary_Sphere",GEOGCS["GCS_WGS_1984",DATUM["D_WGS_1984",SPHEROID["WGS_1984",6378137.0,298.257223563]],PRIMEM["Greenwich",0.0],UNIT["Degree",0.0174532925199433]],PROJECTION["Mercator_Auxiliary_Sphere"],PARAMETER["False_Easting",0.0],PARAMETER["False_Northing",0.0],PARAMETER["Central_Meridian",0.0],PARAMETER["Standard_Parallel_1",0.0],PARAMETER["Auxiliary_Sphere_Type",0.0],UNIT["Meter",1.0]] # "32-bit floating point" None #</Process>
<Process Date="20230605" Name="" Time="150531" ToolSource="c:\program files\arcgis\pro\Resources\ArcToolbox\toolboxes\Data Management Tools.tbx\AddRastersToMosaicDataset" export="">AddRastersToMosaicDataset X:\WGOM-LI-SNE\WGOM_LI_SNE.gdb\Bathy_HiRes_20230605 "Raster Dataset" \\gis.ccom.unh.edu\GISdata\WGOM-LI-SNE\Bathymetry\HighResolution\MRF\LI_SNE_4m_05132020_WMAS.mrf;\\gis.ccom.unh.edu\GISdata\WGOM-LI-SNE\Bathymetry\HighResolution\MRF\WGOM_4m_05272020_WMAS.mrf;\\gis.ccom.unh.edu\GISdata\WGOM-LI-SNE\Bathymetry\HighResolution\MRF\WGOM_HiRes_Bathymetry_2m_V3pt9_WMAS.mrf UPDATE_CELL_SIZES UPDATE_BOUNDARY NO_OVERVIEWS # 0 1500 # # SUBFOLDERS "Allow duplicates" NO_PYRAMIDS NO_STATISTICS NO_THUMBNAILS # NO_FORCE_SPATIAL_REFERENCE ESTIMATE_STATISTICS # NO_PIXEL_CACHE C:\Users\pjohnson\AppData\Local\ESRI\ArcGISPro\Raster\Proxy\Bathy_HiRes_20230605</Process>
<Process Date="20230606" Name="" Time="153619" ToolSource="c:\program files\arcgis\pro\Resources\ArcToolbox\toolboxes\Data Management Tools.tbx\CopyRaster" export="">CopyRaster X:\WGOM-LI-SNE\WGOM_LI_SNE.gdb\Bathy_HiRes_20230605 X:\WGOM-LI-SNE\Bathymetry\HighResolution\MRF\WGOM_LI_SNE_Bathymetry_4m_WMAS.mrf # # 3.4e+38 NONE NONE "32 bit float" NONE NONE "Meta raster format" NONE CURRENT_SLICE NO_TRANSPOSE</Process>
<Process Date="20230608" Name="" Time="112145" ToolSource="c:\program files\arcgis\pro\Resources\ArcToolbox\toolboxes\Data Management Tools.tbx\Rename" export="">Rename \\gis.ccom.unh.edu\GISdata\WGOM-LI-SNE\Bathymetry\HighResolution\MRF\WGOM_LI_SNE_Bathymetry_4m_WMAS.mrf \\gis.ccom.unh.edu\GISdata\WGOM-LI-SNE\Bathymetry\HighResolution\MRF\WGOM_LI_SNE_Bathymetry_2m_WMAS.mrf #</Process>
</lineage>
<itemProps>
<itemName Sync="TRUE">WGOM_LI_SNE_Bathymetry_4m_WMAS.mrf</itemName>
<itemLocation>
<linkage Sync="TRUE">file://X:\WGOM-LI-SNE\Bathymetry\HighResolution\MRF\WGOM_LI_SNE_Bathymetry_4m_WMAS.mrf</linkage>
<protocol Sync="TRUE">Local Area Network</protocol>
</itemLocation>
<imsContentType Sync="TRUE">002</imsContentType>
<nativeExtBox>
<westBL Sync="TRUE">-8254538.767041</westBL>
<eastBL Sync="TRUE">-7454550.767041</eastBL>
<southBL Sync="TRUE">4898563.781963</southBL>
<northBL Sync="TRUE">5636591.781963</northBL>
<exTypeCode Sync="TRUE">1</exTypeCode>
</nativeExtBox>
</itemProps>
<coordRef>
<type Sync="TRUE">Projected</type>
<geogcsn Sync="TRUE">GCS_WGS_1984</geogcsn>
<csUnits Sync="TRUE">Linear Unit: Meter (1.000000)</csUnits>
<projcsn Sync="TRUE">WGS_1984_Web_Mercator_Auxiliary_Sphere</projcsn>
<peXml Sync="TRUE">&lt;ProjectedCoordinateSystem xsi:type='typens:ProjectedCoordinateSystem' xmlns:xsi='http://www.w3.org/2001/XMLSchema-instance' xmlns:xs='http://www.w3.org/2001/XMLSchema' xmlns:typens='http://www.esri.com/schemas/ArcGIS/3.1.0'&gt;&lt;WKT&gt;PROJCS[&amp;quot;WGS_1984_Web_Mercator_Auxiliary_Sphere&amp;quot;,GEOGCS[&amp;quot;GCS_WGS_1984&amp;quot;,DATUM[&amp;quot;D_WGS_1984&amp;quot;,SPHEROID[&amp;quot;WGS_1984&amp;quot;,6378137.0,298.257223563]],PRIMEM[&amp;quot;Greenwich&amp;quot;,0.0],UNIT[&amp;quot;Degree&amp;quot;,0.0174532925199433]],PROJECTION[&amp;quot;Mercator_Auxiliary_Sphere&amp;quot;],PARAMETER[&amp;quot;False_Easting&amp;quot;,0.0],PARAMETER[&amp;quot;False_Northing&amp;quot;,0.0],PARAMETER[&amp;quot;Central_Meridian&amp;quot;,0.0],PARAMETER[&amp;quot;Standard_Parallel_1&amp;quot;,0.0],PARAMETER[&amp;quot;Auxiliary_Sphere_Type&amp;quot;,0.0],UNIT[&amp;quot;Meter&amp;quot;,1.0],AUTHORITY[&amp;quot;EPSG&amp;quot;,3857]]&lt;/WKT&gt;&lt;XOrigin&gt;-20037700&lt;/XOrigin&gt;&lt;YOrigin&gt;-30241100&lt;/YOrigin&gt;&lt;XYScale&gt;148923141.92838538&lt;/XYScale&gt;&lt;ZOrigin&gt;-100000&lt;/ZOrigin&gt;&lt;ZScale&gt;10000&lt;/ZScale&gt;&lt;MOrigin&gt;-100000&lt;/MOrigin&gt;&lt;MScale&gt;10000&lt;/MScale&gt;&lt;XYTolerance&gt;0.001&lt;/XYTolerance&gt;&lt;ZTolerance&gt;0.001&lt;/ZTolerance&gt;&lt;MTolerance&gt;0.001&lt;/MTolerance&gt;&lt;HighPrecision&gt;true&lt;/HighPrecision&gt;&lt;WKID&gt;102100&lt;/WKID&gt;&lt;LatestWKID&gt;3857&lt;/LatestWKID&gt;&lt;/ProjectedCoordinateSystem&gt;</peXml>
</coordRef>
<RasterProperties>
<General>
<PixelDepth Sync="TRUE">32</PixelDepth>
<HasColormap Sync="TRUE">FALSE</HasColormap>
<CompressionType Sync="TRUE">LERC</CompressionType>
<NumBands Sync="TRUE">1</NumBands>
<Format Sync="TRUE">MRF</Format>
<HasPyramids Sync="TRUE">TRUE</HasPyramids>
<SourceType Sync="TRUE">continuous</SourceType>
<PixelType Sync="TRUE">floating point</PixelType>
<NoDataValue Sync="TRUE">3.4e+38</NoDataValue>
</General>
</RasterProperties>
</DataProperties>
<SyncDate>20230606</SyncDate>
<SyncTime>15243800</SyncTime>
<ModDate>20230609</ModDate>
<ModTime>9292700</ModTime>
<scaleRange>
<minScale>150000000</minScale>
<maxScale>5000</maxScale>
</scaleRange>
<ArcGISProfile>ItemDescription</ArcGISProfile>
</Esri>
<dataIdInfo>
<envirDesc Sync="TRUE">Microsoft Windows 10 Version 10.0 (Build 22621) ; Esri ArcGIS 13.1.0.41833</envirDesc>
<dataLang>
<languageCode Sync="TRUE" value="eng"/>
<countryCode Sync="TRUE" value="USA"/>
</dataLang>
<idCitation>
<resTitle Sync="TRUE">WGOM_LI_SNE_Bathymetry_2m_WMAS</resTitle>
<presForm>
<PresFormCd Sync="TRUE" value="005"/>
</presForm>
</idCitation>
<spatRpType>
<SpatRepTypCd Sync="TRUE" value="002"/>
</spatRpType>
<dataExt>
<geoEle>
<GeoBndBox esriExtentType="search">
<exTypeCode Sync="TRUE">1</exTypeCode>
<westBL Sync="TRUE">-74.151783</westBL>
<eastBL Sync="TRUE">-66.965369</eastBL>
<northBL Sync="TRUE">45.095647</northBL>
<southBL Sync="TRUE">40.224116</southBL>
</GeoBndBox>
</geoEle>
</dataExt>
<idPurp>The Western Gulf of Maine, Long Island, and Southern New England bathymetric compilation.</idPurp>
<idAbs>&lt;DIV STYLE="text-align:Left;"&gt;&lt;DIV&gt;&lt;DIV&gt;&lt;P&gt;&lt;SPAN&gt;The Western Gulf of Maine, Long Island, and Southern New England bathymetric compilation. This dataset was made by combining all available bathymetric sources into a single dataset. It should be noted that although the dataset is provided at a 2 meter grid cell size, the contributing data was not necessarily at that resolution.&lt;/SPAN&gt;&lt;/P&gt;&lt;/DIV&gt;&lt;/DIV&gt;&lt;/DIV&gt;</idAbs>
<idCredit>This work is licensed under the Creative Commons CC0 license (https://creativecommons.org/publicdomain/zero/1.0/legalcode)</idCredit>
<searchKeys>
<keyword>Western Gulf of Maine</keyword>
<keyword>Long Island</keyword>
<keyword>Southern New England</keyword>
<keyword>Bathymetry</keyword>
</searchKeys>
<resConst>
<Consts>
<useLimit>&lt;DIV STYLE="text-align:Left;"&gt;&lt;DIV&gt;&lt;DIV&gt;&lt;P&gt;&lt;SPAN&gt;Not to be used for navigation.&lt;/SPAN&gt;&lt;/P&gt;&lt;/DIV&gt;&lt;/DIV&gt;&lt;/DIV&gt;</useLimit>
</Consts>
</resConst>
</dataIdInfo>
<mdLang>
<languageCode Sync="TRUE" value="eng"/>
<countryCode Sync="TRUE" value="USA"/>
</mdLang>
<distInfo>
<distFormat>
<formatName Sync="TRUE">Raster Dataset</formatName>
</distFormat>
</distInfo>
<mdHrLv>
<ScopeCd Sync="TRUE" value="005"/>
</mdHrLv>
<mdHrLvName Sync="TRUE">dataset</mdHrLvName>
<refSysInfo>
<RefSystem>
<refSysID>
<identCode Sync="TRUE" code="3857"/>
<idCodeSpace Sync="TRUE">EPSG</idCodeSpace>
<idVersion Sync="TRUE">6.18.3(9.3.1.2)</idVersion>
</refSysID>
</RefSystem>
</refSysInfo>
<spatRepInfo>
<Georect>
<cellGeo>
<CellGeoCd Sync="TRUE" value="002"/>
</cellGeo>
<numDims Sync="TRUE">2</numDims>
<tranParaAv Sync="TRUE">1</tranParaAv>
<chkPtAv Sync="TRUE">0</chkPtAv>
<cornerPts>
<pos Sync="TRUE">-8254538.767041 4898563.781963</pos>
</cornerPts>
<cornerPts>
<pos Sync="TRUE">-8254538.767041 5636591.781963</pos>
</cornerPts>
<cornerPts>
<pos Sync="TRUE">-7454550.767041 5636591.781963</pos>
</cornerPts>
<cornerPts>
<pos Sync="TRUE">-7454550.767041 4898563.781963</pos>
</cornerPts>
<centerPt>
<pos Sync="TRUE">-7854544.767041 5267577.781963</pos>
</centerPt>
<axisDimension type="002">
<dimSize Sync="TRUE">399994</dimSize>
<dimResol>
<value Sync="TRUE" uom="m">2.000000</value>
</dimResol>
</axisDimension>
<axisDimension type="001">
<dimSize Sync="TRUE">369014</dimSize>
<dimResol>
<value Sync="TRUE" uom="m">2.000000</value>
</dimResol>
</axisDimension>
<ptInPixel>
<PixOrientCd Sync="TRUE" value="001"/>
</ptInPixel>
</Georect>
</spatRepInfo>
<contInfo>
<ImgDesc>
<contentTyp>
<ContentTypCd Sync="TRUE" value="001"/>
</contentTyp>
<covDim>
<Band>
<dimDescrp Sync="TRUE">Band_1</dimDescrp>
<bitsPerVal Sync="TRUE">32</bitsPerVal>
<valUnit>
<UOM type="length"/>
</valUnit>
</Band>
</covDim>
</ImgDesc>
</contInfo>
<mdDateSt Sync="TRUE">20230609</mdDateSt>
</metadata>
