{
 "extent": {
  "ymin": 11.7823926,
  "xmin": -28.001180770000001,
  "ymax": 20.876892600000001,
  "xmax": -19.037180769999999,
  "spatialReference": {
   "wkt": "GEOGCS[\"GCS_WGS_1984\",DATUM[\"D_WGS_1984\",SPHEROID[\"WGS_1984\",6378137.0,298.257223563]],PRIMEM[\"Greenwich\",0.0],UNIT[\"Degree\",0.0174532925199433]],VERTCS[\"unknown\",VDATUM[\"unknown\"],PARAMETER[\"Vertical_Shift\",0.0],PARAMETER[\"Direction\",1.0],UNIT[\"Meter\",1.0]]",
   "wkt2": "COMPOUNDCRS[\"\",GEOGCRS[\"GCS_WGS_1984\",DYNAMIC[FRAMEEPOCH[1990.5],MODEL[\"AM0-2\"]],DATUM[\"D_WGS_1984\",ELLIPSOID[\"WGS_1984\",6378137.0,298.257223563]],PRIMEM[\"Greenwich\",0.0],CS[ellipsoidal,2],AXIS[\"Latitude (lat)\",north,ORDER[1]],AXIS[\"Longitude (lon)\",east,ORDER[2]],ANGLEUNIT[\"Degree\",0.0174532925199433]],VERTCRS[\"unknown\",VDATUM[\"unknown\"],CS[vertical,1],AXIS[\"Gravity-related height (H)\",up,LENGTHUNIT[\"Meter\",1.0]]]]"
  }
 },
 "blockWidth": 128,
 "mosaicOperator": "First",
 "serviceSourceType": "esriImageServiceSourceTypeDataset",
 "hasMultidimensions": false,
 "maxImageWidth": 15000,
 "meanValues": [
  -3759.4853764651998
 ],
 "hasColormap": false,
 "compressionType": "LERC",
 "defaultCompressionQuality": 75,
 "maxValues": [
  -15.739999771118001
 ],
 "hasHistograms": true,
 "datasetFormat": "MRF",
 "maxImageHeight": 15000,
 "sortField": "",
 "bandNames": [
  "Band_1"
 ],
 "spatialReference": {
  "wkt": "GEOGCS[\"GCS_WGS_1984\",DATUM[\"D_WGS_1984\",SPHEROID[\"WGS_1984\",6378137.0,298.257223563]],PRIMEM[\"Greenwich\",0.0],UNIT[\"Degree\",0.0174532925199433]],VERTCS[\"unknown\",VDATUM[\"unknown\"],PARAMETER[\"Vertical_Shift\",0.0],PARAMETER[\"Direction\",1.0],UNIT[\"Meter\",1.0]]",
  "wkt2": "COMPOUNDCRS[\"\",GEOGCRS[\"GCS_WGS_1984\",DYNAMIC[FRAMEEPOCH[1990.5],MODEL[\"AM0-2\"]],DATUM[\"D_WGS_1984\",ELLIPSOID[\"WGS_1984\",6378137.0,298.257223563]],PRIMEM[\"Greenwich\",0.0],CS[ellipsoidal,2],AXIS[\"Latitude (lat)\",north,ORDER[1]],AXIS[\"Longitude (lon)\",east,ORDER[2]],ANGLEUNIT[\"Degree\",0.0174532925199433]],VERTCRS[\"unknown\",VDATUM[\"unknown\"],CS[vertical,1],AXIS[\"Gravity-related height (H)\",up,LENGTHUNIT[\"Meter\",1.0]]]]"
 },
 "fullExtent": {
  "ymin": 11.7823926,
  "xmin": -28.001180770000001,
  "ymax": 20.876892600000001,
  "xmax": -19.037180769999999,
  "spatialReference": {
   "wkt": "GEOGCS[\"GCS_WGS_1984\",DATUM[\"D_WGS_1984\",SPHEROID[\"WGS_1984\",6378137.0,298.257223563]],PRIMEM[\"Greenwich\",0.0],UNIT[\"Degree\",0.0174532925199433]],VERTCS[\"unknown\",VDATUM[\"unknown\"],PARAMETER[\"Vertical_Shift\",0.0],PARAMETER[\"Direction\",1.0],UNIT[\"Meter\",1.0]]",
   "wkt2": "COMPOUNDCRS[\"\",GEOGCRS[\"GCS_WGS_1984\",DYNAMIC[FRAMEEPOCH[1990.5],MODEL[\"AM0-2\"]],DATUM[\"D_WGS_1984\",ELLIPSOID[\"WGS_1984\",6378137.0,298.257223563]],PRIMEM[\"Greenwich\",0.0],CS[ellipsoidal,2],AXIS[\"Latitude (lat)\",north,ORDER[1]],AXIS[\"Longitude (lon)\",east,ORDER[2]],ANGLEUNIT[\"Degree\",0.0174532925199433]],VERTCRS[\"unknown\",VDATUM[\"unknown\"],CS[vertical,1],AXIS[\"Gravity-related height (H)\",up,LENGTHUNIT[\"Meter\",1.0]]]]"
  }
 },
 "bandCount": 1,
 "rasterFunctionInfos": [
  {
   "help": "",
   "name": "None",
   "description": "Make a Raster or Raster Dataset into a Function Raster Dataset."
  },
  {
   "help": "",
   "name": "AspectSlope",
   "description": "Creates a raster that simultaneously displays the aspect (direction) and slope(steepness) of a continuous surface, as represented in a digital elevation model."
  },
  {
   "help": "",
   "name": "Aspect",
   "description": "Shows which direction a pixel is facing, where 0 is due north and angles increase clockwise to 360."
  },
  {
   "help": "",
   "name": "Contour - 20m",
   "description": "Contour - 20m"
  },
  {
   "help": "",
   "name": "Contour - 50m",
   "description": "Contour - 50m"
  },
  {
   "help": "",
   "name": "Contour - 100m",
   "description": "Contour - 100m"
  },
  {
   "help": "",
   "name": "Contour - 200m",
   "description": "Contour - 200m"
  },
  {
   "help": "",
   "name": "Contour - 250m",
   "description": "Contour - 250m"
  },
  {
   "help": "",
   "name": "Contour - 500m",
   "description": "Contour - 500m"
  },
  {
   "help": "",
   "name": "Contour - 1000m",
   "description": "Contour - 1000m"
  },
  {
   "help": "",
   "name": "Contour_200m_Fill",
   "description": "Contour 200m filled"
  },
  {
   "help": "",
   "name": "DAR - PerClip - 0.5 - BlueGreen",
   "description": "Dynamic Range Adjustent - Std Dev - BlueGreen"
  },
  {
   "help": "",
   "name": "DAR - PerClip - 0.5- Haxby",
   "description": "Dynamic Range Adjustent - Std Dev - Haxby"
  },
  {
   "help": "",
   "name": "DAR - PerClip - 2 - BlueGreen",
   "description": "Dynamic Range Adjustent - Std Dev - BlueGreen"
  },
  {
   "help": "",
   "name": "DAR - PerClip - 2 - Haxby",
   "description": "Dynamic Range Adjustent - Std Dev - Haxby"
  },
  {
   "help": "",
   "name": "DAR - StdDev - BlueGreen",
   "description": "Dynamic Range Adjustent - Std Dev - BlueGreen"
  },
  {
   "help": "",
   "name": "DAR - StdDev - Haxby",
   "description": "Dynamic Range Adjustent - Std Dev - Haxby"
  },
  {
   "help": "",
   "name": "Multidirectional Hillshade 1.5x",
   "description": "Multidirectional hillshade 2x"
  },
  {
   "help": "",
   "name": "Multidirectional Hillshade 1x",
   "description": "Multidirectional hillshade 1x"
  },
  {
   "help": "",
   "name": "Multidirectional Hillshade 2x",
   "description": "Multidirectional hillshade 2x"
  },
  {
   "help": "",
   "name": "Multidirectional Hillshade 3x",
   "description": "Multidirectional hillshade 2x"
  },
  {
   "help": "",
   "name": "QAT_Depth_0to1000m",
   "description": "QAT Depth Identifier"
  },
  {
   "help": "",
   "name": "QAT_Depth_1000to2000m",
   "description": "QAT Depth Identifier"
  },
  {
   "help": "",
   "name": "QAT_Depth_2000to3000m",
   "description": "QAT Depth Identifier"
  },
  {
   "help": "",
   "name": "QAT_Depth_3000to4000m",
   "description": "QAT Depth Identifier"
  },
  {
   "help": "",
   "name": "QAT_Depth_4000to5000m",
   "description": "QAT Depth Identifier"
  },
  {
   "help": "",
   "name": "QAT_Depth_5000to6000m",
   "description": "QAT Depth Identifier"
  },
  {
   "help": "",
   "name": "QAT_Depth_6000to7000m",
   "description": "QAT Depth Identifier"
  },
  {
   "help": "",
   "name": "QAT_Depth_7000to8000m",
   "description": "QAT Depth Identifier"
  },
  {
   "help": "",
   "name": "QAT_Depth_8000to9000m",
   "description": "QAT Depth Identifier"
  },
  {
   "help": "",
   "name": "QAT_Depth_9000to10000m",
   "description": "QAT Depth Identifier"
  },
  {
   "help": "",
   "name": "QAT_Depth_10000to11000m",
   "description": "QAT Depth Identifier"
  },
  {
   "help": "",
   "name": "QAT_DepthRanges_BlueGreen",
   "description": "QAT Depth Identifier"
  },
  {
   "help": "",
   "name": "QAT_DepthRanges_Grey",
   "description": "QAT Depth Identifier"
  },
  {
   "help": "",
   "name": "QAT_DepthRanges_PurpleYellow2",
   "description": "QAT Depth Identifier"
  },
  {
   "help": "",
   "name": "QAT_DepthRanges_PurpleYellow",
   "description": "QAT Depth Identifier"
  },
  {
   "help": "",
   "name": "QAT_Modes_EM124",
   "description": "QAT Modes for an EM124\n\n"
  },
  {
   "help": "",
   "name": "QAT_Modes_EM302",
   "description": "QAT Modes for an EM302\n"
  },
  {
   "help": "",
   "name": "QAT_Modes_EM303",
   "description": "QAT Modes for an EM302\n"
  },
  {
   "help": "",
   "name": "QAT_Modes_EM304",
   "description": "QAT Modes for an EM304\n"
  },
  {
   "help": "",
   "name": "QAT_Modes_EM712",
   "description": "QAT Modes for an EM712\n"
  },
  {
   "help": "",
   "name": "QAT_Modes_EM2040_200kHz",
   "description": "QAT Modes for an EM2040 200 kHz\n\n"
  },
  {
   "help": "",
   "name": "QAT_Modes_EM2040_300kHz",
   "description": "QAT Modes for an EM2040 300 kHz\n\n"
  },
  {
   "help": "",
   "name": "QAT_Modes_EM2040_400kHz",
   "description": "QAT Modes for an EM2040 400 kHz\n\n"
  },
  {
   "help": "",
   "name": "QAT_Slope_0to2_Degrees_Green",
   "description": "QAT Slope Identifier\n"
  },
  {
   "help": "",
   "name": "QAT_Slope_0to2_Green_2to4_Red",
   "description": "QAT Slope Identifier\n"
  },
  {
   "help": "",
   "name": "QAT_Slope_0to4_Degrees_Green",
   "description": "QAT Slope Identifier\n"
  },
  {
   "help": "",
   "name": "QAT_Slope_10to15blue_15to25green_25to30red",
   "description": "QAT Slope Identifier\n"
  },
  {
   "help": "",
   "name": "QAT_Slope_10to30_Degrees_Green",
   "description": "QAT Slope Identifier\n"
  },
  {
   "help": "",
   "name": "QAT_Slope_10to30_Degrees_Inferno",
   "description": "QAT Slope Identifier\n"
  },
  {
   "help": "",
   "name": "QAT_Slope_15to25_Degrees_Green",
   "description": "QAT Slope Identifier\n"
  },
  {
   "help": "",
   "name": "QAT_Slope_15to25_Degrees_Inferno",
   "description": "QAT Slope Identifier\n"
  },
  {
   "help": "",
   "name": "QAT_Slopes_0to2_Degrees_Green",
   "description": "QAT Slope Identifier\n"
  },
  {
   "help": "",
   "name": "Set Elevations Above 0 to Null",
   "description": "Set Elevations Above 0 to Null"
  },
  {
   "help": "",
   "name": "Set Elevations Below 0 to Null",
   "description": "Set Elevations Below 0 to Null"
  },
  {
   "help": "",
   "name": "Shaded Relief - BlueGreen- MD Hillshade 2",
   "description": "Shaded Relief - BlueGreen - MD Hillshade 2"
  },
  {
   "help": "",
   "name": "Shaded Relief - Haxby - MD Hillshade 2",
   "description": "Shaded Relief - Haxby - MD Hillshade 2"
  },
  {
   "help": "",
   "name": "Slope - Degrees - Inferno",
   "description": "Slope - Degrees"
  },
  {
   "help": "",
   "name": "Slope - Degrees",
   "description": "Slope - Degrees"
  },
  {
   "help": "",
   "name": "Surface Parameters",
   "description": "Calculates parameters of a raster surface such as aspect, slope, and curvature using geodesic methods."
  }
 ],
 "supportsStatistics": false,
 "sortableFields": "",
 "minValues": [
  -6826.1000976562
 ],
 "allowRasterFunction": true,
 "allowComputeTiePoints": false,
 "serviceDataType": "esriImageServiceDataTypeGeneric",
 "supportsAdvancedQueries": false,
 "currentVersion": 12.1,
 "heightModelInfo": {
  "vertCRS": "unknown",
  "heightModel": "gravity_related_height",
  "heightUnit": "meter"
 },
 "sortValue": null,
 "objectIdField": "",
 "blockHeight": 128,
 "initialExtent": {
  "ymin": 11.7823926,
  "xmin": -28.001180770000001,
  "ymax": 20.876892600000001,
  "xmax": -19.037180769999999,
  "spatialReference": {
   "wkt": "GEOGCS[\"GCS_WGS_1984\",DATUM[\"D_WGS_1984\",SPHEROID[\"WGS_1984\",6378137.0,298.257223563]],PRIMEM[\"Greenwich\",0.0],UNIT[\"Degree\",0.0174532925199433]],VERTCS[\"unknown\",VDATUM[\"unknown\"],PARAMETER[\"Vertical_Shift\",0.0],PARAMETER[\"Direction\",1.0],UNIT[\"Meter\",1.0]]",
   "wkt2": "COMPOUNDCRS[\"\",GEOGCRS[\"GCS_WGS_1984\",DYNAMIC[FRAMEEPOCH[1990.5],MODEL[\"AM0-2\"]],DATUM[\"D_WGS_1984\",ELLIPSOID[\"WGS_1984\",6378137.0,298.257223563]],PRIMEM[\"Greenwich\",0.0],CS[ellipsoidal,2],AXIS[\"Latitude (lat)\",north,ORDER[1]],AXIS[\"Longitude (lon)\",east,ORDER[2]],ANGLEUNIT[\"Degree\",0.0174532925199433]],VERTCRS[\"unknown\",VDATUM[\"unknown\"],CS[vertical,1],AXIS[\"Gravity-related height (H)\",up,LENGTHUNIT[\"Meter\",1.0]]]]"
  }
 },
 "pixelSizeX": 0.00050000000000000012,
 "pixelSizeY": 0.00050000000000000012,
 "defaultMosaicMethod": "Center",
 "name": "MAC/CapeVerde_HiRes_50m_GCS_mrf",
 "allowedMosaicMethods": "",
 "fields": [],
 "allowAnalysis": true,
 "hasRasterAttributeTable": false,
 "useStandardizedQueries": false,
 "description": "",
 "pixelType": "F32",
 "meanPixelSize": 55.659745396636794,
 "exportTilesAllowed": false,
 "editFieldsInfo": null,
 "rasterTypeInfos": [
  {
   "help": "",
   "name": "Raster Dataset",
   "description": "Supports all ArcGIS Raster Datasets"
  }
 ],
 "defaultResamplingMethod": "Bilinear",
 "itemAccess": false,
 "minScale": 0,
 "serviceProperties": "Center<\/MosaicMethod>First<\/MosaicOperator>true<\/SortAscending><\/LockImageID><\/TileOrderField>0<\/TileOrderBase>0.000000<\/AvgImageSpacingX>0.000000<\/AvgImageSpacingY>0.0<\/ViewPointX>0.0<\/ViewPointY>0.0<\/ViewPointDefShiftX>0.0<\/ViewPointDefShiftY>None<\/CompressionMethod>75<\/CompressionQuality>0.010000<\/CompressionTolerance>Bilinear<\/SamplingMethod><\/ImageServiceProperties><\/ImageServer>",
 "advancedQueryCapabilities": {
  "supportsStatistics": false,
  "supportsSqlExpression": false,
  "supportsOrderBy": false,
  "useStandardizedQueries": false,
  "supportsPagination": false,
  "supportsDistinct": false
 },
 "serviceItemId": "faaa91e086f349e1919ad90d6adc0140",
 "capabilities": "Image,Metadata,Mensuration",
 "maxScale": 0,
 "stdvValues": [
  825.42377206133995
 ],
 "allowedFields": "",
 "minPixelSize": 0,
 "noDataValues": [
  -9999
 ],
 "sortAscending": true,
 "inspectionCapabilities": "",
 "maxPixelSize": 0,
 "noDataValue": -9999,
 "allowedCompressions": "None,JPEG,LZ77,LERC",
 "uncompressedSize": 1304369568,
 "serviceDescription": "MAC/CapeVerde_HiRes_50m_GCS_mrf",
 "allowCopy": true,
 "copyrightText": "",
 "mensurationCapabilities": "Basic",
 "ownershipBasedAccessControlForRasters": null
}
