{ "extent": { "ymin": 1189389.5965340398, "xmin": 15349962.897626918, "ymax": 2725689.5965340398, "xmax": 16684262.897626918, "spatialReference": { "latestWkid": 3857, "wkid": 102100 } }, "blockWidth": 128, "mosaicOperator": "First", "serviceSourceType": "esriImageServiceSourceTypeDataset", "hasMultidimensions": false, "maxImageWidth": 10000, "meanValues": [-4454.7518025395002], "hasColormap": false, "compressionType": "LZW", "defaultCompressionQuality": 75, "maxValues": [-32.21728515625], "hasHistograms": true, "datasetFormat": "TIFF", "maxImageHeight": 10000, "sortField": "", "bandNames": ["Band_1"], "spatialReference": { "latestWkid": 3857, "wkid": 102100 }, "fullExtent": { "ymin": 1189389.5965340398, "xmin": 15349962.897626918, "ymax": 2725689.5965340398, "xmax": 16684262.897626918, "spatialReference": { "latestWkid": 3857, "wkid": 102100 } }, "bandCount": 1, "rasterFunctionInfos": [ { "help": "", "name": "Shaded Relief - Haxby - MD Hillshade 2", "description": "Shaded Relief - Haxby - MD Hillshade 2" }, { "help": "", "name": "AspectSlope", "description": "Creates a raster that simultaneously displays the aspect (direction) and slope(steepness) of a continuous surface, as represented in a digital elevation model." }, { "help": "", "name": "Aspect", "description": "Shows which direction a pixel is facing, where 0 is due north and angles increase clockwise to 360." }, { "help": "", "name": "Contour - 20m", "description": "Contour - 20m" }, { "help": "", "name": "Contour - 50m", "description": "Contour - 50m" }, { "help": "", "name": "Contour - 100m", "description": "Contour - 100m" }, { "help": "", "name": "Contour - 200m", "description": "Contour - 200m" }, { "help": "", "name": "Contour - 250m", "description": "Contour - 250m" }, { "help": "", "name": "Contour - 500m", "description": "Contour - 500m" }, { "help": "", "name": "Contour - 1000m", "description": "Contour - 1000m" }, { "help": "", "name": "Contour_200m_Fill", "description": "Contour 200m filled" }, { "help": "", "name": "DAR - PerClip - 0.5 - BlueGreen", "description": "Dynamic Range Adjustent - Std Dev - BlueGreen" }, { "help": "", "name": "DAR - PerClip - 0.5- Haxby", "description": "Dynamic Range Adjustent - Std Dev - Haxby" }, { "help": "", "name": "DAR - PerClip - 2 - BlueGreen", "description": "Dynamic Range Adjustent - Std Dev - BlueGreen" }, { "help": "", "name": "DAR - PerClip - 2 - Haxby", "description": "Dynamic Range Adjustent - Std Dev - Haxby" }, { "help": "", "name": "DAR - StdDev - BlueGreen", "description": "Dynamic Range Adjustent - Std Dev - BlueGreen" }, { "help": "", "name": "DAR - StdDev - Haxby", "description": "Dynamic Range Adjustent - Std Dev - Haxby" }, { "help": "", "name": "Multidirectional Hillshade 1.5x", "description": "Multidirectional hillshade 2x" }, { "help": "", "name": "Multidirectional Hillshade 1x", "description": "Multidirectional hillshade 1x" }, { "help": "", "name": "Multidirectional Hillshade 2x", "description": "Multidirectional hillshade 2x" }, { "help": "", "name": "Multidirectional Hillshade 3x", "description": "Multidirectional hillshade 2x" }, { "help": "", "name": "PerClip - 2 - BlueGreen", "description": "Percentage Clip 2 - Blue Green\n" }, { "help": "", "name": "PerClip - 2 - Haxby", "description": "Percentage Clip - 2 - Haxby" }, { "help": "", "name": "QAT_Depth_0to1000m", "description": "QAT Depth Identifier" }, { "help": "", "name": "QAT_Depth_1000to2000m", "description": "QAT Depth Identifier" }, { "help": "", "name": "QAT_Depth_2000to3000m", "description": "QAT Depth Identifier" }, { "help": "", "name": "QAT_Depth_3000to4000m", "description": "QAT Depth Identifier" }, { "help": "", "name": "QAT_Depth_4000to5000m", "description": "QAT Depth Identifier" }, { "help": "", "name": "QAT_Depth_5000to6000m", "description": "QAT Depth Identifier" }, { "help": "", "name": "QAT_Depth_6000to7000m", "description": "QAT Depth Identifier" }, { "help": "", "name": "QAT_Depth_7000to8000m", "description": "QAT Depth Identifier" }, { "help": "", "name": "QAT_Depth_8000to9000m", "description": "QAT Depth Identifier" }, { "help": "", "name": "QAT_Depth_9000to10000m", "description": "QAT Depth Identifier" }, { "help": "", "name": "QAT_Depth_10000to11000m", "description": "QAT Depth Identifier" }, { "help": "", "name": "QAT_DepthRanges_BlueGreen", "description": "QAT Depth Identifier" }, { "help": "", "name": "QAT_DepthRanges_Grey", "description": "QAT Depth Identifier" }, { "help": "", "name": "QAT_DepthRanges_PurpleYellow2", "description": "QAT Depth Identifier" }, { "help": "", "name": "QAT_DepthRanges_PurpleYellow", "description": "QAT Depth Identifier" }, { "help": "", "name": "QAT_Modes_EM124", "description": "QAT Modes for an EM124\n\n" }, { "help": "", "name": "QAT_Modes_EM302", "description": "QAT Modes for an EM302\n" }, { "help": "", "name": "QAT_Modes_EM303", "description": "QAT Modes for an EM302\n" }, { "help": "", "name": "QAT_Modes_EM304", "description": "QAT Modes for an EM304\n" }, { "help": "", "name": "QAT_Modes_EM712", "description": "QAT Modes for an EM712\n" }, { "help": "", "name": "QAT_Modes_EM2040_200kHz", "description": "QAT Modes for an EM2040 200 kHz\n\n" }, { "help": "", "name": "QAT_Modes_EM2040_300kHz", "description": "QAT Modes for an EM2040 300 kHz\n\n" }, { "help": "", "name": "QAT_Modes_EM2040_400kHz", "description": "QAT Modes for an EM2040 400 kHz\n\n" }, { "help": "", "name": "QAT_Slope_0to2_Degrees_Green", "description": "QAT Slope Identifier\n" }, { "help": "", "name": "QAT_Slope_0to2_Green_2to4_Red", "description": "QAT Slope Identifier\n" }, { "help": "", "name": "QAT_Slope_0to4_Degrees_Green", "description": "QAT Slope Identifier\n" }, { "help": "", "name": "QAT_Slope_10to15blue_15to25green_25to30red", "description": "QAT Slope Identifier\n" }, { "help": "", "name": "QAT_Slope_10to30_Degrees_Green", "description": "QAT Slope Identifier\n" }, { "help": "", "name": "QAT_Slope_10to30_Degrees_Inferno", "description": "QAT Slope Identifier\n" }, { "help": "", "name": "QAT_Slope_15to25_Degrees_Green", "description": "QAT Slope Identifier\n" }, { "help": "", "name": "QAT_Slope_15to25_Degrees_Inferno", "description": "QAT Slope Identifier\n" }, { "help": "", "name": "QAT_Slopes_0to2_Degrees_Green", "description": "QAT Slope Identifier\n" }, { "help": "", "name": "Set Elevations Above 0 to Null", "description": "Set Elevations Above 0 to Null" }, { "help": "", "name": "Set Elevations Below 0 to Null", "description": "Set Elevations Below 0 to Null" }, { "help": "", "name": "Shaded Relief - BlueGreen- MD Hillshade 2", "description": "Shaded Relief - BlueGreen - MD Hillshade 2" }, { "help": "", "name": "Slope - Degrees - Inferno", "description": "Slope - Degrees" }, { "help": "", "name": "Slope - Degrees", "description": "Slope - Degrees" }, { "help": "", "name": "StdDev - BlueGreen", "description": "Std Dev - BlueGreen" }, { "help": "", "name": "StdDev - Haxby", "description": "Std Dev - Haxby" }, { "help": "", "name": "Surface Parameters", "description": "Calculates parameters of a raster surface such as aspect, slope, and curvature using geodesic methods." }, { "help": "", "name": "None", "description": "" } ], "supportsStatistics": false, "sortableFields": "", "minValues": [-10943.990234375], "allowRasterFunction": true, "allowComputeTiePoints": false, "serviceDataType": "esriImageServiceDataTypeElevation", "supportsAdvancedQueries": false, "currentVersion": 12.1, "sortValue": null, "objectIdField": "", "blockHeight": 128, "initialExtent": { "ymin": 1189389.5965340398, "xmin": 15349962.897626918, "ymax": 2725689.5965340398, "xmax": 16684262.897626918, "spatialReference": { "latestWkid": 3857, "wkid": 102100 } }, "pixelSizeX": 100, "pixelSizeY": 100, "defaultMosaicMethod": "Center", "name": "LOTS_Marianas/marianas_ecsbathymetry_201906_wmas_IS", "allowedMosaicMethods": "", "fields": [], "allowAnalysis": true, "hasRasterAttributeTable": false, "useStandardizedQueries": false, "description": "
Gridded (100 m/pixel) full coverage, processed multibeam bathymetry data. Data were reduced for position, elevation, orientation, water-column sound-speed and refraction effects and are provided as a cleaned gridded ESRI bathymetry grid. Cruises which are included in this synthesis are BD06-01, BD07-01, SU10-01, SU10-02, FS1601, EX1605L1, EX1605L2, and EX1605L3.<\/span><\/p><\/div><\/div><\/div>",
"pixelType": "F32",
"meanPixelSize": 100,
"exportTilesAllowed": false,
"editFieldsInfo": null,
"rasterTypeInfos": [{
"help": "",
"name": "Raster Dataset",
"description": "Supports all ArcGIS Raster Datasets"
}],
"defaultResamplingMethod": "Bilinear",
"itemAccess": false,
"minScale": 0,
"serviceProperties": " Gridded (100 m/pixel) full coverage, processed multibeam bathymetry data. Data were reduced for position, elevation, orientation, water-column sound-speed and refraction effects and are provided as a cleaned gridded ESRI bathymetry grid. Cruises which are included in this synthesis are BD06-01, BD07-01, SU10-01, SU10-02, FS1601, EX1605L1, EX1605L2, and EX1605L3.<\/span><\/p><\/div><\/div><\/div>",
"allowCopy": true,
"copyrightText": "The bathymetry grid is the Copyright of the University of New Hampshire - Copyright 2019 The University of New Hampshire and its Center for Coastal and Ocean Mapping/Joint Hydrographic Center, Durham, NH 03824. Any redistribution or reproduction of part or all of the contents in any form is granted with the following restrictions: You must attribute ownership of the copyrighted contents of this grid to the rightful owner, the University of New Hampshire. The UNH Center for Coastal and Ocean Mapping operates in partnership with the National Oceanic and Atmospheric Administration.",
"mensurationCapabilities": "Basic,3D",
"ownershipBasedAccessControlForRasters": null
}