<?xml version="1.0" encoding="UTF-8" standalone="no"?>
<metadata xml:lang="en">
<Esri>
<CreaDate>20190711</CreaDate>
<CreaTime>13155200</CreaTime>
<ArcGISFormat>1.0</ArcGISFormat>
<SyncOnce>FALSE</SyncOnce>
<DataProperties>
<itemProps>
<itemName Sync="TRUE">marianas_ecsbathymetry_201906_wmas.tif</itemName>
<imsContentType Sync="FALSE" export="False">003</imsContentType>
<nativeExtBox>
<westBL Sync="TRUE">15349962.897627</westBL>
<eastBL Sync="TRUE">16684262.897627</eastBL>
<southBL Sync="TRUE">1189389.596534</southBL>
<northBL Sync="TRUE">2725689.596534</northBL>
<exTypeCode Sync="TRUE">1</exTypeCode>
</nativeExtBox>
</itemProps>
<coordRef>
<type Sync="TRUE">Projected</type>
<geogcsn Sync="TRUE">GCS_WGS_1984</geogcsn>
<csUnits Sync="TRUE">Linear Unit: Meter (1.000000)</csUnits>
<projcsn Sync="TRUE">WGS_1984_Web_Mercator_Auxiliary_Sphere</projcsn>
<peXml Sync="TRUE">&lt;ProjectedCoordinateSystem xsi:type='typens:ProjectedCoordinateSystem' xmlns:xsi='http://www.w3.org/2001/XMLSchema-instance' xmlns:xs='http://www.w3.org/2001/XMLSchema' xmlns:typens='http://www.esri.com/schemas/ArcGIS/2.8.0'&gt;&lt;WKT&gt;PROJCS[&amp;quot;WGS_1984_Web_Mercator_Auxiliary_Sphere&amp;quot;,GEOGCS[&amp;quot;GCS_WGS_1984&amp;quot;,DATUM[&amp;quot;D_WGS_1984&amp;quot;,SPHEROID[&amp;quot;WGS_1984&amp;quot;,6378137.0,298.257223563]],PRIMEM[&amp;quot;Greenwich&amp;quot;,0.0],UNIT[&amp;quot;Degree&amp;quot;,0.0174532925199433]],PROJECTION[&amp;quot;Mercator_Auxiliary_Sphere&amp;quot;],PARAMETER[&amp;quot;False_Easting&amp;quot;,0.0],PARAMETER[&amp;quot;False_Northing&amp;quot;,0.0],PARAMETER[&amp;quot;Central_Meridian&amp;quot;,0.0],PARAMETER[&amp;quot;Standard_Parallel_1&amp;quot;,0.0],PARAMETER[&amp;quot;Auxiliary_Sphere_Type&amp;quot;,0.0],UNIT[&amp;quot;Meter&amp;quot;,1.0],AUTHORITY[&amp;quot;EPSG&amp;quot;,3857]]&lt;/WKT&gt;&lt;XOrigin&gt;-20037700&lt;/XOrigin&gt;&lt;YOrigin&gt;-30241100&lt;/YOrigin&gt;&lt;XYScale&gt;148923141.92838538&lt;/XYScale&gt;&lt;ZOrigin&gt;-100000&lt;/ZOrigin&gt;&lt;ZScale&gt;10000&lt;/ZScale&gt;&lt;MOrigin&gt;-100000&lt;/MOrigin&gt;&lt;MScale&gt;10000&lt;/MScale&gt;&lt;XYTolerance&gt;0.001&lt;/XYTolerance&gt;&lt;ZTolerance&gt;0.001&lt;/ZTolerance&gt;&lt;MTolerance&gt;0.001&lt;/MTolerance&gt;&lt;HighPrecision&gt;true&lt;/HighPrecision&gt;&lt;WKID&gt;102100&lt;/WKID&gt;&lt;LatestWKID&gt;3857&lt;/LatestWKID&gt;&lt;/ProjectedCoordinateSystem&gt;</peXml>
</coordRef>
<RasterProperties>
<General>
<PixelDepth Sync="TRUE">32</PixelDepth>
<HasColormap Sync="TRUE">FALSE</HasColormap>
<CompressionType Sync="TRUE">LZW</CompressionType>
<NumBands Sync="TRUE">1</NumBands>
<Format Sync="TRUE">TIFF</Format>
<HasPyramids Sync="TRUE">TRUE</HasPyramids>
<SourceType Sync="TRUE">continuous</SourceType>
<PixelType Sync="TRUE">floating point</PixelType>
<NoDataValue Sync="TRUE">3.4e+38</NoDataValue>
</General>
</RasterProperties>
</DataProperties>
<SyncDate>20211115</SyncDate>
<SyncTime>14063800</SyncTime>
<ModDate>20211115</ModDate>
<ModTime>14063800</ModTime>
<scaleRange>
<minScale>150000000</minScale>
<maxScale>5000</maxScale>
</scaleRange>
<locales>
<locale country="US" language="eng">
</locale>
</locales>
</Esri>
<dataIdInfo>
<envirDesc Sync="FALSE">Esri ArcGIS 12.8.3.29751</envirDesc>
<dataLang>
<languageCode Sync="TRUE" value="eng">
</languageCode>
<countryCode Sync="TRUE" value="USA">
</countryCode>
</dataLang>
<idCitation>
<resTitle Sync="TRUE">marianas_ecsbathymetry_201906_wmas_IS</resTitle>
<presForm>
<PresFormCd Sync="TRUE" value="005">
</PresFormCd>
<fgdcGeoform>raster digital data</fgdcGeoform>
</presForm>
<date>
<createDate>2019-06-05T00:00:00</createDate>
<pubDate>2019-07-11T00:00:00</pubDate>
<reviseDate>2019-07-11T00:00:00</reviseDate>
</date>
<citRespParty>
<rpIndName>Paul Johnson</rpIndName>
<rpOrgName>University of New Hampshire, Center for Coastal and Ocean Mapping</rpOrgName>
<rpPosName>Data Manager</rpPosName>
<role>
<RoleCd value="006">
</RoleCd>
</role>
<rpCntInfo>
<cntAddress addressType="both">
<delPoint>24 Colovos Rd</delPoint>
<city>Durham</city>
<adminArea>NH</adminArea>
<postCode>03824</postCode>
<eMailAdd>pjohnson@ccom.unh.edu</eMailAdd>
<country>US</country>
</cntAddress>
<cntPhone>
<voiceNum tddtty="">603-862-3159</voiceNum>
<faxNum>603-862-0839</faxNum>
</cntPhone>
</rpCntInfo>
<displayName>Paul Johnson</displayName>
</citRespParty>
<citRespParty>
<rpIndName>James V Gardner</rpIndName>
<rpOrgName>University of New Hampshire, Center for Coastal and Ocean Mapping</rpOrgName>
<rpPosName>Research Professor</rpPosName>
<role>
<RoleCd value="006">
</RoleCd>
</role>
<rpCntInfo>
<cntAddress addressType="both">
<delPoint>24 Colovos Rd</delPoint>
<city>Durham</city>
<adminArea>NH</adminArea>
<postCode>03924</postCode>
<eMailAdd>jim@ccom.unh.edu</eMailAdd>
<country>US</country>
</cntAddress>
<cntPhone>
<voiceNum tddtty="">603-862-3473</voiceNum>
<faxNum>603-862-0839</faxNum>
</cntPhone>
</rpCntInfo>
<displayName>James V Gardner</displayName>
<displayName>James V Gardner</displayName>
</citRespParty>
</idCitation>
<spatRpType>
<SpatRepTypCd Sync="TRUE" value="002">
</SpatRepTypCd>
</spatRpType>
<dataExt>
<geoEle>
<GeoBndBox esriExtentType="search">
<exTypeCode Sync="TRUE">1</exTypeCode>
<westBL Sync="TRUE">137.891063</westBL>
<eastBL Sync="TRUE">149.877284</eastBL>
<northBL Sync="TRUE">23.772327</northBL>
<southBL Sync="TRUE">10.623077</southBL>
</GeoBndBox>
</geoEle>
</dataExt>
<idPurp>The National Oceanic and Atmospheric Administration (NOAA), on behalf to the United States Government, has a requirement to carry out multibeam echosounder surveys of specific regions on the continental margin (slope and rise) of the U.S. Guam and the Commonwealth of the Northern Marianas Islands. These data are required to support any potential claim for extended jurisdiction by the United States under United Nations Convention on the Law of the Sea (UNCLOS) Article 76. The requirement is for the collection and processing of full-coverage multibeam sonar data in water depths of approximately 2000 to 10,500 m in order to precisely define the location of the 2500-m isobath and the foot of the slope as defined under UNCLOS Article 76. As part of their NOAA-funded research program, University of New Hampshire (UNH) researchers oversaw cruise planning, data acquisition, data processing and archiving of the data collected during cruise BD06-01, BD07-01, SU10-01, SU10-02, and FS1601 cruises.
The cruise reports for this synthesis are located at: http://ccom.unh.edu/theme/law-sea/cruise-reports/marianas. UNH was responsible for generating gridded bathymetry and acoustic backscatter data sets at sea from the BD06-01, BD07-01, SU10-01, SU10-02, and FS1601 survey data. Additional sets of gridded data were produced by UNH post cruise. Information about UNH Center for Coastal and Ocean Mapping field activity are online at http://ccom.unh.edu/unclos/reports.htm. Three different export formats were generated for this dataset, with each data format identifiable by its file suffix. The suffix and associated file types for each export are : 1) .asc which is an ESRI ASCII grid, 2) .sd which is a QPS Fledermaus file, and 3) .xyz which is an ASCII xyz text file. The primary datasets for this grid are from the BD06-01, BD07-01, SU10-01, SU10-02, and FS1601 cruises, supplementing this data is processed and cleaned data from the EX1605L1, EX1605L2, and EX1605L3 cruises conducted on the NOAA Ship Okeanos Explore.</idPurp>
<idAbs>&lt;div style='text-align:Left;'&gt;&lt;div&gt;&lt;div&gt;&lt;p&gt;&lt;span&gt;Gridded (100 m/pixel) full coverage, processed multibeam bathymetry data. Data were reduced for position, elevation, orientation, water-column sound-speed and refraction effects and are provided as a cleaned gridded ESRI bathymetry grid. Cruises which are included in this synthesis are BD06-01, BD07-01, SU10-01, SU10-02, FS1601, EX1605L1, EX1605L2, and EX1605L3.&lt;/span&gt;&lt;/p&gt;&lt;/div&gt;&lt;/div&gt;&lt;/div&gt;</idAbs>
<dataChar>
<CharSetCd value="004">
</CharSetCd>
</dataChar>
<resMaint>
<maintFreq>
<MaintFreqCd value="009">
</MaintFreqCd>
</maintFreq>
</resMaint>
<idPoC>
<rpIndName>Paul Johnson</rpIndName>
<rpOrgName>University of New Hampshire, Center for Coastal and Ocean Mapping</rpOrgName>
<rpPosName>Data Manager</rpPosName>
<rpCntInfo>
<cntAddress addressType="both">
<delPoint>24 Colovos Rd</delPoint>
<city>Durham</city>
<adminArea>NH</adminArea>
<postCode>03824</postCode>
<eMailAdd>pjohnson@ccom.unh.edu</eMailAdd>
<country>US</country>
</cntAddress>
<cntPhone>
<voiceNum tddtty="">603-862-3159</voiceNum>
<faxNum>603-862-0839</faxNum>
</cntPhone>
</rpCntInfo>
<displayName>Paul Johnson</displayName>
<displayName>Paul Johnson</displayName>
<role>
<RoleCd value="007">
</RoleCd>
</role>
</idPoC>
<idCredit>The bathymetry grid is the Copyright of the University of New Hampshire - Copyright 2019 The University of New Hampshire and its Center for Coastal and Ocean Mapping/Joint Hydrographic Center, Durham, NH 03824. Any redistribution or reproduction of part or all of the contents in any form is granted with the following restrictions: You must attribute ownership of the copyrighted contents of this grid to the rightful owner, the University of New Hampshire. The UNH Center for Coastal and Ocean Mapping operates in partnership with the National Oceanic and Atmospheric Administration.</idCredit>
<searchKeys>
<keyword>Marianas</keyword>
<keyword>Bathymetry</keyword>
<keyword>Law of the Sea</keyword>
<keyword>LOTS</keyword>
<keyword>Extended Continental Shelf</keyword>
<keyword>ECS</keyword>
</searchKeys>
<themeKeys>
<thesaName>
<resTitle>Global Change Master Directory (GCMD) Science Keywords</resTitle>
<date>
<pubDate>2018-03-15T00:00:00</pubDate>
</date>
<resEd>8.6</resEd>
<resEdDate>20180315</resEdDate>
<citOnlineRes>
<linkage>https://earthdata.nasa.gov/about/gcmd/global-change-master-directory-gcmd-keywords</linkage>
<orName>Global Change Master Directory (GCMD) Keywords</orName>
<orDesc>The information provided on this page seeks to define how the GCMD Keywords are structured, used and accessed. It also provides information on how users can participate in the further development of the keywords.</orDesc>
</citOnlineRes>
</thesaName>
<keyword>EARTH SCIENCE &amp;gt; Oceans &amp;gt; Bathymetry/Seafloor Topography &amp;gt; Bathymetry</keyword>
<keyword>&gt;EARTH SCIENCE &amp;gt; Oceans &amp;gt; Bathymetry/Seafloor Topography &amp;gt; Seafloor Topography</keyword>
<keyword>EARTH SCIENCE &amp;gt; Oceans &amp;gt; Bathymetry/Seafloor Topography &amp;gt; Water Depth</keyword>
<keyword>EARTH SCIENCE &amp;gt; Oceans &amp;gt; Marine Sediments &amp;gt; Sediment Composition</keyword>
</themeKeys>
<tpCat>
<TopicCatCd value="006">
</TopicCatCd>
</tpCat>
<tpCat>
<TopicCatCd value="008">
</TopicCatCd>
</tpCat>
<tpCat>
<TopicCatCd value="014">
</TopicCatCd>
</tpCat>
<resConst>
<Consts>
<useLimit/>
</Consts>
</resConst>
</dataIdInfo>
<mdLang>
<languageCode Sync="TRUE" value="eng">
</languageCode>
<countryCode Sync="TRUE" value="USA">
</countryCode>
</mdLang>
<distInfo>
<distFormat>
<formatName Sync="TRUE">Raster Dataset</formatName>
</distFormat>
<distFormat>
<formatName>ESRI 32bit Float Point Grid</formatName>
<formatVer>ESRI</formatVer>
</distFormat>
</distInfo>
<mdHrLv>
<ScopeCd Sync="TRUE" value="005">
</ScopeCd>
</mdHrLv>
<mdHrLvName Sync="TRUE">dataset</mdHrLvName>
<refSysInfo>
<RefSystem dimension="">
<refSysID>
<identCode Sync="TRUE" code="3857">
</identCode>
<idCodeSpace Sync="TRUE">EPSG</idCodeSpace>
<idVersion Sync="TRUE">6.18.3(9.3.1.2)</idVersion>
</refSysID>
</RefSystem>
</refSysInfo>
<spdoinfo>
<rastinfo>
<rasttype Sync="TRUE">Pixel</rasttype>
<rowcount Sync="TRUE">14421</rowcount>
<colcount Sync="TRUE">12254</colcount>
<rastxsz Sync="TRUE">100.000000</rastxsz>
<rastysz Sync="TRUE">100.000000</rastysz>
<rastbpp Sync="TRUE">32</rastbpp>
<vrtcount Sync="TRUE">1</vrtcount>
<rastorig Sync="TRUE">Upper Left</rastorig>
<rastcmap Sync="TRUE">FALSE</rastcmap>
<rastcomp Sync="TRUE">LZ77</rastcomp>
<rastband Sync="TRUE">1</rastband>
<rastdtyp Sync="TRUE">pixel codes</rastdtyp>
<rastifor Sync="TRUE">FGDBR</rastifor>
<rastplyr Sync="TRUE">TRUE</rastplyr>
</rastinfo>
</spdoinfo>
<spref>
<horizsys>
<planar>
<planci>
<plance Sync="TRUE">row and column</plance>
<coordrep>
<absres Sync="TRUE">100.000000</absres>
<ordres Sync="TRUE">100.000000</ordres>
</coordrep>
</planci>
</planar>
</horizsys>
</spref>
<mdDateSt Sync="TRUE">20211115</mdDateSt>
<mdContact>
<rpIndName>James V Gardner</rpIndName>
<rpOrgName>University of New Hampshire, Center for Coastal and Ocean Mapping</rpOrgName>
<rpPosName>Research Professor</rpPosName>
<role>
<RoleCd value="006">
</RoleCd>
</role>
<rpCntInfo>
<cntAddress addressType="both">
<delPoint>24 Colovos Rd</delPoint>
<city>Durham</city>
<adminArea>NH</adminArea>
<postCode>03924</postCode>
<eMailAdd>jim@ccom.unh.edu</eMailAdd>
<country>US</country>
</cntAddress>
<cntPhone>
<voiceNum tddtty="">603-862-3473</voiceNum>
<faxNum>603-862-0839</faxNum>
</cntPhone>
</rpCntInfo>
<displayName>James V Gardner</displayName>
</mdContact>
<mdContact>
<rpIndName>Paul Johnson</rpIndName>
<rpOrgName>University of New Hampshire, Center for Coastal and Ocean Mapping</rpOrgName>
<rpPosName>Data Mnager</rpPosName>
<role>
<RoleCd value="006">
</RoleCd>
</role>
<rpCntInfo>
<cntAddress addressType="both">
<delPoint>24 Colovos Rd</delPoint>
<city>Durham</city>
<adminArea>NH</adminArea>
<postCode>03824</postCode>
<eMailAdd>pjohnson@ccom.unh.edu</eMailAdd>
<country>US</country>
</cntAddress>
<cntPhone>
<voiceNum tddtty="">603-862-3159</voiceNum>
<faxNum>603-862-0839</faxNum>
</cntPhone>
</rpCntInfo>
</mdContact>
<mdMaint>
<maintFreq>
<MaintFreqCd value="009">
</MaintFreqCd>
</maintFreq>
</mdMaint>
<mdConst>
<Consts>
<useLimit>&lt;DIV STYLE="text-align:Left;"&gt;&lt;DIV&gt;&lt;DIV&gt;&lt;P&gt;&lt;SPAN&gt;The grid is the Copyright of the University of New Hampshire - Copyright 2019 The University of New Hampshire and its Center for Coastal and Ocean Mapping/Joint Hydrographic Center, Durham, NH 03824. Any redistribution or reproduction of part or all of the contents in any form is granted with the following restrictions: You must attribute ownership of the copyrighted contents of this grid to the rightful owner, the University of New Hampshire. The UNH Center for Coastal and Ocean Mapping operates in partnership with the National Oceanic and Atmospheric Administration.&lt;/SPAN&gt;&lt;/P&gt;&lt;P&gt;&lt;SPAN /&gt;&lt;/P&gt;&lt;/DIV&gt;&lt;/DIV&gt;&lt;/DIV&gt;</useLimit>
</Consts>
</mdConst>
<mdConst>
<LegConsts>
<accessConsts>
<RestrictCd value="001">
</RestrictCd>
</accessConsts>
<useConsts>
<RestrictCd value="001">
</RestrictCd>
</useConsts>
<othConsts>The bathymetry grid is the Copyright of the University of New Hampshire - Copyright 2019 The University of New Hampshire and its Center for Coastal and Ocean Mapping/Joint Hydrographic Center, Durham, NH 03824. Any redistribution or reproduction of part or all of the contents in any form is granted with the following restrictions: You must attribute ownership of the copyrighted contents of this grid to the rightful owner, the University of New Hampshire. The UNH Center for Coastal and Ocean Mapping operates in partnership with the National Oceanic and Atmospheric Administration.</othConsts>
</LegConsts>
</mdConst>
<mdConst>
<Consts>
<useLimit>&lt;DIV STYLE="text-align:Left;"&gt;&lt;P STYLE="font-size:16ptmargin:0 0 0 0;"&gt;&lt;SPAN&gt;&lt;SPAN&gt;Not to be used for navigation. Although these data are of high quality and useful for planning and modeling purposes, they are not suitable for navigation. For navigation, please refer to the NOS nautical chart series.&lt;/SPAN&gt;&lt;/SPAN&gt;&lt;/P&gt;&lt;/DIV&gt;</useLimit>
</Consts>
</mdConst>
<dqInfo>
<dataLineage>
<statement>Surveys included in this synthesis are:
1.) Cruise: BD06-01, Ship: USNS Bowditch, System: Kongsberg Simrad EM121A 12-kHz Multibeam Echosounder 2.) Cruise: BD07-01, Ship: USNS Bowditch System: Kongsberg Simrad EM121A 12-kHz Multibeam Echosounder
3.) Cruise: SU10-01, Ship: USNS Sumner, System: Kongsberg Simrad EM122 12-kHz Multibeam Echosounder
4.) Cruise: SU10-02, Ship: USNS Sumner, System: Kongsberg Simrad EM122 12-kHz Multibeam Echosounder
5.) Cruise: FS1601, Ship: M/V Fugro Supporter, System: Kongsberg Simrad EM122 12-kHz Multibeam Echosounder
6.) Cruise: EX1605L1, Ship: NOAA Ship Okeanos Explorer, System: Kongsberg Simrad EM302 30-kHz Multibeam Echosounder
7.) Cruise: EX1605L2, Ship: NOAA Ship Okeanos Explorer, System: Kongsberg Simrad EM302 30-kHz Multibeam Echosounder
8.) Cruise: EX1605L2, Ship: NOAA Ship Okeanos Explorer, System: Kongsberg Simrad EM302 30-kHz Multibeam Echosounder.</statement>
</dataLineage>
<dqScope>
<scpLvl>
<ScopeCd value="005">
</ScopeCd>
</scpLvl>
</dqScope>
</dqInfo>
<spatRepInfo>
<Georect>
<cellGeo>
<CellGeoCd Sync="TRUE" value="002">
</CellGeoCd>
</cellGeo>
<numDims Sync="TRUE">2</numDims>
<tranParaAv Sync="TRUE">1</tranParaAv>
<chkPtAv Sync="TRUE">0</chkPtAv>
<cornerPts>
<pos Sync="TRUE">15349962.897627 1189389.596534</pos>
</cornerPts>
<cornerPts>
<pos Sync="TRUE">15349962.897627 2725689.596534</pos>
</cornerPts>
<cornerPts>
<pos Sync="TRUE">16684262.897627 2725689.596534</pos>
</cornerPts>
<cornerPts>
<pos Sync="TRUE">16684262.897627 1189389.596534</pos>
</cornerPts>
<centerPt>
<pos Sync="TRUE">16017112.897627 1957539.596534</pos>
</centerPt>
<axisDimension type="002">
<dimSize Sync="TRUE">13343</dimSize>
<dimResol>
<value Sync="TRUE" uom="m">100.000000</value>
</dimResol>
</axisDimension>
<axisDimension type="001">
<dimSize Sync="TRUE">15363</dimSize>
<dimResol>
<value Sync="TRUE" uom="m">100.000000</value>
</dimResol>
</axisDimension>
<ptInPixel>
<PixOrientCd Sync="TRUE" value="001">
</PixOrientCd>
</ptInPixel>
</Georect>
</spatRepInfo>
<contInfo>
<ImgDesc>
<contentTyp>
<ContentTypCd Sync="TRUE" value="001">
</ContentTypCd>
</contentTyp>
<covDim>
<Band>
<dimDescrp Sync="TRUE">Band_1</dimDescrp>
<maxVal Sync="TRUE">-32.217285</maxVal>
<minVal Sync="TRUE">-10943.990234</minVal>
<bitsPerVal Sync="TRUE">32</bitsPerVal>
<valUnit>
<UOM type="length">
</UOM>
</valUnit>
</Band>
</covDim>
</ImgDesc>
</contInfo>
</metadata>
