{
 "extent": {
  "ymin": 3226600,
  "xmin": -850900,
  "ymax": 5184700,
  "xmax": 1518500,
  "spatialReference": {
   "wkt": "PROJCS[\"Atlantic_Lambert_Conformal_Conic\",GEOGCS[\"GCS_WGS_1984\",DATUM[\"D_WGS_1984\",SPHEROID[\"WGS_1984\",6378137.0,298.257223563]],PRIMEM[\"Greenwich\",0.0],UNIT[\"Degree\",0.0174532925199433]],PROJECTION[\"Lambert_Conformal_Conic\"],PARAMETER[\"False_Easting\",0.0],PARAMETER[\"False_Northing\",0.0],PARAMETER[\"Central_Meridian\",-72.0],PARAMETER[\"Standard_Parallel_1\",32.0],PARAMETER[\"Standard_Parallel_2\",38.0],PARAMETER[\"Latitude_Of_Origin\",0.0],UNIT[\"Meter\",1.0]]",
   "wkt2": "PROJCRS[\"Atlantic_Lambert_Conformal_Conic\",BASEGEOGCRS[\"GCS_WGS_1984\",DATUM[\"D_WGS_1984\",ELLIPSOID[\"WGS_1984\",6378137.0,298.257223563]],PRIMEM[\"Greenwich\",0.0],CS[ellipsoidal,2],AXIS[\"Latitude (lat)\",north,ORDER[1]],AXIS[\"Longitude (lon)\",east,ORDER[2]],ANGLEUNIT[\"Degree\",0.0174532925199433]],CONVERSION[\"Lambert_Conformal_Conic\",METHOD[\"Lambert_Conformal_Conic\"],PARAMETER[\"False_Easting\",0.0],PARAMETER[\"False_Northing\",0.0],PARAMETER[\"Central_Meridian\",-72.0],PARAMETER[\"Standard_Parallel_1\",32.0],PARAMETER[\"Standard_Parallel_2\",38.0],PARAMETER[\"Latitude_Of_Origin\",0.0]],CS[Cartesian,2],AXIS[\"Easting (X)\",east,ORDER[1]],AXIS[\"Northing (Y)\",north,ORDER[2]],LENGTHUNIT[\"Meter\",1.0]]"
  }
 },
 "blockWidth": 128,
 "mosaicOperator": "First",
 "serviceSourceType": "esriImageServiceSourceTypeDataset",
 "hasMultidimensions": false,
 "maxImageWidth": 15000,
 "meanValues": [
  -3895.2967318535002
 ],
 "hasColormap": false,
 "compressionType": "LERC",
 "defaultCompressionQuality": 75,
 "maxValues": [
  -14.39999961853
 ],
 "hasHistograms": true,
 "datasetFormat": "MRF",
 "maxImageHeight": 4100,
 "sortField": "",
 "bandNames": [
  "Band_1"
 ],
 "spatialReference": {
  "wkt": "PROJCS[\"Atlantic_Lambert_Conformal_Conic\",GEOGCS[\"GCS_WGS_1984\",DATUM[\"D_WGS_1984\",SPHEROID[\"WGS_1984\",6378137.0,298.257223563]],PRIMEM[\"Greenwich\",0.0],UNIT[\"Degree\",0.0174532925199433]],PROJECTION[\"Lambert_Conformal_Conic\"],PARAMETER[\"False_Easting\",0.0],PARAMETER[\"False_Northing\",0.0],PARAMETER[\"Central_Meridian\",-72.0],PARAMETER[\"Standard_Parallel_1\",32.0],PARAMETER[\"Standard_Parallel_2\",38.0],PARAMETER[\"Latitude_Of_Origin\",0.0],UNIT[\"Meter\",1.0]]",
  "wkt2": "PROJCRS[\"Atlantic_Lambert_Conformal_Conic\",BASEGEOGCRS[\"GCS_WGS_1984\",DATUM[\"D_WGS_1984\",ELLIPSOID[\"WGS_1984\",6378137.0,298.257223563]],PRIMEM[\"Greenwich\",0.0],CS[ellipsoidal,2],AXIS[\"Latitude (lat)\",north,ORDER[1]],AXIS[\"Longitude (lon)\",east,ORDER[2]],ANGLEUNIT[\"Degree\",0.0174532925199433]],CONVERSION[\"Lambert_Conformal_Conic\",METHOD[\"Lambert_Conformal_Conic\"],PARAMETER[\"False_Easting\",0.0],PARAMETER[\"False_Northing\",0.0],PARAMETER[\"Central_Meridian\",-72.0],PARAMETER[\"Standard_Parallel_1\",32.0],PARAMETER[\"Standard_Parallel_2\",38.0],PARAMETER[\"Latitude_Of_Origin\",0.0]],CS[Cartesian,2],AXIS[\"Easting (X)\",east,ORDER[1]],AXIS[\"Northing (Y)\",north,ORDER[2]],LENGTHUNIT[\"Meter\",1.0]]"
 },
 "fullExtent": {
  "ymin": 3226600,
  "xmin": -850900,
  "ymax": 5184700,
  "xmax": 1518500,
  "spatialReference": {
   "wkt": "PROJCS[\"Atlantic_Lambert_Conformal_Conic\",GEOGCS[\"GCS_WGS_1984\",DATUM[\"D_WGS_1984\",SPHEROID[\"WGS_1984\",6378137.0,298.257223563]],PRIMEM[\"Greenwich\",0.0],UNIT[\"Degree\",0.0174532925199433]],PROJECTION[\"Lambert_Conformal_Conic\"],PARAMETER[\"False_Easting\",0.0],PARAMETER[\"False_Northing\",0.0],PARAMETER[\"Central_Meridian\",-72.0],PARAMETER[\"Standard_Parallel_1\",32.0],PARAMETER[\"Standard_Parallel_2\",38.0],PARAMETER[\"Latitude_Of_Origin\",0.0],UNIT[\"Meter\",1.0]]",
   "wkt2": "PROJCRS[\"Atlantic_Lambert_Conformal_Conic\",BASEGEOGCRS[\"GCS_WGS_1984\",DATUM[\"D_WGS_1984\",ELLIPSOID[\"WGS_1984\",6378137.0,298.257223563]],PRIMEM[\"Greenwich\",0.0],CS[ellipsoidal,2],AXIS[\"Latitude (lat)\",north,ORDER[1]],AXIS[\"Longitude (lon)\",east,ORDER[2]],ANGLEUNIT[\"Degree\",0.0174532925199433]],CONVERSION[\"Lambert_Conformal_Conic\",METHOD[\"Lambert_Conformal_Conic\"],PARAMETER[\"False_Easting\",0.0],PARAMETER[\"False_Northing\",0.0],PARAMETER[\"Central_Meridian\",-72.0],PARAMETER[\"Standard_Parallel_1\",32.0],PARAMETER[\"Standard_Parallel_2\",38.0],PARAMETER[\"Latitude_Of_Origin\",0.0]],CS[Cartesian,2],AXIS[\"Easting (X)\",east,ORDER[1]],AXIS[\"Northing (Y)\",north,ORDER[2]],LENGTHUNIT[\"Meter\",1.0]]"
  }
 },
 "bandCount": 1,
 "rasterFunctionInfos": [
  {
   "help": "",
   "name": "None",
   "description": "Make a Raster or Raster Dataset into a Function Raster Dataset."
  },
  {
   "help": "",
   "name": "Aspect",
   "description": "Shows which direction a pixel is facing, where 0 is due north and angles increase clockwise to 360."
  },
  {
   "help": "",
   "name": "AspectSlope",
   "description": "Creates a raster that simultaneously displays the aspect (direction) and slope(steepness) of a continuous surface, as represented in a digital elevation model."
  },
  {
   "help": "",
   "name": "Contour - 5m",
   "description": "Contour - 5m"
  },
  {
   "help": "",
   "name": "Contour - 10m",
   "description": "Contour - 10m"
  },
  {
   "help": "",
   "name": "Contour - 20m",
   "description": "Contour - 20m"
  },
  {
   "help": "",
   "name": "Contour - 50m",
   "description": "Contour - 50m"
  },
  {
   "help": "",
   "name": "Contour - 100m",
   "description": "Contour - 100m"
  },
  {
   "help": "",
   "name": "Contour - 200m",
   "description": "Contour - 200m"
  },
  {
   "help": "",
   "name": "Contour - 250m",
   "description": "Contour - 250m"
  },
  {
   "help": "",
   "name": "Contour - 500m",
   "description": "Contour - 500m"
  },
  {
   "help": "",
   "name": "Contour - 1000m",
   "description": "Contour - 1000m"
  },
  {
   "help": "",
   "name": "Contour_200m_Fill",
   "description": "Contour 200m filled"
  },
  {
   "help": "",
   "name": "DAR - PerClip - 0.5 - BlueGreen",
   "description": "Dynamic Range Adjustent - Std Dev - BlueGreen"
  },
  {
   "help": "",
   "name": "DAR - PerClip - 0.5- Haxby",
   "description": "Dynamic Range Adjustent - Std Dev - Haxby"
  },
  {
   "help": "",
   "name": "DAR - PerClip - 2 - BlueGreen",
   "description": "Dynamic Range Adjustent - Std Dev - BlueGreen"
  },
  {
   "help": "",
   "name": "DAR - PerClip - 2 - Haxby",
   "description": "Dynamic Range Adjustent - Std Dev - Haxby"
  },
  {
   "help": "",
   "name": "DAR - StdDev - BlueGreen",
   "description": "Dynamic Range Adjustent - Std Dev - BlueGreen"
  },
  {
   "help": "",
   "name": "DAR - StdDev - Haxby",
   "description": "Dynamic Range Adjustent - Std Dev - Haxby"
  },
  {
   "help": "",
   "name": "Multidirectional Hillshade 1.5x",
   "description": "Multidirectional hillshade 2x"
  },
  {
   "help": "",
   "name": "Multidirectional Hillshade 1x",
   "description": "Multidirectional hillshade 1x"
  },
  {
   "help": "",
   "name": "Multidirectional Hillshade 2x",
   "description": "Multidirectional hillshade 2x"
  },
  {
   "help": "",
   "name": "Multidirectional Hillshade 3x",
   "description": "Multidirectional hillshade 2x"
  },
  {
   "help": "",
   "name": "PerClip - 0.5 - BlueGreen",
   "description": "Percentage Clip - 0.5 - Blue Green\n"
  },
  {
   "help": "",
   "name": "PerClip - 0.5 - Haxby",
   "description": "Percentage Clip - 0.5 - Haxby"
  },
  {
   "help": "",
   "name": "PerClip - 1 - BlueGreen",
   "description": "Percentage Clip - 1 - Blue Green\n"
  },
  {
   "help": "",
   "name": "PerClip - 1 - Haxby",
   "description": "Percentage Clip - 1 - Haxby"
  },
  {
   "help": "",
   "name": "PerClip - 1.5 - BlueGreen",
   "description": "Percentage Clip - 1.5 - Blue Green\n"
  },
  {
   "help": "",
   "name": "PerClip - 1.5 - Haxby",
   "description": "Percentage Clip - 1.5 - Haxby"
  },
  {
   "help": "",
   "name": "PerClip - 2 - BlueGreen",
   "description": "Percentage Clip 2 - Blue Green\n"
  },
  {
   "help": "",
   "name": "PerClip - 2 - Haxby",
   "description": "Percentage Clip - 2 - Haxby"
  },
  {
   "help": "",
   "name": "Set Elevations Above 0 to Null",
   "description": "Set Elevations Above 0 to Null"
  },
  {
   "help": "",
   "name": "Set Elevations Below 0 to Null",
   "description": "Set Elevations Below 0 to Null"
  },
  {
   "help": "",
   "name": "Shaded Relief - BlueGreen- MD Hillshade 2",
   "description": "Shaded Relief - BlueGreen - MD Hillshade 2"
  },
  {
   "help": "",
   "name": "Shaded Relief - Haxby - MD Hillshade 2",
   "description": "Shaded Relief - Haxby - MD Hillshade 2"
  },
  {
   "help": "",
   "name": "Slope - Degrees - Inferno",
   "description": "Slope - Degrees"
  },
  {
   "help": "",
   "name": "Slope - Degrees",
   "description": "Slope - Degrees"
  },
  {
   "help": "",
   "name": "StdDev - BlueGreen",
   "description": "Std Dev - BlueGreen"
  },
  {
   "help": "",
   "name": "StdDev - Haxby",
   "description": "Std Dev - Haxby"
  },
  {
   "help": "",
   "name": "Surface Parameters",
   "description": "Calculates parameters of a raster surface such as aspect, slope, and curvature using geodesic methods."
  },
  {
   "help": "",
   "name": "QAT_Depth_0to1000m",
   "description": "QAT Depth Identifier"
  },
  {
   "help": "",
   "name": "QAT_Depth_1000to2000m",
   "description": "QAT Depth Identifier"
  },
  {
   "help": "",
   "name": "QAT_Depth_2000to3000m",
   "description": "QAT Depth Identifier"
  },
  {
   "help": "",
   "name": "QAT_Depth_3000to4000m",
   "description": "QAT Depth Identifier"
  },
  {
   "help": "",
   "name": "QAT_Depth_4000to5000m",
   "description": "QAT Depth Identifier"
  },
  {
   "help": "",
   "name": "QAT_Depth_5000to6000m",
   "description": "QAT Depth Identifier"
  },
  {
   "help": "",
   "name": "QAT_Depth_6000to7000m",
   "description": "QAT Depth Identifier"
  },
  {
   "help": "",
   "name": "QAT_Depth_7000to8000m",
   "description": "QAT Depth Identifier"
  },
  {
   "help": "",
   "name": "QAT_Depth_8000to9000m",
   "description": "QAT Depth Identifier"
  },
  {
   "help": "",
   "name": "QAT_Depth_9000to10000m",
   "description": "QAT Depth Identifier"
  },
  {
   "help": "",
   "name": "QAT_Depth_10000to11000m",
   "description": "QAT Depth Identifier"
  },
  {
   "help": "",
   "name": "QAT_DepthRanges_BlueGreen",
   "description": "QAT Depth Identifier"
  },
  {
   "help": "",
   "name": "QAT_DepthRanges_Grey",
   "description": "QAT Depth Identifier"
  },
  {
   "help": "",
   "name": "QAT_DepthRanges_PurpleYellow2",
   "description": "QAT Depth Identifier"
  },
  {
   "help": "",
   "name": "QAT_DepthRanges_PurpleYellow",
   "description": "QAT Depth Identifier"
  },
  {
   "help": "",
   "name": "QAT_Modes_EM124",
   "description": "QAT Modes for an EM124\n\n"
  },
  {
   "help": "",
   "name": "QAT_Modes_EM302",
   "description": "QAT Modes for an EM302\n"
  },
  {
   "help": "",
   "name": "QAT_Modes_EM303",
   "description": "QAT Modes for an EM302\n"
  },
  {
   "help": "",
   "name": "QAT_Modes_EM304",
   "description": "QAT Modes for an EM304\n"
  },
  {
   "help": "",
   "name": "QAT_Modes_EM712",
   "description": "QAT Modes for an EM712\n"
  },
  {
   "help": "",
   "name": "QAT_Modes_EM2040_200kHz",
   "description": "QAT Modes for an EM2040 200 kHz\n\n"
  },
  {
   "help": "",
   "name": "QAT_Modes_EM2040_300kHz",
   "description": "QAT Modes for an EM2040 300 kHz\n\n"
  },
  {
   "help": "",
   "name": "QAT_Modes_EM2040_400kHz",
   "description": "QAT Modes for an EM2040 400 kHz\n\n"
  },
  {
   "help": "",
   "name": "QAT_Slope_0to2_Degrees_Green",
   "description": "QAT Slope Identifier\n"
  },
  {
   "help": "",
   "name": "QAT_Slope_0to2_Green_2to4_Red",
   "description": "QAT Slope Identifier\n"
  },
  {
   "help": "",
   "name": "QAT_Slope_0to4_Degrees_Green",
   "description": "QAT Slope Identifier\n"
  },
  {
   "help": "",
   "name": "QAT_Slope_10to15blue_15to25green_25to30red",
   "description": "QAT Slope Identifier\n"
  },
  {
   "help": "",
   "name": "QAT_Slope_10to30_Degrees_Green",
   "description": "QAT Slope Identifier\n"
  },
  {
   "help": "",
   "name": "QAT_Slope_10to30_Degrees_Inferno",
   "description": "QAT Slope Identifier\n"
  },
  {
   "help": "",
   "name": "QAT_Slope_15to25_Degrees_Green",
   "description": "QAT Slope Identifier\n"
  },
  {
   "help": "",
   "name": "QAT_Slope_15to25_Degrees_Inferno",
   "description": "QAT Slope Identifier\n"
  },
  {
   "help": "",
   "name": "QAT_Slopes_0to2_Degrees_Green",
   "description": "QAT Slope Identifier\n"
  }
 ],
 "supportsStatistics": false,
 "sortableFields": "",
 "minValues": [
  -5643.9501953125
 ],
 "allowRasterFunction": true,
 "allowComputeTiePoints": false,
 "serviceDataType": "esriImageServiceDataTypeGeneric",
 "supportsAdvancedQueries": false,
 "currentVersion": 12.1,
 "sortValue": null,
 "objectIdField": "",
 "blockHeight": 128,
 "initialExtent": {
  "ymin": 3226600,
  "xmin": -850900,
  "ymax": 5184700,
  "xmax": 1518500,
  "spatialReference": {
   "wkt": "PROJCS[\"Atlantic_Lambert_Conformal_Conic\",GEOGCS[\"GCS_WGS_1984\",DATUM[\"D_WGS_1984\",SPHEROID[\"WGS_1984\",6378137.0,298.257223563]],PRIMEM[\"Greenwich\",0.0],UNIT[\"Degree\",0.0174532925199433]],PROJECTION[\"Lambert_Conformal_Conic\"],PARAMETER[\"False_Easting\",0.0],PARAMETER[\"False_Northing\",0.0],PARAMETER[\"Central_Meridian\",-72.0],PARAMETER[\"Standard_Parallel_1\",32.0],PARAMETER[\"Standard_Parallel_2\",38.0],PARAMETER[\"Latitude_Of_Origin\",0.0],UNIT[\"Meter\",1.0]]",
   "wkt2": "PROJCRS[\"Atlantic_Lambert_Conformal_Conic\",BASEGEOGCRS[\"GCS_WGS_1984\",DATUM[\"D_WGS_1984\",ELLIPSOID[\"WGS_1984\",6378137.0,298.257223563]],PRIMEM[\"Greenwich\",0.0],CS[ellipsoidal,2],AXIS[\"Latitude (lat)\",north,ORDER[1]],AXIS[\"Longitude (lon)\",east,ORDER[2]],ANGLEUNIT[\"Degree\",0.0174532925199433]],CONVERSION[\"Lambert_Conformal_Conic\",METHOD[\"Lambert_Conformal_Conic\"],PARAMETER[\"False_Easting\",0.0],PARAMETER[\"False_Northing\",0.0],PARAMETER[\"Central_Meridian\",-72.0],PARAMETER[\"Standard_Parallel_1\",32.0],PARAMETER[\"Standard_Parallel_2\",38.0],PARAMETER[\"Latitude_Of_Origin\",0.0]],CS[Cartesian,2],AXIS[\"Easting (X)\",east,ORDER[1]],AXIS[\"Northing (Y)\",north,ORDER[2]],LENGTHUNIT[\"Meter\",1.0]]"
  }
 },
 "pixelSizeX": 100,
 "pixelSizeY": 100,
 "defaultMosaicMethod": "Center",
 "name": "LOTS_Atlantic/Atlantic_AtlanticMargin_ECSbathymetry_Regional_WMAS_IS",
 "allowedMosaicMethods": "",
 "fields": [],
 "allowAnalysis": true,
 "hasRasterAttributeTable": false,
 "useStandardizedQueries": false,
 "description": "",
 "pixelType": "F32",
 "meanPixelSize": 100,
 "exportTilesAllowed": false,
 "editFieldsInfo": null,
 "rasterTypeInfos": [
  {
   "help": "",
   "name": "Raster Dataset",
   "description": "Supports all ArcGIS Raster Datasets"
  }
 ],
 "defaultResamplingMethod": "Bilinear",
 "itemAccess": false,
 "minScale": 0,
 "serviceProperties": "Center<\/MosaicMethod>First<\/MosaicOperator>true<\/SortAscending><\/LockImageID><\/TileOrderField>0<\/TileOrderBase>0.000000<\/AvgImageSpacingX>0.000000<\/AvgImageSpacingY>0.0<\/ViewPointX>0.0<\/ViewPointY>0.0<\/ViewPointDefShiftX>0.0<\/ViewPointDefShiftY>None<\/CompressionMethod>75<\/CompressionQuality>0.010000<\/CompressionTolerance>Bilinear<\/SamplingMethod><\/ImageServiceProperties><\/ImageServer>",
 "advancedQueryCapabilities": {
  "supportsStatistics": false,
  "supportsSqlExpression": false,
  "supportsOrderBy": false,
  "useStandardizedQueries": false,
  "supportsPagination": false,
  "supportsDistinct": false
 },
 "serviceItemId": "97d68f9f3df849d9bb2b7c73298c3475",
 "capabilities": "Image,Metadata,Mensuration",
 "maxScale": 0,
 "stdvValues": [
  1338.5182534557
 ],
 "allowedFields": "",
 "minPixelSize": 0,
 "noDataValues": [
  -9999
 ],
 "sortAscending": true,
 "inspectionCapabilities": "",
 "maxPixelSize": 0,
 "noDataValue": -9999,
 "allowedCompressions": "None,JPEG,LZ77,LERC",
 "uncompressedSize": 1855808856,
 "serviceDescription": "LOTS_Atlantic/Atlantic_AtlanticMargin_ECSbathymetry_Regional_WMAS_IS",
 "allowCopy": true,
 "copyrightText": "",
 "mensurationCapabilities": "Basic,3D",
 "ownershipBasedAccessControlForRasters": null
}
