{
 "extent": {
  "ymin": -90,
  "xmin": -180,
  "ymax": 90,
  "xmax": 180,
  "spatialReference": {
   "latestWkid": 4326,
   "wkid": 4326
  }
 },
 "blockWidth": 128,
 "mosaicOperator": "First",
 "serviceSourceType": "esriImageServiceSourceTypeDataset",
 "hasMultidimensions": false,
 "maxImageWidth": 15000,
 "meanValues": [
  -3401.8054462505002
 ],
 "hasColormap": false,
 "compressionType": "LERC",
 "defaultCompressionQuality": 75,
 "maxValues": [
  3155
 ],
 "hasHistograms": true,
 "datasetFormat": "MRF",
 "maxImageHeight": 15000,
 "sortField": "",
 "bandNames": [
  "Band_1"
 ],
 "spatialReference": {
  "latestWkid": 4326,
  "wkid": 4326
 },
 "fullExtent": {
  "ymin": -90,
  "xmin": -180,
  "ymax": 90,
  "xmax": 180,
  "spatialReference": {
   "latestWkid": 4326,
   "wkid": 4326
  }
 },
 "bandCount": 1,
 "rasterFunctionInfos": [
  {
   "help": "",
   "name": "DAR - PerClip - 2 - Rainbow",
   "description": "Dynamic Range Adjustent - Std Dev - Rainbow"
  },
  {
   "help": "",
   "name": "AspectSlope",
   "description": "Creates a raster that simultaneously displays the aspect (direction) and slope(steepness) of a continuous surface, as represented in a digital elevation model."
  },
  {
   "help": "",
   "name": "Aspect",
   "description": "Shows which direction a pixel is facing, where 0 is due north and angles increase clockwise to 360."
  },
  {
   "help": "",
   "name": "Contour - 5m",
   "description": "Contour - 5m"
  },
  {
   "help": "",
   "name": "Contour - 10m",
   "description": "Contour - 10m"
  },
  {
   "help": "",
   "name": "Contour - 20m",
   "description": "Contour - 20m"
  },
  {
   "help": "",
   "name": "Contour - 50m",
   "description": "Contour - 50m"
  },
  {
   "help": "",
   "name": "Contour - 100m",
   "description": "Contour - 100m"
  },
  {
   "help": "",
   "name": "Contour - 200m",
   "description": "Contour - 200m"
  },
  {
   "help": "",
   "name": "Contour - 250m",
   "description": "Contour - 250m"
  },
  {
   "help": "",
   "name": "Contour - 500m",
   "description": "Contour - 500m"
  },
  {
   "help": "",
   "name": "Contour - 1000m",
   "description": "Contour - 1000m"
  },
  {
   "help": "",
   "name": "DAR - PerClip - 0.5 - BlueGreen",
   "description": "Dynamic Range Adjustent - Std Dev - BlueGreen"
  },
  {
   "help": "",
   "name": "DAR - PerClip - 0.5- Haxby",
   "description": "Dynamic Range Adjustent - Std Dev - Haxby"
  },
  {
   "help": "",
   "name": "DAR - PerClip - 0.5- Rainbow",
   "description": "Dynamic Range Adjustent - Std Dev - Rainbow"
  },
  {
   "help": "",
   "name": "DAR - PerClip - 2 - BlueGreen",
   "description": "Dynamic Range Adjustent - Std Dev - BlueGreen"
  },
  {
   "help": "",
   "name": "DAR - PerClip - 2 - Haxby",
   "description": "Dynamic Range Adjustent - Std Dev - Haxby"
  },
  {
   "help": "",
   "name": "DAR - PerClip - 2 - Stats - Haxby",
   "description": "Dynamic Range Adjustent - Std Dev - Haxby"
  },
  {
   "help": "",
   "name": "DAR - StdDev - BlueGreen",
   "description": "Dynamic Range Adjustent - Std Dev - BlueGreen"
  },
  {
   "help": "",
   "name": "DAR - StdDev - Haxby",
   "description": "Dynamic Range Adjustent - Std Dev - Haxby"
  },
  {
   "help": "",
   "name": "DAR - StdDev - Rainbow",
   "description": "Dynamic Range Adjustent - Std Dev - Rainbow"
  },
  {
   "help": "",
   "name": "Multidirectional Hillshade 1.5x",
   "description": "Multidirectional hillshade 2x"
  },
  {
   "help": "",
   "name": "Multidirectional Hillshade 1x",
   "description": "Multidirectional hillshade 1x"
  },
  {
   "help": "",
   "name": "Multidirectional Hillshade 2x",
   "description": "Multidirectional hillshade 2x"
  },
  {
   "help": "",
   "name": "Multidirectional Hillshade 3x",
   "description": "Multidirectional hillshade 2x"
  },
  {
   "help": "",
   "name": "PerClip - 0.5 - BlueGreen",
   "description": "Percentage Clip - 0.5 - Blue Green\n"
  },
  {
   "help": "",
   "name": "PerClip - 0.5 - Haxby",
   "description": "Percentage Clip - 0.5 - Haxby"
  },
  {
   "help": "",
   "name": "PerClip - 0.5 - Rainbow",
   "description": "Percentage Clip - 0.5 - Rainbow"
  },
  {
   "help": "",
   "name": "PerClip - 1 - BlueGreen",
   "description": "Percentage Clip - 1 - Blue Green\n"
  },
  {
   "help": "",
   "name": "PerClip - 1 - Haxby",
   "description": "Percentage Clip - 1 - Haxby"
  },
  {
   "help": "",
   "name": "PerClip - 1 - Rainbow",
   "description": "Percentage Clip - 1 - Rainbow"
  },
  {
   "help": "",
   "name": "PerClip - 1.5 - BlueGreen",
   "description": "Percentage Clip - 1.5 - Blue Green\n"
  },
  {
   "help": "",
   "name": "PerClip - 1.5 - Haxby",
   "description": "Percentage Clip - 1.5 - Haxby"
  },
  {
   "help": "",
   "name": "PerClip - 1.5 - Rainbow",
   "description": "Percentage Clip - 1.5 - Rainbow"
  },
  {
   "help": "",
   "name": "PerClip - 2 - BlueGreen",
   "description": "Percentage Clip 2 - Blue Green\n"
  },
  {
   "help": "",
   "name": "PerClip - 2 - Haxby",
   "description": "Percentage Clip - 2 - Haxby"
  },
  {
   "help": "",
   "name": "PerClip - 2 - Rainbow",
   "description": "Percentage Clip - 2 - Rainbow"
  },
  {
   "help": "",
   "name": "Shaded Relief - BlueGreen- MD Hillshade 2",
   "description": "Shaded Relief - BlueGreen - MD Hillshade 2"
  },
  {
   "help": "",
   "name": "Shaded Relief - Haxby - MD Hillshade 2",
   "description": "Shaded Relief - Haxby - MD Hillshade 2"
  },
  {
   "help": "",
   "name": "Shaded Relief - Rainbow - MD Hillshade 2",
   "description": "Shaded Relief - Rainbow - MD Hillshade 2"
  },
  {
   "help": "",
   "name": "Slope - Degrees - Inferno",
   "description": "Slope - Degrees"
  },
  {
   "help": "",
   "name": "Slope - Degrees",
   "description": "Slope - Degrees"
  },
  {
   "help": "",
   "name": "StdDev - BlueGreen",
   "description": "Std Dev - BlueGreen"
  },
  {
   "help": "",
   "name": "StdDev - Haxby",
   "description": "Std Dev - Haxby"
  },
  {
   "help": "",
   "name": "StdDev - Rainbow",
   "description": "Std Dev - Rainbow"
  },
  {
   "help": "",
   "name": "Surface Parameters",
   "description": "Calculates parameters of a raster surface such as aspect, slope, and curvature using geodesic methods."
  },
  {
   "help": "",
   "name": "None",
   "description": ""
  }
 ],
 "supportsStatistics": false,
 "sortableFields": "",
 "minValues": [
  -10931
 ],
 "allowRasterFunction": true,
 "allowComputeTiePoints": false,
 "serviceDataType": "esriImageServiceDataTypeGeneric",
 "supportsAdvancedQueries": false,
 "currentVersion": 12.1,
 "sortValue": null,
 "objectIdField": "",
 "blockHeight": 128,
 "initialExtent": {
  "ymin": -90,
  "xmin": -180,
  "ymax": 90,
  "xmax": 180,
  "spatialReference": {
   "latestWkid": 4326,
   "wkid": 4326
  }
 },
 "pixelSizeX": 0.0041666666666666666,
 "pixelSizeY": 0.0041666666666666666,
 "defaultMosaicMethod": "Center",
 "name": "GEBCO2026/gebco_2026_depths_IS",
 "allowedMosaicMethods": "",
 "fields": [],
 "allowAnalysis": true,
 "hasRasterAttributeTable": false,
 "useStandardizedQueries": false,
 "description": "",
 "pixelType": "S16",
 "meanPixelSize": 463.83121163863984,
 "exportTilesAllowed": false,
 "editFieldsInfo": null,
 "rasterTypeInfos": [
  {
   "help": "",
   "name": "Raster Dataset",
   "description": "Supports all ArcGIS Raster Datasets"
  }
 ],
 "defaultResamplingMethod": "Bilinear",
 "itemAccess": false,
 "minScale": 0,
 "serviceProperties": "Center<\/MosaicMethod>First<\/MosaicOperator>true<\/SortAscending><\/LockImageID><\/TileOrderField>0<\/TileOrderBase>0.000000<\/AvgImageSpacingX>0.000000<\/AvgImageSpacingY>0.0<\/ViewPointX>0.0<\/ViewPointY>0.0<\/ViewPointDefShiftX>0.0<\/ViewPointDefShiftY>None<\/CompressionMethod>75<\/CompressionQuality>0.010000<\/CompressionTolerance>Bilinear<\/SamplingMethod><\/ImageServiceProperties><\/ImageServer>",
 "advancedQueryCapabilities": {
  "supportsStatistics": false,
  "supportsSqlExpression": false,
  "supportsOrderBy": false,
  "useStandardizedQueries": false,
  "supportsPagination": false,
  "supportsDistinct": false
 },
 "serviceItemId": "2519544c9b044d839586b7581d666fcc",
 "capabilities": "Image,Metadata,Mensuration",
 "maxScale": 0,
 "stdvValues": [
  1747.7960728031001
 ],
 "allowedFields": "",
 "minPixelSize": 0,
 "noDataValues": [
  -32767
 ],
 "sortAscending": true,
 "inspectionCapabilities": "",
 "maxPixelSize": 0,
 "noDataValue": -32767,
 "allowedCompressions": "None,JPEG,LZ77,LERC",
 "uncompressedSize": 7464960000,
 "serviceDescription": "GEBCO2026/gebco_2026_depths_IS",
 "allowCopy": true,
 "copyrightText": "",
 "mensurationCapabilities": "Basic",
 "ownershipBasedAccessControlForRasters": null
}
