{
 "extent": {
  "ymin": -90,
  "xmin": -180,
  "ymax": 90,
  "xmax": 180,
  "spatialReference": {
   "wkt": "GEOGCS[\"GCS_unknown\",DATUM[\"D_unnamed\",SPHEROID[\"Spheroid\",6378137.0,298.257223563]],PRIMEM[\"Greenwich\",0.0],UNIT[\"Degree\",0.0174532925199433]]",
   "wkt2": "GEOGCRS[\"GCS_unknown\",DATUM[\"D_unnamed\",ELLIPSOID[\"Spheroid\",6378137.0,298.257223563]],PRIMEM[\"Greenwich\",0.0],CS[ellipsoidal,2],AXIS[\"Longitude (lon)\",east,ORDER[1]],AXIS[\"Latitude (lat)\",north,ORDER[2]],ANGLEUNIT[\"Degree\",0.0174532925199433]]"
  }
 },
 "blockWidth": 86400,
 "mosaicOperator": "First",
 "serviceSourceType": "esriImageServiceSourceTypeDataset",
 "hasMultidimensions": false,
 "maxImageWidth": 15000,
 "meanValues": [
  -1899.059296337
 ],
 "hasColormap": false,
 "compressionType": "LZW",
 "defaultCompressionQuality": 75,
 "maxValues": [
  8627
 ],
 "hasHistograms": true,
 "datasetFormat": "TIFF",
 "maxImageHeight": 15000,
 "sortField": "",
 "bandNames": [
  "Band_1"
 ],
 "spatialReference": {
  "wkt": "GEOGCS[\"GCS_unknown\",DATUM[\"D_unnamed\",SPHEROID[\"Spheroid\",6378137.0,298.257223563]],PRIMEM[\"Greenwich\",0.0],UNIT[\"Degree\",0.0174532925199433]]",
  "wkt2": "GEOGCRS[\"GCS_unknown\",DATUM[\"D_unnamed\",ELLIPSOID[\"Spheroid\",6378137.0,298.257223563]],PRIMEM[\"Greenwich\",0.0],CS[ellipsoidal,2],AXIS[\"Longitude (lon)\",east,ORDER[1]],AXIS[\"Latitude (lat)\",north,ORDER[2]],ANGLEUNIT[\"Degree\",0.0174532925199433]]"
 },
 "fullExtent": {
  "ymin": -90,
  "xmin": -180,
  "ymax": 90,
  "xmax": 180,
  "spatialReference": {
   "wkt": "GEOGCS[\"GCS_unknown\",DATUM[\"D_unnamed\",SPHEROID[\"Spheroid\",6378137.0,298.257223563]],PRIMEM[\"Greenwich\",0.0],UNIT[\"Degree\",0.0174532925199433]]",
   "wkt2": "GEOGCRS[\"GCS_unknown\",DATUM[\"D_unnamed\",ELLIPSOID[\"Spheroid\",6378137.0,298.257223563]],PRIMEM[\"Greenwich\",0.0],CS[ellipsoidal,2],AXIS[\"Longitude (lon)\",east,ORDER[1]],AXIS[\"Latitude (lat)\",north,ORDER[2]],ANGLEUNIT[\"Degree\",0.0174532925199433]]"
  }
 },
 "bandCount": 1,
 "rasterFunctionInfos": [
  {
   "help": "",
   "name": "None",
   "description": ""
  }
 ],
 "supportsStatistics": false,
 "sortableFields": "",
 "minValues": [
  -10930
 ],
 "allowRasterFunction": true,
 "allowComputeTiePoints": false,
 "serviceDataType": "esriImageServiceDataTypeElevation",
 "supportsAdvancedQueries": false,
 "currentVersion": 12.1,
 "sortValue": null,
 "objectIdField": "",
 "blockHeight": 1,
 "initialExtent": {
  "ymin": -90,
  "xmin": -180,
  "ymax": 90,
  "xmax": 180,
  "spatialReference": {
   "wkt": "GEOGCS[\"GCS_unknown\",DATUM[\"D_unnamed\",SPHEROID[\"Spheroid\",6378137.0,298.257223563]],PRIMEM[\"Greenwich\",0.0],UNIT[\"Degree\",0.0174532925199433]]",
   "wkt2": "GEOGCRS[\"GCS_unknown\",DATUM[\"D_unnamed\",ELLIPSOID[\"Spheroid\",6378137.0,298.257223563]],PRIMEM[\"Greenwich\",0.0],CS[ellipsoidal,2],AXIS[\"Longitude (lon)\",east,ORDER[1]],AXIS[\"Latitude (lat)\",north,ORDER[2]],ANGLEUNIT[\"Degree\",0.0174532925199433]]"
  }
 },
 "pixelSizeX": 0.0041666666666666666,
 "pixelSizeY": 0.0041666666666666666,
 "defaultMosaicMethod": "Center",
 "name": "GEBCO2025/GEBCO_2025_IS",
 "allowedMosaicMethods": "",
 "fields": [],
 "allowAnalysis": true,
 "hasRasterAttributeTable": false,
 "useStandardizedQueries": false,
 "description": "",
 "pixelType": "S16",
 "meanPixelSize": 463.83121163863984,
 "exportTilesAllowed": false,
 "editFieldsInfo": null,
 "rasterTypeInfos": [
  {
   "help": "",
   "name": "Raster Dataset",
   "description": "Supports all ArcGIS Raster Datasets"
  }
 ],
 "defaultResamplingMethod": "Bilinear",
 "itemAccess": false,
 "minScale": 0,
 "serviceProperties": "Center<\/MosaicMethod>First<\/MosaicOperator>true<\/SortAscending><\/LockImageID><\/TileOrderField>0<\/TileOrderBase>0.000000<\/AvgImageSpacingX>0.000000<\/AvgImageSpacingY>0.0<\/ViewPointX>0.0<\/ViewPointY>0.0<\/ViewPointDefShiftX>0.0<\/ViewPointDefShiftY>None<\/CompressionMethod>75<\/CompressionQuality>0.010000<\/CompressionTolerance>Bilinear<\/SamplingMethod><\/ImageServiceProperties><\/ImageServer>",
 "advancedQueryCapabilities": {
  "supportsStatistics": false,
  "supportsSqlExpression": false,
  "supportsOrderBy": false,
  "useStandardizedQueries": false,
  "supportsPagination": false,
  "supportsDistinct": false
 },
 "serviceItemId": "968a07d0d78347ea952e98f08bdfad0f",
 "capabilities": "Mensuration,Image,Metadata",
 "maxScale": 0,
 "stdvValues": [
  2653.6135849655002
 ],
 "allowedFields": "",
 "minPixelSize": 0,
 "resampling": false,
 "noDataValues": [
  -32767
 ],
 "sortAscending": true,
 "inspectionCapabilities": "",
 "maxPixelSize": 0,
 "noDataValue": -32767,
 "allowedCompressions": "None,JPEG,LZ77,LERC",
 "uncompressedSize": 7464960000,
 "serviceDescription": "GEBCO2025/GEBCO_2025_IS",
 "allowCopy": true,
 "copyrightText": "",
 "mensurationCapabilities": "Basic",
 "ownershipBasedAccessControlForRasters": null
}
