{
 "extent": {
  "ymin": -90,
  "xmin": -180,
  "ymax": 90,
  "xmax": 180,
  "spatialReference": {
   "latestVcsWkid": 5773,
   "latestWkid": 4326,
   "wkid": 4326,
   "vcsWkid": 5773
  }
 },
 "blockWidth": 128,
 "mosaicOperator": "First",
 "serviceSourceType": "esriImageServiceSourceTypeDataset",
 "hasMultidimensions": false,
 "maxImageWidth": 15000,
 "meanValues": [
  -994.88522855958001
 ],
 "hasColormap": false,
 "compressionType": "LERC",
 "defaultCompressionQuality": 75,
 "maxValues": [
  9999
 ],
 "hasHistograms": true,
 "datasetFormat": "MRF",
 "maxImageHeight": 15000,
 "sortField": "",
 "bandNames": [
  "Band_1"
 ],
 "spatialReference": {
  "latestVcsWkid": 5773,
  "latestWkid": 4326,
  "wkid": 4326,
  "vcsWkid": 5773
 },
 "fullExtent": {
  "ymin": -90,
  "xmin": -180,
  "ymax": 90,
  "xmax": 180,
  "spatialReference": {
   "latestVcsWkid": 5773,
   "latestWkid": 4326,
   "wkid": 4326,
   "vcsWkid": 5773
  }
 },
 "bandCount": 1,
 "rasterFunctionInfos": [
  {
   "help": "",
   "name": "GEBCO 2014 Indirect Mask",
   "description": "GEBCO 2014 TID Mask"
  },
  {
   "help": "",
   "name": "GEBCO 2014 Unknown Mask",
   "description": "GEBCO 2014 TID Unknown Mask"
  },
  {
   "help": "",
   "name": "GEBCO 2014 Data Type",
   "description": "GEBCO 2014 TID Mask"
  },
  {
   "help": "",
   "name": "None",
   "description": ""
  }
 ],
 "supportsStatistics": false,
 "sortableFields": "",
 "minValues": [
  -8888
 ],
 "allowRasterFunction": true,
 "allowComputeTiePoints": false,
 "serviceDataType": "esriImageServiceDataTypeScientific",
 "supportsAdvancedQueries": false,
 "currentVersion": 12.1,
 "heightModelInfo": {
  "vertCRS": "EGM96_height",
  "heightModel": "gravity_related_height",
  "heightUnit": "meter"
 },
 "sortValue": null,
 "objectIdField": "",
 "blockHeight": 128,
 "initialExtent": {
  "ymin": -90,
  "xmin": -180,
  "ymax": 90,
  "xmax": 180,
  "spatialReference": {
   "latestVcsWkid": 5773,
   "latestWkid": 4326,
   "wkid": 4326,
   "vcsWkid": 5773
  }
 },
 "pixelSizeX": 0.0083333333333333332,
 "pixelSizeY": 0.0083333333333333332,
 "defaultMosaicMethod": "Center",
 "name": "GEBCO/Gebco_2014_SID_ImageService",
 "allowedMosaicMethods": "",
 "fields": [],
 "allowAnalysis": true,
 "hasRasterAttributeTable": true,
 "useStandardizedQueries": false,
 "description": "",
 "pixelType": "S16",
 "meanPixelSize": 927.66242327727969,
 "exportTilesAllowed": false,
 "editFieldsInfo": null,
 "rasterTypeInfos": [
  {
   "help": "",
   "name": "Raster Dataset",
   "description": "Supports all ArcGIS Raster Datasets"
  }
 ],
 "defaultResamplingMethod": "Bilinear",
 "itemAccess": false,
 "minScale": 0,
 "serviceProperties": "Center<\/MosaicMethod>First<\/MosaicOperator>true<\/SortAscending><\/LockImageID><\/TileOrderField>0<\/TileOrderBase>0.000000<\/AvgImageSpacingX>0.000000<\/AvgImageSpacingY>0.0<\/ViewPointX>0.0<\/ViewPointY>0.0<\/ViewPointDefShiftX>0.0<\/ViewPointDefShiftY>None<\/CompressionMethod>75<\/CompressionQuality>0.010000<\/CompressionTolerance>Bilinear<\/SamplingMethod><\/ImageServiceProperties><\/ImageServer>",
 "advancedQueryCapabilities": {
  "supportsStatistics": false,
  "supportsSqlExpression": false,
  "supportsOrderBy": false,
  "useStandardizedQueries": false,
  "supportsPagination": false,
  "supportsDistinct": false
 },
 "serviceItemId": "fb6b115079c6462bbf336541729ad752",
 "capabilities": "Image,Metadata,Mensuration",
 "maxScale": 0,
 "stdvValues": [
  4782.9992382208002
 ],
 "allowedFields": "",
 "minPixelSize": 0,
 "sortAscending": true,
 "inspectionCapabilities": "",
 "maxPixelSize": 0,
 "allowedCompressions": "None,JPEG,LZ77,LERC",
 "uncompressedSize": 1866240000,
 "serviceDescription": "GEBCO/Gebco_2014_SID_ImageService",
 "allowCopy": true,
 "copyrightText": "",
 "mensurationCapabilities": "Basic",
 "ownershipBasedAccessControlForRasters": null
}
