<?xml version="1.0" encoding="UTF-8" standalone="no"?>
<metadata xml:lang="en">
<Esri>
<CreaDate>20220726</CreaDate>
<CreaTime>10141700</CreaTime>
<ArcGISFormat>1.0</ArcGISFormat>
<SyncOnce>FALSE</SyncOnce>
<DataProperties>
<lineage>
<Process Date="20220726" Time="101417" ToolSource="c:\program files\arcgis\pro\Resources\ArcToolbox\toolboxes\Data Management Tools.tbx\CreateMosaicDataset">CreateMosaicDataset \\lamprey.ccom.nh\gisdata\Seabed2030\GEBCO2022\GEBCO2022\GEBCO2022.gdb GEBCO_Grid_GCS GEOGCS["GCS_WGS_1984",DATUM["D_WGS_1984",SPHEROID["WGS_1984",6378137.0,298.257223563]],PRIMEM["Greenwich",0.0],UNIT["Degree",0.0174532925199433]] 1 "32-bit floating point" None #</Process>
<Process Date="20220726" Time="101455" ToolSource="c:\program files\arcgis\pro\Resources\ArcToolbox\toolboxes\Data Management Tools.tbx\Rename">Rename \\lamprey.ccom.nh\gisdata\Seabed2030\GEBCO2022\GEBCO2022\GEBCO2022.gdb\GEBCO_Grid_GCS \\lamprey.ccom.nh\gisdata\Seabed2030\GEBCO2022\GEBCO2022\GEBCO2022.gdb\GEBCO_2022_Grid_GCS MosaicDataset</Process>
<Process Date="20220726" Time="103051" ToolSource="c:\program files\arcgis\pro\Resources\ArcToolbox\toolboxes\Data Management Tools.tbx\AddRastersToMosaicDataset">AddRastersToMosaicDataset \\lamprey.ccom.nh\gisdata\Seabed2030\GEBCO2022\GEBCO2022\GEBCO2022.gdb\GEBCO_2022_Grid_GCS "Raster Dataset" \\lamprey.ccom.nh\gisdata\Seabed2030\GEBCO2022\gebco_2022_geotiff\gebco_2022_n0.0_s-90.0_w0.0_e90.0.tif;\\lamprey.ccom.nh\gisdata\Seabed2030\GEBCO2022\gebco_2022_geotiff\gebco_2022_n0.0_s-90.0_w90.0_e180.0.tif;\\lamprey.ccom.nh\gisdata\Seabed2030\GEBCO2022\gebco_2022_geotiff\gebco_2022_n0.0_s-90.0_w-90.0_e0.0.tif;\\lamprey.ccom.nh\gisdata\Seabed2030\GEBCO2022\gebco_2022_geotiff\gebco_2022_n0.0_s-90.0_w-180.0_e-90.0.tif;\\lamprey.ccom.nh\gisdata\Seabed2030\GEBCO2022\gebco_2022_geotiff\gebco_2022_n90.0_s0.0_w0.0_e90.0.tif;\\lamprey.ccom.nh\gisdata\Seabed2030\GEBCO2022\gebco_2022_geotiff\gebco_2022_n90.0_s0.0_w90.0_e180.0.tif;\\lamprey.ccom.nh\gisdata\Seabed2030\GEBCO2022\gebco_2022_geotiff\gebco_2022_n90.0_s0.0_w-90.0_e0.0.tif;\\lamprey.ccom.nh\gisdata\Seabed2030\GEBCO2022\gebco_2022_geotiff\gebco_2022_n90.0_s0.0_w-180.0_e-90.0.tif UPDATE_CELL_SIZES UPDATE_BOUNDARY NO_OVERVIEWS # 0 1500 # # SUBFOLDERS "Allow duplicates" BUILD_PYRAMIDS CALCULATE_STATISTICS NO_THUMBNAILS # NO_FORCE_SPATIAL_REFERENCE ESTIMATE_STATISTICS # NO_PIXEL_CACHE C:\Users\pjohnson\AppData\Local\ESRI\rasterproxies\GEBCO_2022_Grid_GCS</Process>
<Process Date="20220726" Time="122947" ToolSource="c:\program files\arcgis\pro\Resources\ArcToolbox\toolboxes\Data Management Tools.tbx\CopyRaster">CopyRaster \\lamprey.ccom.nh\gisdata\Seabed2030\GEBCO2022\GEBCO2022\GEBCO2022.gdb\GEBCO_2022_Grid_GCS \\lamprey.ccom.nh\gisdata\Seabed2030\GEBCO2022\gebco_2022_geotiff\GEBCO_2022_Bathymetry_GCS_COG.tif # # 3.4e+38 NONE NONE "32 bit float" NONE NONE "Cloud Optimized GeoTIFF" NONE CURRENT_SLICE NO_TRANSPOSE</Process>
<Process Date="20220726" Time="132104" ToolSource="c:\program files\arcgis\pro\Resources\ArcToolbox\toolboxes\Data Management Tools.tbx\Rename">Rename \\lamprey.ccom.nh\gisdata\Seabed2030\GEBCO2022\gebco_2022_geotiff\GEBCO_2022_Bathymetry_GCS_COG.tif \\lamprey.ccom.nh\gisdata\Seabed2030\GEBCO2022\gebco_2022_geotiff\GEBCO_2022_GCS_COG.tif RasterDataset</Process>
</lineage>
<itemProps>
<itemName Sync="TRUE">GEBCO_2022_Bathymetry_GCS_COG.tif</itemName>
<itemLocation>
<linkage Sync="TRUE">file://\\lamprey.ccom.nh\gisdata\Seabed2030\GEBCO2022\gebco_2022_geotiff\GEBCO_2022_Bathymetry_GCS_COG.tif</linkage>
<protocol Sync="TRUE">Local Area Network</protocol>
</itemLocation>
<imsContentType Sync="TRUE">002</imsContentType>
<nativeExtBox>
<westBL Sync="TRUE">-180.000000</westBL>
<eastBL Sync="TRUE">180.000000</eastBL>
<southBL Sync="TRUE">-90.000000</southBL>
<northBL Sync="TRUE">90.000000</northBL>
<exTypeCode Sync="TRUE">1</exTypeCode>
</nativeExtBox>
</itemProps>
<coordRef>
<type Sync="TRUE">Geographic</type>
<geogcsn Sync="TRUE">GCS_WGS_1984</geogcsn>
<csUnits Sync="TRUE">Angular Unit: Degree (0.017453)</csUnits>
<peXml Sync="TRUE">&lt;GeographicCoordinateSystem xsi:type='typens:GeographicCoordinateSystem' xmlns:xsi='http://www.w3.org/2001/XMLSchema-instance' xmlns:xs='http://www.w3.org/2001/XMLSchema' xmlns:typens='http://www.esri.com/schemas/ArcGIS/2.9.0'&gt;&lt;WKT&gt;GEOGCS[&amp;quot;GCS_WGS_1984&amp;quot;,DATUM[&amp;quot;D_WGS_1984&amp;quot;,SPHEROID[&amp;quot;WGS_1984&amp;quot;,6378137.0,298.257223563]],PRIMEM[&amp;quot;Greenwich&amp;quot;,0.0],UNIT[&amp;quot;Degree&amp;quot;,0.0174532925199433],AUTHORITY[&amp;quot;EPSG&amp;quot;,4326]]&lt;/WKT&gt;&lt;XOrigin&gt;-400&lt;/XOrigin&gt;&lt;YOrigin&gt;-400&lt;/YOrigin&gt;&lt;XYScale&gt;11258999068426.238&lt;/XYScale&gt;&lt;ZOrigin&gt;-100000&lt;/ZOrigin&gt;&lt;ZScale&gt;10000&lt;/ZScale&gt;&lt;MOrigin&gt;-100000&lt;/MOrigin&gt;&lt;MScale&gt;10000&lt;/MScale&gt;&lt;XYTolerance&gt;8.983152841195215e-09&lt;/XYTolerance&gt;&lt;ZTolerance&gt;0.001&lt;/ZTolerance&gt;&lt;MTolerance&gt;0.001&lt;/MTolerance&gt;&lt;HighPrecision&gt;true&lt;/HighPrecision&gt;&lt;LeftLongitude&gt;-180&lt;/LeftLongitude&gt;&lt;WKID&gt;4326&lt;/WKID&gt;&lt;LatestWKID&gt;4326&lt;/LatestWKID&gt;&lt;/GeographicCoordinateSystem&gt;</peXml>
</coordRef>
<RasterProperties>
<General>
<PixelDepth Sync="TRUE">32</PixelDepth>
<HasColormap Sync="TRUE">FALSE</HasColormap>
<CompressionType Sync="TRUE">LZW</CompressionType>
<NumBands Sync="TRUE">1</NumBands>
<Format Sync="TRUE">TIFF</Format>
<HasPyramids Sync="TRUE">TRUE</HasPyramids>
<SourceType Sync="TRUE">continuous</SourceType>
<PixelType Sync="TRUE">floating point</PixelType>
<NoDataValue Sync="TRUE">3.4e+38</NoDataValue>
</General>
</RasterProperties>
</DataProperties>
<SyncDate>20220726</SyncDate>
<SyncTime>12294700</SyncTime>
<ModDate>20220726</ModDate>
<ModTime>12294700</ModTime>
</Esri>
<dataIdInfo>
<envirDesc Sync="TRUE">Microsoft Windows 10 Version 10.0 (Build 22000) ; Esri ArcGIS 12.9.2.32739</envirDesc>
<dataLang>
<languageCode Sync="TRUE" value="eng"/>
<countryCode Sync="TRUE" value="USA"/>
</dataLang>
<idCitation>
<resTitle Sync="TRUE">GEBCO 2022 GCS COG Image Service</resTitle>
<presForm>
<PresFormCd Sync="TRUE" value="005"/>
</presForm>
</idCitation>
<spatRpType>
<SpatRepTypCd Sync="TRUE" value="002"/>
</spatRpType>
<dataExt>
<geoEle>
<GeoBndBox esriExtentType="search">
<exTypeCode Sync="TRUE">1</exTypeCode>
<westBL Sync="TRUE">-180.000000</westBL>
<eastBL Sync="TRUE">180.000000</eastBL>
<northBL Sync="TRUE">90.000000</northBL>
<southBL Sync="TRUE">-90.000000</southBL>
</GeoBndBox>
</geoEle>
</dataExt>
<idAbs/>
<searchKeys>
<keyword>GEBCO2022</keyword>
<keyword>GEBCO 2022</keyword>
<keyword>GEBCO</keyword>
</searchKeys>
<idPurp>GEBCO 2022 Grid Image Service</idPurp>
<idCredit/>
<resConst>
<Consts>
<useLimit/>
</Consts>
</resConst>
</dataIdInfo>
<mdLang>
<languageCode Sync="TRUE" value="eng"/>
<countryCode Sync="TRUE" value="USA"/>
</mdLang>
<distInfo>
<distFormat>
<formatName Sync="TRUE">Raster Dataset</formatName>
</distFormat>
</distInfo>
<mdHrLv>
<ScopeCd Sync="TRUE" value="005"/>
</mdHrLv>
<mdHrLvName Sync="TRUE">dataset</mdHrLvName>
<refSysInfo>
<RefSystem>
<refSysID>
<identCode Sync="TRUE" code="4326"/>
<idCodeSpace Sync="TRUE">EPSG</idCodeSpace>
<idVersion Sync="TRUE">6.2(3.0.1)</idVersion>
</refSysID>
</RefSystem>
</refSysInfo>
<spatRepInfo>
<Georect>
<cellGeo>
<CellGeoCd Sync="TRUE" value="002"/>
</cellGeo>
<numDims Sync="TRUE">2</numDims>
<tranParaAv Sync="TRUE">1</tranParaAv>
<chkPtAv Sync="TRUE">0</chkPtAv>
<cornerPts>
<pos Sync="TRUE">-180.000000 -90.000000</pos>
</cornerPts>
<cornerPts>
<pos Sync="TRUE">-180.000000 90.000000</pos>
</cornerPts>
<cornerPts>
<pos Sync="TRUE">180.000000 90.000000</pos>
</cornerPts>
<cornerPts>
<pos Sync="TRUE">180.000000 -90.000000</pos>
</cornerPts>
<centerPt>
<pos Sync="TRUE">0.000000 0.000000</pos>
</centerPt>
<axisDimension type="002">
<dimSize Sync="TRUE">86400</dimSize>
<dimResol>
<value Sync="TRUE" uom="deg">0.004167</value>
</dimResol>
</axisDimension>
<axisDimension type="001">
<dimSize Sync="TRUE">43200</dimSize>
<dimResol>
<value Sync="TRUE" uom="deg">0.004167</value>
</dimResol>
</axisDimension>
<ptInPixel>
<PixOrientCd Sync="TRUE" value="001"/>
</ptInPixel>
</Georect>
</spatRepInfo>
<contInfo>
<ImgDesc>
<contentTyp>
<ContentTypCd Sync="TRUE" value="001"/>
</contentTyp>
<covDim>
<Band>
<dimDescrp Sync="TRUE">Band_1</dimDescrp>
<maxVal Sync="TRUE">8627.000000</maxVal>
<minVal Sync="TRUE">-10923.000000</minVal>
<bitsPerVal Sync="TRUE">32</bitsPerVal>
<valUnit>
<UOM type="length"/>
</valUnit>
</Band>
</covDim>
</ImgDesc>
</contInfo>
<mdDateSt Sync="TRUE">20220726</mdDateSt>
</metadata>
