{
 "extent": {
  "ymin": -89.999999999999986,
  "xmin": -179.99999999999997,
  "ymax": 89.999999999999986,
  "xmax": 179.99999999999997,
  "spatialReference": {
   "latestWkid": 4326,
   "wkid": 4326
  }
 },
 "blockWidth": 128,
 "mosaicOperator": "First",
 "serviceSourceType": "esriImageServiceSourceTypeDataset",
 "hasMultidimensions": false,
 "maxImageWidth": 15000,
 "tileInfo": {
  "lods": [
   {
    "level": 0,
    "scale": 295828763.79585469,
    "resolution": 0.703125
   },
   {
    "level": 1,
    "scale": 147914381.89792734,
    "resolution": 0.3515625
   },
   {
    "level": 2,
    "scale": 73957190.948963672,
    "resolution": 0.17578125
   },
   {
    "level": 3,
    "scale": 36978595.474481836,
    "resolution": 0.087890625
   },
   {
    "level": 4,
    "scale": 18489297.737240918,
    "resolution": 0.0439453125
   },
   {
    "level": 5,
    "scale": 9244648.868620459,
    "resolution": 0.02197265625
   },
   {
    "level": 6,
    "scale": 4622324.4343102295,
    "resolution": 0.010986328125
   },
   {
    "level": 7,
    "scale": 2311162.2171551147,
    "resolution": 0.0054931640625
   },
   {
    "level": 8,
    "scale": 1155581.1085775574,
    "resolution": 0.00274658203125
   },
   {
    "level": 9,
    "scale": 577790.55428877869,
    "resolution": 0.001373291015625
   },
   {
    "level": 10,
    "scale": 288895.27714438934,
    "resolution": 0.0006866455078125
   },
   {
    "level": 11,
    "scale": 144447.63857219467,
    "resolution": 0.00034332275390625
   },
   {
    "level": 12,
    "scale": 72223.819286097336,
    "resolution": 0.000171661376953125
   },
   {
    "level": 13,
    "scale": 36111.909643048668,
    "resolution": 0.0000858306884765625
   },
   {
    "level": 14,
    "scale": 18055.954821524334,
    "resolution": 0.00004291534423828125
   },
   {
    "level": 15,
    "scale": 9027.977410762167,
    "resolution": 0.000021457672119140625
   },
   {
    "level": 16,
    "scale": 4513.9887053810835,
    "resolution": 0.000010728836059570313
   },
   {
    "level": 17,
    "scale": 2256.9943526905417,
    "resolution": 0.0000053644180297851563
   },
   {
    "level": 18,
    "scale": 1128.4971763452709,
    "resolution": 0.0000026822090148925781
   },
   {
    "level": 19,
    "scale": 564.24858817263544,
    "resolution": 0.0000013411045074462891
   },
   {
    "level": 20,
    "scale": 282.12429408631772,
    "resolution": 6.7055225372314453E-7
   },
   {
    "level": 21,
    "scale": 141.06214704315886,
    "resolution": 3.3527612686157227E-7
   },
   {
    "level": 22,
    "scale": 70.53107352157943,
    "resolution": 1.6763806343078613E-7
   }
  ],
  "lercError": 1,
  "origin": {
   "x": -180,
   "y": 90
  },
  "format": "LERC",
  "compressionQuality": 0,
  "rows": 256,
  "dpi": 96,
  "spatialReference": {
   "latestWkid": 4326,
   "wkid": 4326
  },
  "cols": 256
 },
 "meanValues": [
  -9494.0338302
 ],
 "hasColormap": false,
 "compressionType": "None",
 "defaultCompressionQuality": 75,
 "maxValues": [
  43135
 ],
 "hasHistograms": true,
 "datasetFormat": "TIFF",
 "maxImageHeight": 4100,
 "sortField": "",
 "bandNames": [
  "Band_1"
 ],
 "spatialReference": {
  "latestWkid": 4326,
  "wkid": 4326
 },
 "fullExtent": {
  "ymin": -89.999999999999986,
  "xmin": -179.99999999999997,
  "ymax": 89.999999999999986,
  "xmax": 179.99999999999997,
  "spatialReference": {
   "latestWkid": 4326,
   "wkid": 4326
  }
 },
 "bandCount": 1,
 "rasterFunctionInfos": [
  {
   "help": "",
   "name": "None",
   "description": ""
  }
 ],
 "supportsStatistics": false,
 "sortableFields": "",
 "minValues": [
  -54615
 ],
 "allowRasterFunction": true,
 "allowComputeTiePoints": false,
 "serviceDataType": "esriImageServiceDataTypeElevation",
 "supportsAdvancedQueries": false,
 "currentVersion": 12.1,
 "sortValue": null,
 "objectIdField": "",
 "maxLOD": 10,
 "blockHeight": 128,
 "initialExtent": {
  "ymin": -89.999999999999986,
  "xmin": -179.99999999999997,
  "ymax": 89.999999999999986,
  "xmax": 179.99999999999997,
  "spatialReference": {
   "latestWkid": 4326,
   "wkid": 4326
  }
 },
 "pixelSizeX": 0.0041666666666666657,
 "pixelSizeY": 0.0041666666666666657,
 "defaultMosaicMethod": "Center",
 "name": "GEBCO/GEBCO_2022_GCS_5x_tif",
 "allowedMosaicMethods": "",
 "fields": [],
 "allowAnalysis": true,
 "hasRasterAttributeTable": false,
 "useStandardizedQueries": false,
 "description": "",
 "pixelType": "F32",
 "meanPixelSize": 463.83121163863973,
 "exportTilesAllowed": false,
 "editFieldsInfo": null,
 "rasterTypeInfos": [
  {
   "help": "",
   "name": "Raster Dataset",
   "description": "Supports all ArcGIS Raster Datasets"
  }
 ],
 "defaultResamplingMethod": "Bilinear",
 "itemAccess": false,
 "minScale": 295828763.79585469,
 "cacheType": "Elevation",
 "serviceProperties": "Center<\/MosaicMethod>First<\/MosaicOperator>true<\/SortAscending><\/LockImageID><\/TileOrderField>0<\/TileOrderBase>0.000000<\/AvgImageSpacingX>0.000000<\/AvgImageSpacingY>0.0<\/ViewPointX>0.0<\/ViewPointY>0.0<\/ViewPointDefShiftX>0.0<\/ViewPointDefShiftY>None<\/CompressionMethod>75<\/CompressionQuality>0.100000<\/CompressionTolerance>Bilinear<\/SamplingMethod><\/ImageServiceProperties><\/ImageServer>",
 "advancedQueryCapabilities": {
  "supportsStatistics": false,
  "supportsSqlExpression": false,
  "supportsOrderBy": false,
  "useStandardizedQueries": false,
  "supportsPagination": false,
  "supportsDistinct": false
 },
 "serviceItemId": "aa555bb240af47b7b38297edda25af00",
 "capabilities": "Mensuration,Image,Metadata",
 "maxScale": 288895.27714438934,
 "singleFusedMapCache": true,
 "stdvValues": [
  13267.123669492999
 ],
 "allowedFields": "",
 "minPixelSize": 0.0006866455078125,
 "storageInfo": {
  "storageFormat": "esriMapCacheStorageModeCompactV2",
  "packetSize": 128
 },
 "resampling": false,
 "noDataValues": [
  -3.4028234663852886E+38
 ],
 "sortAscending": true,
 "inspectionCapabilities": "",
 "minLOD": 0,
 "maxPixelSize": 0.703125,
 "noDataValue": -3.4028234663852886E+38,
 "allowedCompressions": "None,JPEG,LZ77,LERC",
 "uncompressedSize": 14929920000,
 "serviceDescription": "GEBCO/GEBCO_2022_GCS_5x_tif",
 "allowCopy": true,
 "copyrightText": "",
 "mensurationCapabilities": "Basic",
 "ownershipBasedAccessControlForRasters": null
}
